Workbook
Name AIR2_: Overview!$B$41:$K$52
Name ErrorLog: Errorlog_table[#All]
Name now_summary: Summary!$D$2
Name offset: 'Daily Run Hours'!$I$1
Name recon: "recon"
Name SummaryX: Summary!$A$6:$Q$74
Name WK: 'Daily Run Hours'!#REF!

Sheet 5000_Fleet
A1: System | B1: Customer | C1: SAT | D1: Site
A2: CR51 | B2: Intel | C2: 2430 | D2: Intel-U-Hil-Fab D1X
A3: GY86 | B3: Intel | C3: 2437 | D3: Intel-U-Hil-Fab D1X
A4: EX04 | B4: ASML | C4: NA | D4: VHV-LAB-PF
A5: GT69 | B5: TSMC | C5: NA | D5: TSMC-U-HSINCHU-Fab-12
A6: IF68 | B6: Samsung | C6: NA | D6: Samsung_KR

Sheet List
A1: Years | C1: Weeks | D1: week | E1: CR51 | F1: GY86 | G1: GT69 | H1: Intel_tot
A2: 2024 | C2: 01 | E2: 12 | F2: 12 | H2: =Table17[[#This Row],[GY86]]+Table17[[#This Row],[CR51]] -> 24
A3: 2025 | C3: 02 | D3: 202502 | E3: 11 | F3: 13 | H3: =Table17[[#This Row],[GY86]]+Table17[[#This Row],[CR51]] -> 24
A4: 2026 | C4: 03 | D4: 202503 | E4: 11 | F4: 13 | H4: =Table17[[#This Row],[GY86]]+Table17[[#This Row],[CR51]] -> 24
C5: 04 | D5: 202504 | E5: 11 | F5: 13 | H5: =Table17[[#This Row],[GY86]]+Table17[[#This Row],[CR51]] -> 24
C6: 05 | D6: 202505 | E6: 13 | F6: 17 | H6: =Table17[[#This Row],[GY86]]+Table17[[#This Row],[CR51]] -> 30
C7: 06 | D7: 202506 | E7: 10 | F7: 19 | H7: =Table17[[#This Row],[GY86]]+Table17[[#This Row],[CR51]] -> 29
C8: 07 | D8: 202507 | E8: 10 | F8: 21 | H8: =Table17[[#This Row],[GY86]]+Table17[[#This Row],[CR51]] -> 31
C9: 08 | D9: 202508 | E9: 10 | F9: 24 | H9: =Table17[[#This Row],[GY86]]+Table17[[#This Row],[CR51]] -> 34
C10: 09 | D10: 202509 | E10: 11 | F10: 25 | H10: =Table17[[#This Row],[GY86]]+Table17[[#This Row],[CR51]] -> 36
C11: 10 | D11: 202510 | E11: 14 | F11: 25 | H11: =Table17[[#This Row],[GY86]]+Table17[[#This Row],[CR51]] -> 39
C12: 11 | D12: 202511 | E12: 15 | F12: 29 | H12: =Table17[[#This Row],[GY86]]+Table17[[#This Row],[CR51]] -> 44
C13: 12 | D13: 202512 | E13: 17 | F13: 30 | H13: =Table17[[#This Row],[GY86]]+Table17[[#This Row],[CR51]] -> 47
C14: 13 | D14: 202513 | E14: 15 | F14: 27 | H14: =Table17[[#This Row],[GY86]]+Table17[[#This Row],[CR51]] -> 42
C15: 14 | D15: 202514 | E15: 19 | F15: 25 | H15: =Table17[[#This Row],[GY86]]+Table17[[#This Row],[CR51]] -> 44
C16: 15 | D16: 202515 | E16: 20 | F16: 23 | H16: =Table17[[#This Row],[GY86]]+Table17[[#This Row],[CR51]] -> 43
C17: 16 | D17: 202516 | E17: 20 | F17: 24 | H17: =Table17[[#This Row],[GY86]]+Table17[[#This Row],[CR51]] -> 44
C18: 17 | D18: 202517 | E18: 21 | F18: 25 | H18: =Table17[[#This Row],[GY86]]+Table17[[#This Row],[CR51]] -> 46
C19: 18 | D19: 202518 | E19: 20 | F19: 21 | H19: =Table17[[#This Row],[GY86]]+Table17[[#This Row],[CR51]] -> 41
C20: 19 | D20: 202519 | E20: 20 | F20: 19 | H20: =Table17[[#This Row],[GY86]]+Table17[[#This Row],[CR51]] -> 39
C21: 20 | D21: 202520 | E21: 20 | F21: 20 | H21: =Table17[[#This Row],[GY86]]+Table17[[#This Row],[CR51]] -> 40
C22: 21 | D22: 202521 | E22: 23 | F22: 19 | H22: =Table17[[#This Row],[GY86]]+Table17[[#This Row],[CR51]] -> 42
... C25: 24 | D25: 202524 | E25: 20 | F25: 15 | H25: =Table17[[#This Row],[GY86]]+Table17[[#This Row],[CR51]] -> 35
C26: 25
C27: 26
C28: 27
C29: 28
C30: 29
C31: 30
C32: 31
C33: 32
C34: 33
C35: 34
C36: 35
C37: 36
... C53: 52

Sheet Daily Run Hours
A1: now | B1: =NOW() -> 45909.46 | C1: this weekstart | E1: 1week begin | F1: 4week begin | G1: 13week begin | H1: offset: | I1: =B2-2 -> 35
A2: #WK | B2: =_xlfn.ISOWEEKNUM(B1) -> 37 | C2: =B1-WEEKDAY(B1,2)+1 -> 45908.46 | E2: =C2-7 -> 45901.46 | F2: =C2-28 -> 45880.46 | G2: =C2-168 -> 45740.46 | K2: CR51 | O2: GY86 | S2: Intel Reliability
A3: System | B3: Customer | C3: Date | D3: Year | E3: Week Number | F3: Year-Week Number | G3: Productive Hours | H3: Up Time | I3: WK Difference | J3: Column1 | K3: do not use | O3: do not use | S3: do not use
A4: CR51 | B4: =VLOOKUP(A4,Fleet[],2,FALSE) -> Intel | C4: 45586 | D4: =YEAR(DATE(YEAR(Runhours_Table[[#This Row],[Date]]-WEEKDAY(Runhours_Table[[#This Row],[Date]]-1)+4),1,1)-MOD((DATE(YEAR(Runhours_Table[[#This Row],[Date]]-WEEKDAY(Runhours_Table[[#This Row],[Date]]-1)+4),1,1)-2),7)+(7*IF(MOD((DATE(YEAR(Runhours_Table[[#This Row],[Date]]-WEEKDAY(Runhours_Table[[#This Row],[Date]]-1)+4),1,1)-2),7)>3,1,0))+7) -> 2024 | E4: =_xlfn.ISOWEEKNUM(Runhours_Table[[#This Row],[Date]]) -> 43 | F4: =RIGHT(YEAR(Runhours_Table[[#This Row],[Date]]),2)&TEXT(_xlfn.ISOWEEKNUM(Runhours_Table[[#This Row],[Date]]),"00") -> 2443 | G4: 0 | H4: 0 | I4: =_xlfn.ISOWEEKNUM(Runhours_Table[[#This Row],[Date]])+52*(Runhours_Table[[#This Row],[Year]]-YEAR(DATE(YEAR(TODAY()-WEEKDAY(TODAY()-1)+4),1,1)-MOD((DATE(YEAR(TODAY()-WEEKDAY(TODAY()-1)+4),1,1)-2),7)+(7*IF(MOD((DATE(YEAR(TODAY()-WEEKDAY(TODAY()-1)+4),1,1)-2),7)>3,1,0))+7) )-_xlfn.ISOWEEKNUM(NOW()) -> -46 | K4: Reliability | O4: Reliability | S4: Reliability
A5: GY86 | B5: =VLOOKUP(A5,Fleet[],2,FALSE) -> Intel | C5: 45586 | D5: =YEAR(DATE(YEAR(Runhours_Table[[#This Row],[Date]]-WEEKDAY(Runhours_Table[[#This Row],[Date]]-1)+4),1,1)-MOD((DATE(YEAR(Runhours_Table[[#This Row],[Date]]-WEEKDAY(Runhours_Table[[#This Row],[Date]]-1)+4),1,1)-2),7)+(7*IF(MOD((DATE(YEAR(Runhours_Table[[#This Row],[Date]]-WEEKDAY(Runhours_Table[[#This Row],[Date]]-1)+4),1,1)-2),7)>3,1,0))+7) -> 2024 | E5: =_xlfn.ISOWEEKNUM(Runhours_Table[[#This Row],[Date]]) -> 43 | F5: =RIGHT(YEAR(Runhours_Table[[#This Row],[Date]]),2)&TEXT(_xlfn.ISOWEEKNUM(Runhours_Table[[#This Row],[Date]]),"00") -> 2443 | G5: 0 | H5: 0 | I5: =_xlfn.ISOWEEKNUM(Runhours_Table[[#This Row],[Date]])+52*(Runhours_Table[[#This Row],[Year]]-YEAR(DATE(YEAR(TODAY()-WEEKDAY(TODAY()-1)+4),1,1)-MOD((DATE(YEAR(TODAY()-WEEKDAY(TODAY()-1)+4),1,1)-2),7)+(7*IF(MOD((DATE(YEAR(TODAY()-WEEKDAY(TODAY()-1)+4),1,1)-2),7)>3,1,0))+7) )-_xlfn.ISOWEEKNUM(NOW()) -> -46 | K5: 13 wma | L5: Productive Hours (h) | M5: =SUMIFS(G:G,I:I,"<=12",I:I,">0",A:A,"CR51") -> 0 | O5: 13 wma | P5: Productive Hours (h) | Q5: =SUMIFS(G:G,I:I,"<=12",A:A,"GY86") -> 2055.1739 | S5: 13 wma | T5: Productive Hours (h) | U5: =Q5+M5 -> 2055.1739
A6: CR51 | B6: =VLOOKUP(A6,Fleet[],2,FALSE) -> Intel | C6: 45587 | D6: =YEAR(DATE(YEAR(Runhours_Table[[#This Row],[Date]]-WEEKDAY(Runhours_Table[[#This Row],[Date]]-1)+4),1,1)-MOD((DATE(YEAR(Runhours_Table[[#This Row],[Date]]-WEEKDAY(Runhours_Table[[#This Row],[Date]]-1)+4),1,1)-2),7)+(7*IF(MOD((DATE(YEAR(Runhours_Table[[#This Row],[Date]]-WEEKDAY(Runhours_Table[[#This Row],[Date]]-1)+4),1,1)-2),7)>3,1,0))+7) -> 2024 | E6: =_xlfn.ISOWEEKNUM(Runhours_Table[[#This Row],[Date]]) -> 43 | F6: =RIGHT(YEAR(Runhours_Table[[#This Row],[Date]]),2)&TEXT(_xlfn.ISOWEEKNUM(Runhours_Table[[#This Row],[Date]]),"00") -> 2443 | G6: 0 | H6: 0 | I6: =_xlfn.ISOWEEKNUM(Runhours_Table[[#This Row],[Date]])+52*(Runhours_Table[[#This Row],[Year]]-YEAR(DATE(YEAR(TODAY()-WEEKDAY(TODAY()-1)+4),1,1)-MOD((DATE(YEAR(TODAY()-WEEKDAY(TODAY()-1)+4),1,1)-2),7)+(7*IF(MOD((DATE(YEAR(TODAY()-WEEKDAY(TODAY()-1)+4),1,1)-2),7)>3,1,0))+7) )-_xlfn.ISOWEEKNUM(NOW()) -> -46 | L6: Uptime (h) | M6: =SUMIFS(H:H,I:I,"<=12",I:I,">0",A:A,"CR51") -> 0 | P6: Uptime (h) | Q6: =SUMIFS(H:H,I:I,"<=12",I:I,">0",A:A,"GY86") -> 0 | T6: Uptime (h) | U6: =Q6+M6 -> 0
A7: GY86 | B7: =VLOOKUP(A7,Fleet[],2,FALSE) -> Intel | C7: 45587 | D7: =YEAR(DATE(YEAR(Runhours_Table[[#This Row],[Date]]-WEEKDAY(Runhours_Table[[#This Row],[Date]]-1)+4),1,1)-MOD((DATE(YEAR(Runhours_Table[[#This Row],[Date]]-WEEKDAY(Runhours_Table[[#This Row],[Date]]-1)+4),1,1)-2),7)+(7*IF(MOD((DATE(YEAR(Runhours_Table[[#This Row],[Date]]-WEEKDAY(Runhours_Table[[#This Row],[Date]]-1)+4),1,1)-2),7)>3,1,0))+7) -> 2024 | E7: =_xlfn.ISOWEEKNUM(Runhours_Table[[#This Row],[Date]]) -> 43 | F7: =RIGHT(YEAR(Runhours_Table[[#This Row],[Date]]),2)&TEXT(_xlfn.ISOWEEKNUM(Runhours_Table[[#This Row],[Date]]),"00") -> 2443 | G7: 0 | H7: 0 | I7: =_xlfn.ISOWEEKNUM(Runhours_Table[[#This Row],[Date]])+52*(Runhours_Table[[#This Row],[Year]]-YEAR(DATE(YEAR(TODAY()-WEEKDAY(TODAY()-1)+4),1,1)-MOD((DATE(YEAR(TODAY()-WEEKDAY(TODAY()-1)+4),1,1)-2),7)+(7*IF(MOD((DATE(YEAR(TODAY()-WEEKDAY(TODAY()-1)+4),1,1)-2),7)>3,1,0))+7) )-_xlfn.ISOWEEKNUM(NOW()) -> -46 | L7: P hits | M7: =COUNTIFS(Error_Log!#REF!,"<=12",Error_Log!#REF!,">=0",Error_Log!V:V,"Y",Error_Log!A:A,"CR51") -> #REF! | P7: P hits | Q7: =COUNTIFS(Error_Log!#REF!,"<=12",Error_Log!#REF!,">=0",Error_Log!V:V,"Y",Error_Log!A:A,"GY86") -> #REF! | T7: P hits | U7: =Q7+M7 -> #REF!
A8: CR51 | B8: =VLOOKUP(A8,Fleet[],2,FALSE) -> Intel | C8: 45588 | D8: =YEAR(DATE(YEAR(Runhours_Table[[#This Row],[Date]]-WEEKDAY(Runhours_Table[[#This Row],[Date]]-1)+4),1,1)-MOD((DATE(YEAR(Runhours_Table[[#This Row],[Date]]-WEEKDAY(Runhours_Table[[#This Row],[Date]]-1)+4),1,1)-2),7)+(7*IF(MOD((DATE(YEAR(Runhours_Table[[#This Row],[Date]]-WEEKDAY(Runhours_Table[[#This Row],[Date]]-1)+4),1,1)-2),7)>3,1,0))+7) -> 2024 | E8: =_xlfn.ISOWEEKNUM(Runhours_Table[[#This Row],[Date]]) -> 43 | F8: =RIGHT(YEAR(Runhours_Table[[#This Row],[Date]]),2)&TEXT(_xlfn.ISOWEEKNUM(Runhours_Table[[#This Row],[Date]]),"00") -> 2443 | G8: 0 | H8: 0 | I8: =_xlfn.ISOWEEKNUM(Runhours_Table[[#This Row],[Date]])+52*(Runhours_Table[[#This Row],[Year]]-YEAR(DATE(YEAR(TODAY()-WEEKDAY(TODAY()-1)+4),1,1)-MOD((DATE(YEAR(TODAY()-WEEKDAY(TODAY()-1)+4),1,1)-2),7)+(7*IF(MOD((DATE(YEAR(TODAY()-WEEKDAY(TODAY()-1)+4),1,1)-2),7)>3,1,0))+7) )-_xlfn.ISOWEEKNUM(NOW()) -> -46 | L8: U hits | M8: =COUNTIFS(Error_Log!#REF!,"<=12",Error_Log!#REF!,">=0",Error_Log!W:W,"Y",Error_Log!A:A,"CR51") -> #REF! | P8: U hits | Q8: =COUNTIFS(Error_Log!#REF!,"<=12",Error_Log!#REF!,">=0",Error_Log!W:W,"Y",Error_Log!A:A,"GY86") -> #REF! | T8: U hits | U8: =Q8+M8 -> #REF!
A9: GY86 | B9: =VLOOKUP(A9,Fleet[],2,FALSE) -> Intel | C9: 45588 | D9: =YEAR(DATE(YEAR(Runhours_Table[[#This Row],[Date]]-WEEKDAY(Runhours_Table[[#This Row],[Date]]-1)+4),1,1)-MOD((DATE(YEAR(Runhours_Table[[#This Row],[Date]]-WEEKDAY(Runhours_Table[[#This Row],[Date]]-1)+4),1,1)-2),7)+(7*IF(MOD((DATE(YEAR(Runhours_Table[[#This Row],[Date]]-WEEKDAY(Runhours_Table[[#This Row],[Date]]-1)+4),1,1)-2),7)>3,1,0))+7) -> 2024 | E9: =_xlfn.ISOWEEKNUM(Runhours_Table[[#This Row],[Date]]) -> 43 | F9: =RIGHT(YEAR(Runhours_Table[[#This Row],[Date]]),2)&TEXT(_xlfn.ISOWEEKNUM(Runhours_Table[[#This Row],[Date]]),"00") -> 2443 | G9: 0 | H9: 0 | I9: =_xlfn.ISOWEEKNUM(Runhours_Table[[#This Row],[Date]])+52*(Runhours_Table[[#This Row],[Year]]-YEAR(DATE(YEAR(TODAY()-WEEKDAY(TODAY()-1)+4),1,1)-MOD((DATE(YEAR(TODAY()-WEEKDAY(TODAY()-1)+4),1,1)-2),7)+(7*IF(MOD((DATE(YEAR(TODAY()-WEEKDAY(TODAY()-1)+4),1,1)-2),7)>3,1,0))+7) )-_xlfn.ISOWEEKNUM(NOW()) -> -46 | L9: MTBFp (h) | M9: =M5/M7 -> #REF! | P9: MTBFp (h) | Q9: =Q5/Q7 -> #REF! | T9: MTBFp (h) | U9: =Q9+M9 -> #REF!
A10: CR51 | B10: =VLOOKUP(A10,Fleet[],2,FALSE) -> Intel | C10: 45589 | D10: =YEAR(DATE(YEAR(Runhours_Table[[#This Row],[Date]]-WEEKDAY(Runhours_Table[[#This Row],[Date]]-1)+4),1,1)-MOD((DATE(YEAR(Runhours_Table[[#This Row],[Date]]-WEEKDAY(Runhours_Table[[#This Row],[Date]]-1)+4),1,1)-2),7)+(7*IF(MOD((DATE(YEAR(Runhours_Table[[#This Row],[Date]]-WEEKDAY(Runhours_Table[[#This Row],[Date]]-1)+4),1,1)-2),7)>3,1,0))+7) -> 2024 | E10: =_xlfn.ISOWEEKNUM(Runhours_Table[[#This Row],[Date]]) -> 43 | F10: =RIGHT(YEAR(Runhours_Table[[#This Row],[Date]]),2)&TEXT(_xlfn.ISOWEEKNUM(Runhours_Table[[#This Row],[Date]]),"00") -> 2443 | G10: 0 | H10: 0 | I10: =_xlfn.ISOWEEKNUM(Runhours_Table[[#This Row],[Date]])+52*(Runhours_Table[[#This Row],[Year]]-YEAR(DATE(YEAR(TODAY()-WEEKDAY(TODAY()-1)+4),1,1)-MOD((DATE(YEAR(TODAY()-WEEKDAY(TODAY()-1)+4),1,1)-2),7)+(7*IF(MOD((DATE(YEAR(TODAY()-WEEKDAY(TODAY()-1)+4),1,1)-2),7)>3,1,0))+7) )-_xlfn.ISOWEEKNUM(NOW()) -> -46 | L10: MTBFu (h) | M10: =M6/M8 -> #REF! | P10: MTBFu (h) | Q10: =Q6/Q8 -> #REF! | T10: MTBFu (h) | U10: =Q10+M10 -> #REF!
A11: GY86 | B11: =VLOOKUP(A11,Fleet[],2,FALSE) -> Intel | C11: 45589 | D11: =YEAR(DATE(YEAR(Runhours_Table[[#This Row],[Date]]-WEEKDAY(Runhours_Table[[#This Row],[Date]]-1)+4),1,1)-MOD((DATE(YEAR(Runhours_Table[[#This Row],[Date]]-WEEKDAY(Runhours_Table[[#This Row],[Date]]-1)+4),1,1)-2),7)+(7*IF(MOD((DATE(YEAR(Runhours_Table[[#This Row],[Date]]-WEEKDAY(Runhours_Table[[#This Row],[Date]]-1)+4),1,1)-2),7)>3,1,0))+7) -> 2024 | E11: =_xlfn.ISOWEEKNUM(Runhours_Table[[#This Row],[Date]]) -> 43 | F11: =RIGHT(YEAR(Runhours_Table[[#This Row],[Date]]),2)&TEXT(_xlfn.ISOWEEKNUM(Runhours_Table[[#This Row],[Date]]),"00") -> 2443 | G11: 0 | H11: 0 | I11: =_xlfn.ISOWEEKNUM(Runhours_Table[[#This Row],[Date]])+52*(Runhours_Table[[#This Row],[Year]]-YEAR(DATE(YEAR(TODAY()-WEEKDAY(TODAY()-1)+4),1,1)-MOD((DATE(YEAR(TODAY()-WEEKDAY(TODAY()-1)+4),1,1)-2),7)+(7*IF(MOD((DATE(YEAR(TODAY()-WEEKDAY(TODAY()-1)+4),1,1)-2),7)>3,1,0))+7) )-_xlfn.ISOWEEKNUM(NOW()) -> -46 | K11: 4 wma | L11: Productive Hours (h) | M11: =SUMIFS(G:G,I:I,"<=4",A:A,"CR51") -> 1748.6992 | O11: 4 wma | P11: Productive Hours (h) | Q11: =SUMIFS(G:G,I:I,"<=13",A:A,"GY86") -> 2055.1739 | S11: 4 wma | T11: Productive Hours (h) | U11: =Q11+M11 -> 3803.8731
A12: CR51 | B12: =VLOOKUP(A12,Fleet[],2,FALSE) -> Intel | C12: 45590 | D12: =YEAR(DATE(YEAR(Runhours_Table[[#This Row],[Date]]-WEEKDAY(Runhours_Table[[#This Row],[Date]]-1)+4),1,1)-MOD((DATE(YEAR(Runhours_Table[[#This Row],[Date]]-WEEKDAY(Runhours_Table[[#This Row],[Date]]-1)+4),1,1)-2),7)+(7*IF(MOD((DATE(YEAR(Runhours_Table[[#This Row],[Date]]-WEEKDAY(Runhours_Table[[#This Row],[Date]]-1)+4),1,1)-2),7)>3,1,0))+7) -> 2024 | E12: =_xlfn.ISOWEEKNUM(Runhours_Table[[#This Row],[Date]]) -> 43 | F12: =RIGHT(YEAR(Runhours_Table[[#This Row],[Date]]),2)&TEXT(_xlfn.ISOWEEKNUM(Runhours_Table[[#This Row],[Date]]),"00") -> 2443 | G12: 0 | H12: 0 | I12: =_xlfn.ISOWEEKNUM(Runhours_Table[[#This Row],[Date]])+52*(Runhours_Table[[#This Row],[Year]]-YEAR(DATE(YEAR(TODAY()-WEEKDAY(TODAY()-1)+4),1,1)-MOD((DATE(YEAR(TODAY()-WEEKDAY(TODAY()-1)+4),1,1)-2),7)+(7*IF(MOD((DATE(YEAR(TODAY()-WEEKDAY(TODAY()-1)+4),1,1)-2),7)>3,1,0))+7) )-_xlfn.ISOWEEKNUM(NOW()) -> -46 | L12: Uptime (h) | M12: =SUMIFS(H:H,I:I,"<=4",A:A,"CR51") -> 3349.7019 | P12: Uptime (h) | Q12: =SUMIFS(H:H,I:I,"<=4",I:I,">=0",A:A,"GY86") -> 0 | T12: Uptime (h) | U12: =Q12+M12 -> 3349.7019
A13: GY86 | B13: =VLOOKUP(A13,Fleet[],2,FALSE) -> Intel | C13: 45590 | D13: =YEAR(DATE(YEAR(Runhours_Table[[#This Row],[Date]]-WEEKDAY(Runhours_Table[[#This Row],[Date]]-1)+4),1,1)-MOD((DATE(YEAR(Runhours_Table[[#This Row],[Date]]-WEEKDAY(Runhours_Table[[#This Row],[Date]]-1)+4),1,1)-2),7)+(7*IF(MOD((DATE(YEAR(Runhours_Table[[#This Row],[Date]]-WEEKDAY(Runhours_Table[[#This Row],[Date]]-1)+4),1,1)-2),7)>3,1,0))+7) -> 2024 | E13: =_xlfn.ISOWEEKNUM(Runhours_Table[[#This Row],[Date]]) -> 43 | F13: =RIGHT(YEAR(Runhours_Table[[#This Row],[Date]]),2)&TEXT(_xlfn.ISOWEEKNUM(Runhours_Table[[#This Row],[Date]]),"00") -> 2443 | G13: 0 | H13: 0 | I13: =_xlfn.ISOWEEKNUM(Runhours_Table[[#This Row],[Date]])+52*(Runhours_Table[[#This Row],[Year]]-YEAR(DATE(YEAR(TODAY()-WEEKDAY(TODAY()-1)+4),1,1)-MOD((DATE(YEAR(TODAY()-WEEKDAY(TODAY()-1)+4),1,1)-2),7)+(7*IF(MOD((DATE(YEAR(TODAY()-WEEKDAY(TODAY()-1)+4),1,1)-2),7)>3,1,0))+7) )-_xlfn.ISOWEEKNUM(NOW()) -> -46 | L13: P hits | M13: =COUNTIFS(Error_Log!#REF!,"<=3",Error_Log!#REF!,">=0",Error_Log!V:V,"Y",Error_Log!A:A,"CR51") -> #REF! | P13: P hits | Q13: =COUNTIFS(Error_Log!#REF!,"<=4",Error_Log!#REF!,">=0",Error_Log!V:V,"Y",Error_Log!A:A,"GY86") -> #REF! | T13: P hits | U13: =Q13+M13 -> #REF!
A14: CR51 | B14: =VLOOKUP(A14,Fleet[],2,FALSE) -> Intel | C14: 45591 | D14: =YEAR(DATE(YEAR(Runhours_Table[[#This Row],[Date]]-WEEKDAY(Runhours_Table[[#This Row],[Date]]-1)+4),1,1)-MOD((DATE(YEAR(Runhours_Table[[#This Row],[Date]]-WEEKDAY(Runhours_Table[[#This Row],[Date]]-1)+4),1,1)-2),7)+(7*IF(MOD((DATE(YEAR(Runhours_Table[[#This Row],[Date]]-WEEKDAY(Runhours_Table[[#This Row],[Date]]-1)+4),1,1)-2),7)>3,1,0))+7) -> 2024 | E14: =_xlfn.ISOWEEKNUM(Runhours_Table[[#This Row],[Date]]) -> 43 | F14: =RIGHT(YEAR(Runhours_Table[[#This Row],[Date]]),2)&TEXT(_xlfn.ISOWEEKNUM(Runhours_Table[[#This Row],[Date]]),"00") -> 2443 | G14: 0 | H14: 0 | I14: =_xlfn.ISOWEEKNUM(Runhours_Table[[#This Row],[Date]])+52*(Runhours_Table[[#This Row],[Year]]-YEAR(DATE(YEAR(TODAY()-WEEKDAY(TODAY()-1)+4),1,1)-MOD((DATE(YEAR(TODAY()-WEEKDAY(TODAY()-1)+4),1,1)-2),7)+(7*IF(MOD((DATE(YEAR(TODAY()-WEEKDAY(TODAY()-1)+4),1,1)-2),7)>3,1,0))+7) )-_xlfn.ISOWEEKNUM(NOW()) -> -46 | L14: U hits | M14: =COUNTIFS(Error_Log!#REF!,"<=3",Error_Log!#REF!,">=0",Error_Log!W:W,"Y",Error_Log!A:A,"CR51") -> #REF! | P14: U hits | Q14: =COUNTIFS(Error_Log!#REF!,"<=4",Error_Log!#REF!,">=0",Error_Log!W:W,"Y",Error_Log!A:A,"GY86") -> #REF! | T14: U hits | U14: =Q14+M14 -> #REF!
A15: GY86 | B15: =VLOOKUP(A15,Fleet[],2,FALSE) -> Intel | C15: 45591 | D15: =YEAR(DATE(YEAR(Runhours_Table[[#This Row],[Date]]-WEEKDAY(Runhours_Table[[#This Row],[Date]]-1)+4),1,1)-MOD((DATE(YEAR(Runhours_Table[[#This Row],[Date]]-WEEKDAY(Runhours_Table[[#This Row],[Date]]-1)+4),1,1)-2),7)+(7*IF(MOD((DATE(YEAR(Runhours_Table[[#This Row],[Date]]-WEEKDAY(Runhours_Table[[#This Row],[Date]]-1)+4),1,1)-2),7)>3,1,0))+7) -> 2024 | E15: =_xlfn.ISOWEEKNUM(Runhours_Table[[#This Row],[Date]]) -> 43 | F15: =RIGHT(YEAR(Runhours_Table[[#This Row],[Date]]),2)&TEXT(_xlfn.ISOWEEKNUM(Runhours_Table[[#This Row],[Date]]),"00") -> 2443 | G15: 0 | H15: 0 | I15: =_xlfn.ISOWEEKNUM(Runhours_Table[[#This Row],[Date]])+52*(Runhours_Table[[#This Row],[Year]]-YEAR(DATE(YEAR(TODAY()-WEEKDAY(TODAY()-1)+4),1,1)-MOD((DATE(YEAR(TODAY()-WEEKDAY(TODAY()-1)+4),1,1)-2),7)+(7*IF(MOD((DATE(YEAR(TODAY()-WEEKDAY(TODAY()-1)+4),1,1)-2),7)>3,1,0))+7) )-_xlfn.ISOWEEKNUM(NOW()) -> -46 | L15: MTBFp (h) | M15: =M11/M13 -> #REF! | P15: MTBFp (h) | Q15: =Q11/Q13 -> #REF! | T15: MTBFp (h) | U15: =Q15+M15 -> #REF!
A16: CR51 | B16: =VLOOKUP(A16,Fleet[],2,FALSE) -> Intel | C16: 45592 | D16: =YEAR(DATE(YEAR(Runhours_Table[[#This Row],[Date]]-WEEKDAY(Runhours_Table[[#This Row],[Date]]-1)+4),1,1)-MOD((DATE(YEAR(Runhours_Table[[#This Row],[Date]]-WEEKDAY(Runhours_Table[[#This Row],[Date]]-1)+4),1,1)-2),7)+(7*IF(MOD((DATE(YEAR(Runhours_Table[[#This Row],[Date]]-WEEKDAY(Runhours_Table[[#This Row],[Date]]-1)+4),1,1)-2),7)>3,1,0))+7) -> 2024 | E16: =_xlfn.ISOWEEKNUM(Runhours_Table[[#This Row],[Date]]) -> 43 | F16: =RIGHT(YEAR(Runhours_Table[[#This Row],[Date]]),2)&TEXT(_xlfn.ISOWEEKNUM(Runhours_Table[[#This Row],[Date]]),"00") -> 2443 | G16: 0 | H16: 0 | I16: =_xlfn.ISOWEEKNUM(Runhours_Table[[#This Row],[Date]])+52*(Runhours_Table[[#This Row],[Year]]-YEAR(DATE(YEAR(TODAY()-WEEKDAY(TODAY()-1)+4),1,1)-MOD((DATE(YEAR(TODAY()-WEEKDAY(TODAY()-1)+4),1,1)-2),7)+(7*IF(MOD((DATE(YEAR(TODAY()-WEEKDAY(TODAY()-1)+4),1,1)-2),7)>3,1,0))+7) )-_xlfn.ISOWEEKNUM(NOW()) -> -46 | L16: MTBFu (h) | M16: =M12/M14 -> #REF! | P16: MTBFu (h) | Q16: =Q12/Q14 -> #REF! | T16: MTBFu (h) | U16: =Q16+M16 -> #REF!
A17: GY86 | B17: =VLOOKUP(A17,Fleet[],2,FALSE) -> Intel | C17: 45592 | D17: =YEAR(DATE(YEAR(Runhours_Table[[#This Row],[Date]]-WEEKDAY(Runhours_Table[[#This Row],[Date]]-1)+4),1,1)-MOD((DATE(YEAR(Runhours_Table[[#This Row],[Date]]-WEEKDAY(Runhours_Table[[#This Row],[Date]]-1)+4),1,1)-2),7)+(7*IF(MOD((DATE(YEAR(Runhours_Table[[#This Row],[Date]]-WEEKDAY(Runhours_Table[[#This Row],[Date]]-1)+4),1,1)-2),7)>3,1,0))+7) -> 2024 | E17: =_xlfn.ISOWEEKNUM(Runhours_Table[[#This Row],[Date]]) -> 43 | F17: =RIGHT(YEAR(Runhours_Table[[#This Row],[Date]]),2)&TEXT(_xlfn.ISOWEEKNUM(Runhours_Table[[#This Row],[Date]]),"00") -> 2443 | G17: 0 | H17: 0 | I17: =_xlfn.ISOWEEKNUM(Runhours_Table[[#This Row],[Date]])+52*(Runhours_Table[[#This Row],[Year]]-YEAR(DATE(YEAR(TODAY()-WEEKDAY(TODAY()-1)+4),1,1)-MOD((DATE(YEAR(TODAY()-WEEKDAY(TODAY()-1)+4),1,1)-2),7)+(7*IF(MOD((DATE(YEAR(TODAY()-WEEKDAY(TODAY()-1)+4),1,1)-2),7)>3,1,0))+7) )-_xlfn.ISOWEEKNUM(NOW()) -> -46 | K17: 1 wma | L17: Productive Hours (h) | M17: =SUMIFS(G:G,I:I,"<=1",A:A,"CR51") -> 1748.6992 | O17: 1 wma | P17: Productive Hours (h) | Q17: =SUMIFS(G:G,I:I,"<=1",A:A,"GY86") -> 2055.1739 | S17: 1 wma | T17: Productive Hours (h) | U17: =Q17+M17 -> 3803.8731
A18: CR51 | B18: =VLOOKUP(A18,Fleet[],2,FALSE) -> Intel | C18: 45593 | D18: =YEAR(DATE(YEAR(Runhours_Table[[#This Row],[Date]]-WEEKDAY(Runhours_Table[[#This Row],[Date]]-1)+4),1,1)-MOD((DATE(YEAR(Runhours_Table[[#This Row],[Date]]-WEEKDAY(Runhours_Table[[#This Row],[Date]]-1)+4),1,1)-2),7)+(7*IF(MOD((DATE(YEAR(Runhours_Table[[#This Row],[Date]]-WEEKDAY(Runhours_Table[[#This Row],[Date]]-1)+4),1,1)-2),7)>3,1,0))+7) -> 2024 | E18: =_xlfn.ISOWEEKNUM(Runhours_Table[[#This Row],[Date]]) -> 44 | F18: =RIGHT(YEAR(Runhours_Table[[#This Row],[Date]]),2)&TEXT(_xlfn.ISOWEEKNUM(Runhours_Table[[#This Row],[Date]]),"00") -> 2444 | G18: 0 | H18: 0 | I18: =_xlfn.ISOWEEKNUM(Runhours_Table[[#This Row],[Date]])+52*(Runhours_Table[[#This Row],[Year]]-YEAR(DATE(YEAR(TODAY()-WEEKDAY(TODAY()-1)+4),1,1)-MOD((DATE(YEAR(TODAY()-WEEKDAY(TODAY()-1)+4),1,1)-2),7)+(7*IF(MOD((DATE(YEAR(TODAY()-WEEKDAY(TODAY()-1)+4),1,1)-2),7)>3,1,0))+7) )-_xlfn.ISOWEEKNUM(NOW()) -> -45 | L18: Uptime (h) | M18: =SUMIFS(H:H,I:I,"<=1",I:I,">0",A:A,"CR51") -> 0 | P18: Uptime (h) | Q18: =SUMIFS(H:H,I:I,"<=1",I:I,">=0",A:A,"GY86") -> 0 | T18: Uptime (h) | U18: =Q18+M18 -> 0
A19: GY86 | B19: =VLOOKUP(A19,Fleet[],2,FALSE) -> Intel | C19: 45593 | D19: =YEAR(DATE(YEAR(Runhours_Table[[#This Row],[Date]]-WEEKDAY(Runhours_Table[[#This Row],[Date]]-1)+4),1,1)-MOD((DATE(YEAR(Runhours_Table[[#This Row],[Date]]-WEEKDAY(Runhours_Table[[#This Row],[Date]]-1)+4),1,1)-2),7)+(7*IF(MOD((DATE(YEAR(Runhours_Table[[#This Row],[Date]]-WEEKDAY(Runhours_Table[[#This Row],[Date]]-1)+4),1,1)-2),7)>3,1,0))+7) -> 2024 | E19: =_xlfn.ISOWEEKNUM(Runhours_Table[[#This Row],[Date]]) -> 44 | F19: =RIGHT(YEAR(Runhours_Table[[#This Row],[Date]]),2)&TEXT(_xlfn.ISOWEEKNUM(Runhours_Table[[#This Row],[Date]]),"00") -> 2444 | G19: 0 | H19: 0 | I19: =_xlfn.ISOWEEKNUM(Runhours_Table[[#This Row],[Date]])+52*(Runhours_Table[[#This Row],[Year]]-YEAR(DATE(YEAR(TODAY()-WEEKDAY(TODAY()-1)+4),1,1)-MOD((DATE(YEAR(TODAY()-WEEKDAY(TODAY()-1)+4),1,1)-2),7)+(7*IF(MOD((DATE(YEAR(TODAY()-WEEKDAY(TODAY()-1)+4),1,1)-2),7)>3,1,0))+7) )-_xlfn.ISOWEEKNUM(NOW()) -> -45 | L19: P hits | M19: =COUNTIFS(Error_Log!#REF!,"<=1",Error_Log!#REF!,">=0",Error_Log!V:V,"Y",Error_Log!A:A,"CR51") -> #REF! | P19: P hits | Q19: =COUNTIFS(Error_Log!#REF!,"<=1",Error_Log!#REF!,">=0",Error_Log!V:V,"Y",Error_Log!A:A,"GY86") -> #REF! | T19: P hits | U19: =Q19+M19 -> #REF!
A20: CR51 | B20: =VLOOKUP(A20,Fleet[],2,FALSE) -> Intel | C20: 45594 | D20: =YEAR(DATE(YEAR(Runhours_Table[[#This Row],[Date]]-WEEKDAY(Runhours_Table[[#This Row],[Date]]-1)+4),1,1)-MOD((DATE(YEAR(Runhours_Table[[#This Row],[Date]]-WEEKDAY(Runhours_Table[[#This Row],[Date]]-1)+4),1,1)-2),7)+(7*IF(MOD((DATE(YEAR(Runhours_Table[[#This Row],[Date]]-WEEKDAY(Runhours_Table[[#This Row],[Date]]-1)+4),1,1)-2),7)>3,1,0))+7) -> 2024 | E20: =_xlfn.ISOWEEKNUM(Runhours_Table[[#This Row],[Date]]) -> 44 | F20: =RIGHT(YEAR(Runhours_Table[[#This Row],[Date]]),2)&TEXT(_xlfn.ISOWEEKNUM(Runhours_Table[[#This Row],[Date]]),"00") -> 2444 | G20: 0 | H20: 0 | I20: =_xlfn.ISOWEEKNUM(Runhours_Table[[#This Row],[Date]])+52*(Runhours_Table[[#This Row],[Year]]-YEAR(DATE(YEAR(TODAY()-WEEKDAY(TODAY()-1)+4),1,1)-MOD((DATE(YEAR(TODAY()-WEEKDAY(TODAY()-1)+4),1,1)-2),7)+(7*IF(MOD((DATE(YEAR(TODAY()-WEEKDAY(TODAY()-1)+4),1,1)-2),7)>3,1,0))+7) )-_xlfn.ISOWEEKNUM(NOW()) -> -45 | L20: U hits | M20: =COUNTIFS(Error_Log!#REF!,"<=1",Error_Log!#REF!,">=0",Error_Log!W:W,"Y",Error_Log!A:A,"CR51") -> #REF! | P20: U hits | Q20: =COUNTIFS(Error_Log!#REF!,"<=1",Error_Log!#REF!,">=0",Error_Log!W:W,"Y",Error_Log!A:A,"GY86") -> #REF! | T20: U hits | U20: =Q20+M20 -> #REF!
A21: GY86 | B21: =VLOOKUP(A21,Fleet[],2,FALSE) -> Intel | C21: 45594 | D21: =YEAR(DATE(YEAR(Runhours_Table[[#This Row],[Date]]-WEEKDAY(Runhours_Table[[#This Row],[Date]]-1)+4),1,1)-MOD((DATE(YEAR(Runhours_Table[[#This Row],[Date]]-WEEKDAY(Runhours_Table[[#This Row],[Date]]-1)+4),1,1)-2),7)+(7*IF(MOD((DATE(YEAR(Runhours_Table[[#This Row],[Date]]-WEEKDAY(Runhours_Table[[#This Row],[Date]]-1)+4),1,1)-2),7)>3,1,0))+7) -> 2024 | E21: =_xlfn.ISOWEEKNUM(Runhours_Table[[#This Row],[Date]]) -> 44 | F21: =RIGHT(YEAR(Runhours_Table[[#This Row],[Date]]),2)&TEXT(_xlfn.ISOWEEKNUM(Runhours_Table[[#This Row],[Date]]),"00") -> 2444 | G21: 0 | H21: 0 | I21: =_xlfn.ISOWEEKNUM(Runhours_Table[[#This Row],[Date]])+52*(Runhours_Table[[#This Row],[Year]]-YEAR(DATE(YEAR(TODAY()-WEEKDAY(TODAY()-1)+4),1,1)-MOD((DATE(YEAR(TODAY()-WEEKDAY(TODAY()-1)+4),1,1)-2),7)+(7*IF(MOD((DATE(YEAR(TODAY()-WEEKDAY(TODAY()-1)+4),1,1)-2),7)>3,1,0))+7) )-_xlfn.ISOWEEKNUM(NOW()) -> -45 | L21: MTBFp (h) | M21: =IF(M19=0,M17,M17/M19) -> #REF! | P21: MTBFp (h) | Q21: =IF(Q19=0,Q17,Q17/Q19) -> #REF! | T21: MTBFp (h) | U21: =Q21+M21 -> #REF!
A22: CR51 | B22: =VLOOKUP(A22,Fleet[],2,FALSE) -> Intel | C22: 45595 | D22: =YEAR(DATE(YEAR(Runhours_Table[[#This Row],[Date]]-WEEKDAY(Runhours_Table[[#This Row],[Date]]-1)+4),1,1)-MOD((DATE(YEAR(Runhours_Table[[#This Row],[Date]]-WEEKDAY(Runhours_Table[[#This Row],[Date]]-1)+4),1,1)-2),7)+(7*IF(MOD((DATE(YEAR(Runhours_Table[[#This Row],[Date]]-WEEKDAY(Runhours_Table[[#This Row],[Date]]-1)+4),1,1)-2),7)>3,1,0))+7) -> 2024 | E22: =_xlfn.ISOWEEKNUM(Runhours_Table[[#This Row],[Date]]) -> 44 | F22: =RIGHT(YEAR(Runhours_Table[[#This Row],[Date]]),2)&TEXT(_xlfn.ISOWEEKNUM(Runhours_Table[[#This Row],[Date]]),"00") -> 2444 | G22: 0 | H22: 0 | I22: =_xlfn.ISOWEEKNUM(Runhours_Table[[#This Row],[Date]])+52*(Runhours_Table[[#This Row],[Year]]-YEAR(DATE(YEAR(TODAY()-WEEKDAY(TODAY()-1)+4),1,1)-MOD((DATE(YEAR(TODAY()-WEEKDAY(TODAY()-1)+4),1,1)-2),7)+(7*IF(MOD((DATE(YEAR(TODAY()-WEEKDAY(TODAY()-1)+4),1,1)-2),7)>3,1,0))+7) )-_xlfn.ISOWEEKNUM(NOW()) -> -45 | L22: MTBFu (h) | M22: =IF(M20=0,M18,M18/M20) -> #REF! | P22: MTBFu (h) | Q22: =IF(Q20=0,Q18,Q18/Q20) -> #REF! | T22: MTBFu (h) | U22: =Q22+M22 -> #REF!
A23: GY86 | B23: =VLOOKUP(A23,Fleet[],2,FALSE) -> Intel | C23: 45595 | D23: =YEAR(DATE(YEAR(Runhours_Table[[#This Row],[Date]]-WEEKDAY(Runhours_Table[[#This Row],[Date]]-1)+4),1,1)-MOD((DATE(YEAR(Runhours_Table[[#This Row],[Date]]-WEEKDAY(Runhours_Table[[#This Row],[Date]]-1)+4),1,1)-2),7)+(7*IF(MOD((DATE(YEAR(Runhours_Table[[#This Row],[Date]]-WEEKDAY(Runhours_Table[[#This Row],[Date]]-1)+4),1,1)-2),7)>3,1,0))+7) -> 2024 | E23: =_xlfn.ISOWEEKNUM(Runhours_Table[[#This Row],[Date]]) -> 44 | F23: =RIGHT(YEAR(Runhours_Table[[#This Row],[Date]]),2)&TEXT(_xlfn.ISOWEEKNUM(Runhours_Table[[#This Row],[Date]]),"00") -> 2444 | G23: 0 | H23: 0 | I23: =_xlfn.ISOWEEKNUM(Runhours_Table[[#This Row],[Date]])+52*(Runhours_Table[[#This Row],[Year]]-YEAR(DATE(YEAR(TODAY()-WEEKDAY(TODAY()-1)+4),1,1)-MOD((DATE(YEAR(TODAY()-WEEKDAY(TODAY()-1)+4),1,1)-2),7)+(7*IF(MOD((DATE(YEAR(TODAY()-WEEKDAY(TODAY()-1)+4),1,1)-2),7)>3,1,0))+7) )-_xlfn.ISOWEEKNUM(NOW()) -> -45
A24: CR51 | B24: =VLOOKUP(A24,Fleet[],2,FALSE) -> Intel | C24: 45596 | D24: =YEAR(DATE(YEAR(Runhours_Table[[#This Row],[Date]]-WEEKDAY(Runhours_Table[[#This Row],[Date]]-1)+4),1,1)-MOD((DATE(YEAR(Runhours_Table[[#This Row],[Date]]-WEEKDAY(Runhours_Table[[#This Row],[Date]]-1)+4),1,1)-2),7)+(7*IF(MOD((DATE(YEAR(Runhours_Table[[#This Row],[Date]]-WEEKDAY(Runhours_Table[[#This Row],[Date]]-1)+4),1,1)-2),7)>3,1,0))+7) -> 2024 | E24: =_xlfn.ISOWEEKNUM(Runhours_Table[[#This Row],[Date]]) -> 44 | F24: =RIGHT(YEAR(Runhours_Table[[#This Row],[Date]]),2)&TEXT(_xlfn.ISOWEEKNUM(Runhours_Table[[#This Row],[Date]]),"00") -> 2444 | G24: 0 | H24: 0 | I24: =_xlfn.ISOWEEKNUM(Runhours_Table[[#This Row],[Date]])+52*(Runhours_Table[[#This Row],[Year]]-YEAR(DATE(YEAR(TODAY()-WEEKDAY(TODAY()-1)+4),1,1)-MOD((DATE(YEAR(TODAY()-WEEKDAY(TODAY()-1)+4),1,1)-2),7)+(7*IF(MOD((DATE(YEAR(TODAY()-WEEKDAY(TODAY()-1)+4),1,1)-2),7)>3,1,0))+7) )-_xlfn.ISOWEEKNUM(NOW()) -> -45
A25: GY86 | B25: =VLOOKUP(A25,Fleet[],2,FALSE) -> Intel | C25: 45596 | D25: =YEAR(DATE(YEAR(Runhours_Table[[#This Row],[Date]]-WEEKDAY(Runhours_Table[[#This Row],[Date]]-1)+4),1,1)-MOD((DATE(YEAR(Runhours_Table[[#This Row],[Date]]-WEEKDAY(Runhours_Table[[#This Row],[Date]]-1)+4),1,1)-2),7)+(7*IF(MOD((DATE(YEAR(Runhours_Table[[#This Row],[Date]]-WEEKDAY(Runhours_Table[[#This Row],[Date]]-1)+4),1,1)-2),7)>3,1,0))+7) -> 2024 | E25: =_xlfn.ISOWEEKNUM(Runhours_Table[[#This Row],[Date]]) -> 44 | F25: =RIGHT(YEAR(Runhours_Table[[#This Row],[Date]]),2)&TEXT(_xlfn.ISOWEEKNUM(Runhours_Table[[#This Row],[Date]]),"00") -> 2444 | G25: 0 | H25: 0 | I25: =_xlfn.ISOWEEKNUM(Runhours_Table[[#This Row],[Date]])+52*(Runhours_Table[[#This Row],[Year]]-YEAR(DATE(YEAR(TODAY()-WEEKDAY(TODAY()-1)+4),1,1)-MOD((DATE(YEAR(TODAY()-WEEKDAY(TODAY()-1)+4),1,1)-2),7)+(7*IF(MOD((DATE(YEAR(TODAY()-WEEKDAY(TODAY()-1)+4),1,1)-2),7)>3,1,0))+7) )-_xlfn.ISOWEEKNUM(NOW()) -> -45 | K25: <--- inserted to X check calculated values below
A26: CR51 | B26: =VLOOKUP(A26,Fleet[],2,FALSE) -> Intel | C26: 45597 | D26: =YEAR(DATE(YEAR(Runhours_Table[[#This Row],[Date]]-WEEKDAY(Runhours_Table[[#This Row],[Date]]-1)+4),1,1)-MOD((DATE(YEAR(Runhours_Table[[#This Row],[Date]]-WEEKDAY(Runhours_Table[[#This Row],[Date]]-1)+4),1,1)-2),7)+(7*IF(MOD((DATE(YEAR(Runhours_Table[[#This Row],[Date]]-WEEKDAY(Runhours_Table[[#This Row],[Date]]-1)+4),1,1)-2),7)>3,1,0))+7) -> 2024 | E26: =_xlfn.ISOWEEKNUM(Runhours_Table[[#This Row],[Date]]) -> 44 | F26: =RIGHT(YEAR(Runhours_Table[[#This Row],[Date]]),2)&TEXT(_xlfn.ISOWEEKNUM(Runhours_Table[[#This Row],[Date]]),"00") -> 2444 | G26: 0 | H26: 0 | I26: =_xlfn.ISOWEEKNUM(Runhours_Table[[#This Row],[Date]])+52*(Runhours_Table[[#This Row],[Year]]-YEAR(DATE(YEAR(TODAY()-WEEKDAY(TODAY()-1)+4),1,1)-MOD((DATE(YEAR(TODAY()-WEEKDAY(TODAY()-1)+4),1,1)-2),7)+(7*IF(MOD((DATE(YEAR(TODAY()-WEEKDAY(TODAY()-1)+4),1,1)-2),7)>3,1,0))+7) )-_xlfn.ISOWEEKNUM(NOW()) -> -45
A27: GY86 | B27: =VLOOKUP(A27,Fleet[],2,FALSE) -> Intel | C27: 45597 | D27: =YEAR(DATE(YEAR(Runhours_Table[[#This Row],[Date]]-WEEKDAY(Runhours_Table[[#This Row],[Date]]-1)+4),1,1)-MOD((DATE(YEAR(Runhours_Table[[#This Row],[Date]]-WEEKDAY(Runhours_Table[[#This Row],[Date]]-1)+4),1,1)-2),7)+(7*IF(MOD((DATE(YEAR(Runhours_Table[[#This Row],[Date]]-WEEKDAY(Runhours_Table[[#This Row],[Date]]-1)+4),1,1)-2),7)>3,1,0))+7) -> 2024 | E27: =_xlfn.ISOWEEKNUM(Runhours_Table[[#This Row],[Date]]) -> 44 | F27: =RIGHT(YEAR(Runhours_Table[[#This Row],[Date]]),2)&TEXT(_xlfn.ISOWEEKNUM(Runhours_Table[[#This Row],[Date]]),"00") -> 2444 | G27: 0 | H27: 0 | I27: =_xlfn.ISOWEEKNUM(Runhours_Table[[#This Row],[Date]])+52*(Runhours_Table[[#This Row],[Year]]-YEAR(DATE(YEAR(TODAY()-WEEKDAY(TODAY()-1)+4),1,1)-MOD((DATE(YEAR(TODAY()-WEEKDAY(TODAY()-1)+4),1,1)-2),7)+(7*IF(MOD((DATE(YEAR(TODAY()-WEEKDAY(TODAY()-1)+4),1,1)-2),7)>3,1,0))+7) )-_xlfn.ISOWEEKNUM(NOW()) -> -45 | L27: CR51 | N27: GY86 | P27: Total
A28: CR51 | B28: =VLOOKUP(A28,Fleet[],2,FALSE) -> Intel | C28: 45598 | D28: =YEAR(DATE(YEAR(Runhours_Table[[#This Row],[Date]]-WEEKDAY(Runhours_Table[[#This Row],[Date]]-1)+4),1,1)-MOD((DATE(YEAR(Runhours_Table[[#This Row],[Date]]-WEEKDAY(Runhours_Table[[#This Row],[Date]]-1)+4),1,1)-2),7)+(7*IF(MOD((DATE(YEAR(Runhours_Table[[#This Row],[Date]]-WEEKDAY(Runhours_Table[[#This Row],[Date]]-1)+4),1,1)-2),7)>3,1,0))+7) -> 2024 | E28: =_xlfn.ISOWEEKNUM(Runhours_Table[[#This Row],[Date]]) -> 44 | F28: =RIGHT(YEAR(Runhours_Table[[#This Row],[Date]]),2)&TEXT(_xlfn.ISOWEEKNUM(Runhours_Table[[#This Row],[Date]]),"00") -> 2444 | G28: 0 | H28: 0 | I28: =_xlfn.ISOWEEKNUM(Runhours_Table[[#This Row],[Date]])+52*(Runhours_Table[[#This Row],[Year]]-YEAR(DATE(YEAR(TODAY()-WEEKDAY(TODAY()-1)+4),1,1)-MOD((DATE(YEAR(TODAY()-WEEKDAY(TODAY()-1)+4),1,1)-2),7)+(7*IF(MOD((DATE(YEAR(TODAY()-WEEKDAY(TODAY()-1)+4),1,1)-2),7)>3,1,0))+7) )-_xlfn.ISOWEEKNUM(NOW()) -> -45 | K28: Week | L28: CR51_p_hits | M28: CR51_u_hits | N28: GY86_p_hits | O28: GY86_u_hits | P28: p_hits | Q28: u_hits
A29: GY86 | B29: =VLOOKUP(A29,Fleet[],2,FALSE) -> Intel | C29: 45598 | D29: =YEAR(DATE(YEAR(Runhours_Table[[#This Row],[Date]]-WEEKDAY(Runhours_Table[[#This Row],[Date]]-1)+4),1,1)-MOD((DATE(YEAR(Runhours_Table[[#This Row],[Date]]-WEEKDAY(Runhours_Table[[#This Row],[Date]]-1)+4),1,1)-2),7)+(7*IF(MOD((DATE(YEAR(Runhours_Table[[#This Row],[Date]]-WEEKDAY(Runhours_Table[[#This Row],[Date]]-1)+4),1,1)-2),7)>3,1,0))+7) -> 2024 | E29: =_xlfn.ISOWEEKNUM(Runhours_Table[[#This Row],[Date]]) -> 44 | F29: =RIGHT(YEAR(Runhours_Table[[#This Row],[Date]]),2)&TEXT(_xlfn.ISOWEEKNUM(Runhours_Table[[#This Row],[Date]]),"00") -> 2444 | G29: 0 | H29: 0 | I29: =_xlfn.ISOWEEKNUM(Runhours_Table[[#This Row],[Date]])+52*(Runhours_Table[[#This Row],[Year]]-YEAR(DATE(YEAR(TODAY()-WEEKDAY(TODAY()-1)+4),1,1)-MOD((DATE(YEAR(TODAY()-WEEKDAY(TODAY()-1)+4),1,1)-2),7)+(7*IF(MOD((DATE(YEAR(TODAY()-WEEKDAY(TODAY()-1)+4),1,1)-2),7)>3,1,0))+7) )-_xlfn.ISOWEEKNUM(NOW()) -> -45 | K29: 2 | L29: =COUNTIFS(Error_Log!E:E,"="&TEXT(K29,"00"),Error_Log!U:U,"Y",Error_Log!A:A,"CR51") -> 0 | M29: =COUNTIFS(Error_Log!E:E,"="&TEXT(K29,"00"),Error_Log!A:A,"CR51") -> 3 | N29: =COUNTIFS(Error_Log!E:E,"="&TEXT(K29,"00"),Error_Log!U:U,"Y",Error_Log!A:A,"GY86") -> 3 | O29: =COUNTIFS(Error_Log!E:E,"="&TEXT(K29,"00"),Error_Log!A:A,"GY86") -> 6 | P29: =SUM(L29,N29) -> 3 | Q29: =SUM(M29,O29) -> 9
A30: CR51 | B30: =VLOOKUP(A30,Fleet[],2,FALSE) -> Intel | C30: 45599 | D30: =YEAR(DATE(YEAR(Runhours_Table[[#This Row],[Date]]-WEEKDAY(Runhours_Table[[#This Row],[Date]]-1)+4),1,1)-MOD((DATE(YEAR(Runhours_Table[[#This Row],[Date]]-WEEKDAY(Runhours_Table[[#This Row],[Date]]-1)+4),1,1)-2),7)+(7*IF(MOD((DATE(YEAR(Runhours_Table[[#This Row],[Date]]-WEEKDAY(Runhours_Table[[#This Row],[Date]]-1)+4),1,1)-2),7)>3,1,0))+7) -> 2024 | E30: =_xlfn.ISOWEEKNUM(Runhours_Table[[#This Row],[Date]]) -> 44 | F30: =RIGHT(YEAR(Runhours_Table[[#This Row],[Date]]),2)&TEXT(_xlfn.ISOWEEKNUM(Runhours_Table[[#This Row],[Date]]),"00") -> 2444 | G30: 0 | H30: 0 | I30: =_xlfn.ISOWEEKNUM(Runhours_Table[[#This Row],[Date]])+52*(Runhours_Table[[#This Row],[Year]]-YEAR(DATE(YEAR(TODAY()-WEEKDAY(TODAY()-1)+4),1,1)-MOD((DATE(YEAR(TODAY()-WEEKDAY(TODAY()-1)+4),1,1)-2),7)+(7*IF(MOD((DATE(YEAR(TODAY()-WEEKDAY(TODAY()-1)+4),1,1)-2),7)>3,1,0))+7) )-_xlfn.ISOWEEKNUM(NOW()) -> -45 | K30: 3 | L30: =COUNTIFS(Error_Log!E:E,"="&TEXT(K30,"00"),Error_Log!U:U,"Y",Error_Log!A:A,"CR51") -> 0 | M30: =COUNTIFS(Error_Log!E:E,"="&TEXT(K30,"00"),Error_Log!A:A,"CR51") -> 1 | N30: =COUNTIFS(Error_Log!E:E,"="&TEXT(K30,"00"),Error_Log!U:U,"Y",Error_Log!A:A,"GY86") -> 0 | O30: =COUNTIFS(Error_Log!E:E,"="&TEXT(K30,"00"),Error_Log!A:A,"GY86") -> 1 | P30: =SUM(L30,N30) -> 0 | Q30: =SUM(M30,O30) -> 2
A31: GY86 | B31: =VLOOKUP(A31,Fleet[],2,FALSE) -> Intel | C31: 45599 | D31: =YEAR(DATE(YEAR(Runhours_Table[[#This Row],[Date]]-WEEKDAY(Runhours_Table[[#This Row],[Date]]-1)+4),1,1)-MOD((DATE(YEAR(Runhours_Table[[#This Row],[Date]]-WEEKDAY(Runhours_Table[[#This Row],[Date]]-1)+4),1,1)-2),7)+(7*IF(MOD((DATE(YEAR(Runhours_Table[[#This Row],[Date]]-WEEKDAY(Runhours_Table[[#This Row],[Date]]-1)+4),1,1)-2),7)>3,1,0))+7) -> 2024 | E31: =_xlfn.ISOWEEKNUM(Runhours_Table[[#This Row],[Date]]) -> 44 | F31: =RIGHT(YEAR(Runhours_Table[[#This Row],[Date]]),2)&TEXT(_xlfn.ISOWEEKNUM(Runhours_Table[[#This Row],[Date]]),"00") -> 2444 | G31: 0 | H31: 0 | I31: =_xlfn.ISOWEEKNUM(Runhours_Table[[#This Row],[Date]])+52*(Runhours_Table[[#This Row],[Year]]-YEAR(DATE(YEAR(TODAY()-WEEKDAY(TODAY()-1)+4),1,1)-MOD((DATE(YEAR(TODAY()-WEEKDAY(TODAY()-1)+4),1,1)-2),7)+(7*IF(MOD((DATE(YEAR(TODAY()-WEEKDAY(TODAY()-1)+4),1,1)-2),7)>3,1,0))+7) )-_xlfn.ISOWEEKNUM(NOW()) -> -45 | K31: 4 | L31: =COUNTIFS(Error_Log!E:E,"="&TEXT(K31,"00"),Error_Log!U:U,"Y",Error_Log!A:A,"CR51") -> 0 | M31: =COUNTIFS(Error_Log!E:E,"="&TEXT(K31,"00"),Error_Log!A:A,"CR51") -> 4 | N31: =COUNTIFS(Error_Log!E:E,"="&TEXT(K31,"00"),Error_Log!U:U,"Y",Error_Log!A:A,"GY86") -> 0 | O31: =COUNTIFS(Error_Log!E:E,"="&TEXT(K31,"00"),Error_Log!A:A,"GY86") -> 7 | P31: =SUM(L31,N31) -> 0 | Q31: =SUM(M31,O31) -> 11
A32: CR51 | B32: =VLOOKUP(A32,Fleet[],2,FALSE) -> Intel | C32: 45600 | D32: =YEAR(DATE(YEAR(Runhours_Table[[#This Row],[Date]]-WEEKDAY(Runhours_Table[[#This Row],[Date]]-1)+4),1,1)-MOD((DATE(YEAR(Runhours_Table[[#This Row],[Date]]-WEEKDAY(Runhours_Table[[#This Row],[Date]]-1)+4),1,1)-2),7)+(7*IF(MOD((DATE(YEAR(Runhours_Table[[#This Row],[Date]]-WEEKDAY(Runhours_Table[[#This Row],[Date]]-1)+4),1,1)-2),7)>3,1,0))+7) -> 2024 | E32: =_xlfn.ISOWEEKNUM(Runhours_Table[[#This Row],[Date]]) -> 45 | F32: =RIGHT(YEAR(Runhours_Table[[#This Row],[Date]]),2)&TEXT(_xlfn.ISOWEEKNUM(Runhours_Table[[#This Row],[Date]]),"00") -> 2445 | G32: 0.9 | H32: 5 | I32: =_xlfn.ISOWEEKNUM(Runhours_Table[[#This Row],[Date]])+52*(Runhours_Table[[#This Row],[Year]]-YEAR(DATE(YEAR(TODAY()-WEEKDAY(TODAY()-1)+4),1,1)-MOD((DATE(YEAR(TODAY()-WEEKDAY(TODAY()-1)+4),1,1)-2),7)+(7*IF(MOD((DATE(YEAR(TODAY()-WEEKDAY(TODAY()-1)+4),1,1)-2),7)>3,1,0))+7) )-_xlfn.ISOWEEKNUM(NOW()) -> -44 | K32: 5 | L32: =COUNTIFS(Error_Log!E:E,"="&TEXT(K32,"00"),Error_Log!U:U,"Y",Error_Log!A:A,"CR51") -> 2 | M32: =COUNTIFS(Error_Log!E:E,"="&TEXT(K32,"00"),Error_Log!A:A,"CR51") -> 5 | N32: =COUNTIFS(Error_Log!E:E,"="&TEXT(K32,"00"),Error_Log!U:U,"Y",Error_Log!A:A,"GY86") -> 4 | O32: =COUNTIFS(Error_Log!E:E,"="&TEXT(K32,"00"),Error_Log!A:A,"GY86") -> 5 | P32: =SUM(L32,N32) -> 6 | Q32: =SUM(M32,O32) -> 10
A33: GY86 | B33: =VLOOKUP(A33,Fleet[],2,FALSE) -> Intel | C33: 45600 | D33: =YEAR(DATE(YEAR(Runhours_Table[[#This Row],[Date]]-WEEKDAY(Runhours_Table[[#This Row],[Date]]-1)+4),1,1)-MOD((DATE(YEAR(Runhours_Table[[#This Row],[Date]]-WEEKDAY(Runhours_Table[[#This Row],[Date]]-1)+4),1,1)-2),7)+(7*IF(MOD((DATE(YEAR(Runhours_Table[[#This Row],[Date]]-WEEKDAY(Runhours_Table[[#This Row],[Date]]-1)+4),1,1)-2),7)>3,1,0))+7) -> 2024 | E33: =_xlfn.ISOWEEKNUM(Runhours_Table[[#This Row],[Date]]) -> 45 | F33: =RIGHT(YEAR(Runhours_Table[[#This Row],[Date]]),2)&TEXT(_xlfn.ISOWEEKNUM(Runhours_Table[[#This Row],[Date]]),"00") -> 2445 | G33: 0 | H33: 0 | I33: =_xlfn.ISOWEEKNUM(Runhours_Table[[#This Row],[Date]])+52*(Runhours_Table[[#This Row],[Year]]-YEAR(DATE(YEAR(TODAY()-WEEKDAY(TODAY()-1)+4),1,1)-MOD((DATE(YEAR(TODAY()-WEEKDAY(TODAY()-1)+4),1,1)-2),7)+(7*IF(MOD((DATE(YEAR(TODAY()-WEEKDAY(TODAY()-1)+4),1,1)-2),7)>3,1,0))+7) )-_xlfn.ISOWEEKNUM(NOW()) -> -44 | K33: 6 | L33: =COUNTIFS(Error_Log!E:E,"="&TEXT(K33,"00"),Error_Log!U:U,"Y",Error_Log!A:A,"CR51") -> 1 | M33: =COUNTIFS(Error_Log!E:E,"="&TEXT(K33,"00"),Error_Log!A:A,"CR51") -> 1 | N33: =COUNTIFS(Error_Log!E:E,"="&TEXT(K33,"00"),Error_Log!U:U,"Y",Error_Log!A:A,"GY86") -> 2 | O33: =COUNTIFS(Error_Log!E:E,"="&TEXT(K33,"00"),Error_Log!A:A,"GY86") -> 2 | P33: =SUM(L33,N33) -> 3 | Q33: =SUM(M33,O33) -> 3
A34: CR51 | B34: =VLOOKUP(A34,Fleet[],2,FALSE) -> Intel | C34: 45601 | D34: =YEAR(DATE(YEAR(Runhours_Table[[#This Row],[Date]]-WEEKDAY(Runhours_Table[[#This Row],[Date]]-1)+4),1,1)-MOD((DATE(YEAR(Runhours_Table[[#This Row],[Date]]-WEEKDAY(Runhours_Table[[#This Row],[Date]]-1)+4),1,1)-2),7)+(7*IF(MOD((DATE(YEAR(Runhours_Table[[#This Row],[Date]]-WEEKDAY(Runhours_Table[[#This Row],[Date]]-1)+4),1,1)-2),7)>3,1,0))+7) -> 2024 | E34: =_xlfn.ISOWEEKNUM(Runhours_Table[[#This Row],[Date]]) -> 45 | F34: =RIGHT(YEAR(Runhours_Table[[#This Row],[Date]]),2)&TEXT(_xlfn.ISOWEEKNUM(Runhours_Table[[#This Row],[Date]]),"00") -> 2445 | G34: 1.1 | H34: 16 | I34: =_xlfn.ISOWEEKNUM(Runhours_Table[[#This Row],[Date]])+52*(Runhours_Table[[#This Row],[Year]]-YEAR(DATE(YEAR(TODAY()-WEEKDAY(TODAY()-1)+4),1,1)-MOD((DATE(YEAR(TODAY()-WEEKDAY(TODAY()-1)+4),1,1)-2),7)+(7*IF(MOD((DATE(YEAR(TODAY()-WEEKDAY(TODAY()-1)+4),1,1)-2),7)>3,1,0))+7) )-_xlfn.ISOWEEKNUM(NOW()) -> -44 | K34: 7 | L34: =COUNTIFS(Error_Log!E:E,"="&TEXT(K34,"00"),Error_Log!U:U,"Y",Error_Log!A:A,"CR51") -> 0 | M34: =COUNTIFS(Error_Log!E:E,"="&TEXT(K34,"00"),Error_Log!A:A,"CR51") -> 1 | N34: =COUNTIFS(Error_Log!E:E,"="&TEXT(K34,"00"),Error_Log!U:U,"Y",Error_Log!A:A,"GY86") -> 2 | O34: =COUNTIFS(Error_Log!E:E,"="&TEXT(K34,"00"),Error_Log!A:A,"GY86") -> 2 | P34: =SUM(L34,N34) -> 2 | Q34: =SUM(M34,O34) -> 3
A35: GY86 | B35: =VLOOKUP(A35,Fleet[],2,FALSE) -> Intel | C35: 45601 | D35: =YEAR(DATE(YEAR(Runhours_Table[[#This Row],[Date]]-WEEKDAY(Runhours_Table[[#This Row],[Date]]-1)+4),1,1)-MOD((DATE(YEAR(Runhours_Table[[#This Row],[Date]]-WEEKDAY(Runhours_Table[[#This Row],[Date]]-1)+4),1,1)-2),7)+(7*IF(MOD((DATE(YEAR(Runhours_Table[[#This Row],[Date]]-WEEKDAY(Runhours_Table[[#This Row],[Date]]-1)+4),1,1)-2),7)>3,1,0))+7) -> 2024 | E35: =_xlfn.ISOWEEKNUM(Runhours_Table[[#This Row],[Date]]) -> 45 | F35: =RIGHT(YEAR(Runhours_Table[[#This Row],[Date]]),2)&TEXT(_xlfn.ISOWEEKNUM(Runhours_Table[[#This Row],[Date]]),"00") -> 2445 | G35: 0 | H35: 0 | I35: =_xlfn.ISOWEEKNUM(Runhours_Table[[#This Row],[Date]])+52*(Runhours_Table[[#This Row],[Year]]-YEAR(DATE(YEAR(TODAY()-WEEKDAY(TODAY()-1)+4),1,1)-MOD((DATE(YEAR(TODAY()-WEEKDAY(TODAY()-1)+4),1,1)-2),7)+(7*IF(MOD((DATE(YEAR(TODAY()-WEEKDAY(TODAY()-1)+4),1,1)-2),7)>3,1,0))+7) )-_xlfn.ISOWEEKNUM(NOW()) -> -44 | K35: 8 | L35: =COUNTIFS(Error_Log!E:E,"="&TEXT(K35,"00"),Error_Log!U:U,"Y",Error_Log!A:A,"CR51") -> 0 | M35: =COUNTIFS(Error_Log!E:E,"="&TEXT(K35,"00"),Error_Log!A:A,"CR51") -> 0 | N35: =COUNTIFS(Error_Log!E:E,"="&TEXT(K35,"00"),Error_Log!U:U,"Y",Error_Log!A:A,"GY86") -> 3 | O35: =COUNTIFS(Error_Log!E:E,"="&TEXT(K35,"00"),Error_Log!A:A,"GY86") -> 4 | P35: =SUM(L35,N35) -> 3 | Q35: =SUM(M35,O35) -> 4
A36: CR51 | B36: =VLOOKUP(A36,Fleet[],2,FALSE) -> Intel | C36: 45602 | D36: =YEAR(DATE(YEAR(Runhours_Table[[#This Row],[Date]]-WEEKDAY(Runhours_Table[[#This Row],[Date]]-1)+4),1,1)-MOD((DATE(YEAR(Runhours_Table[[#This Row],[Date]]-WEEKDAY(Runhours_Table[[#This Row],[Date]]-1)+4),1,1)-2),7)+(7*IF(MOD((DATE(YEAR(Runhours_Table[[#This Row],[Date]]-WEEKDAY(Runhours_Table[[#This Row],[Date]]-1)+4),1,1)-2),7)>3,1,0))+7) -> 2024 | E36: =_xlfn.ISOWEEKNUM(Runhours_Table[[#This Row],[Date]]) -> 45 | F36: =RIGHT(YEAR(Runhours_Table[[#This Row],[Date]]),2)&TEXT(_xlfn.ISOWEEKNUM(Runhours_Table[[#This Row],[Date]]),"00") -> 2445 | G36: 0.3 | H36: 11 | I36: =_xlfn.ISOWEEKNUM(Runhours_Table[[#This Row],[Date]])+52*(Runhours_Table[[#This Row],[Year]]-YEAR(DATE(YEAR(TODAY()-WEEKDAY(TODAY()-1)+4),1,1)-MOD((DATE(YEAR(TODAY()-WEEKDAY(TODAY()-1)+4),1,1)-2),7)+(7*IF(MOD((DATE(YEAR(TODAY()-WEEKDAY(TODAY()-1)+4),1,1)-2),7)>3,1,0))+7) )-_xlfn.ISOWEEKNUM(NOW()) -> -44 | K36: 9 | L36: =COUNTIFS(Error_Log!E:E,"="&TEXT(K36,"00"),Error_Log!U:U,"Y",Error_Log!A:A,"CR51") -> 1 | M36: =COUNTIFS(Error_Log!E:E,"="&TEXT(K36,"00"),Error_Log!A:A,"CR51") -> 1 | N36: =COUNTIFS(Error_Log!E:E,"="&TEXT(K36,"00"),Error_Log!U:U,"Y",Error_Log!A:A,"GY86") -> 1 | O36: =COUNTIFS(Error_Log!E:E,"="&TEXT(K36,"00"),Error_Log!A:A,"GY86") -> 1 | P36: =SUM(L36,N36) -> 2 | Q36: =SUM(M36,O36) -> 2
A37: GY86 | B37: =VLOOKUP(A37,Fleet[],2,FALSE) -> Intel | C37: 45602 | D37: =YEAR(DATE(YEAR(Runhours_Table[[#This Row],[Date]]-WEEKDAY(Runhours_Table[[#This Row],[Date]]-1)+4),1,1)-MOD((DATE(YEAR(Runhours_Table[[#This Row],[Date]]-WEEKDAY(Runhours_Table[[#This Row],[Date]]-1)+4),1,1)-2),7)+(7*IF(MOD((DATE(YEAR(Runhours_Table[[#This Row],[Date]]-WEEKDAY(Runhours_Table[[#This Row],[Date]]-1)+4),1,1)-2),7)>3,1,0))+7) -> 2024 | E37: =_xlfn.ISOWEEKNUM(Runhours_Table[[#This Row],[Date]]) -> 45 | F37: =RIGHT(YEAR(Runhours_Table[[#This Row],[Date]]),2)&TEXT(_xlfn.ISOWEEKNUM(Runhours_Table[[#This Row],[Date]]),"00") -> 2445 | G37: 0 | H37: 0 | I37: =_xlfn.ISOWEEKNUM(Runhours_Table[[#This Row],[Date]])+52*(Runhours_Table[[#This Row],[Year]]-YEAR(DATE(YEAR(TODAY()-WEEKDAY(TODAY()-1)+4),1,1)-MOD((DATE(YEAR(TODAY()-WEEKDAY(TODAY()-1)+4),1,1)-2),7)+(7*IF(MOD((DATE(YEAR(TODAY()-WEEKDAY(TODAY()-1)+4),1,1)-2),7)>3,1,0))+7) )-_xlfn.ISOWEEKNUM(NOW()) -> -44 | K37: 10 | L37: =COUNTIFS(Error_Log!E:E,"="&TEXT(K37,"00"),Error_Log!U:U,"Y",Error_Log!A:A,"CR51") -> 3 | M37: =COUNTIFS(Error_Log!E:E,"="&TEXT(K37,"00"),Error_Log!A:A,"CR51") -> 3 | N37: =COUNTIFS(Error_Log!E:E,"="&TEXT(K37,"00"),Error_Log!U:U,"Y",Error_Log!A:A,"GY86") -> 0 | O37: =COUNTIFS(Error_Log!E:E,"="&TEXT(K37,"00"),Error_Log!A:A,"GY86") -> 0 | P37: =SUM(L37,N37) -> 3 | Q37: =SUM(M37,O37) -> 3
A38: CR51 | B38: =VLOOKUP(A38,Fleet[],2,FALSE) -> Intel | C38: 45603 | D38: =YEAR(DATE(YEAR(Runhours_Table[[#This Row],[Date]]-WEEKDAY(Runhours_Table[[#This Row],[Date]]-1)+4),1,1)-MOD((DATE(YEAR(Runhours_Table[[#This Row],[Date]]-WEEKDAY(Runhours_Table[[#This Row],[Date]]-1)+4),1,1)-2),7)+(7*IF(MOD((DATE(YEAR(Runhours_Table[[#This Row],[Date]]-WEEKDAY(Runhours_Table[[#This Row],[Date]]-1)+4),1,1)-2),7)>3,1,0))+7) -> 2024 | E38: =_xlfn.ISOWEEKNUM(Runhours_Table[[#This Row],[Date]]) -> 45 | F38: =RIGHT(YEAR(Runhours_Table[[#This Row],[Date]]),2)&TEXT(_xlfn.ISOWEEKNUM(Runhours_Table[[#This Row],[Date]]),"00") -> 2445 | G38: 2.9 | H38: 16 | I38: =_xlfn.ISOWEEKNUM(Runhours_Table[[#This Row],[Date]])+52*(Runhours_Table[[#This Row],[Year]]-YEAR(DATE(YEAR(TODAY()-WEEKDAY(TODAY()-1)+4),1,1)-MOD((DATE(YEAR(TODAY()-WEEKDAY(TODAY()-1)+4),1,1)-2),7)+(7*IF(MOD((DATE(YEAR(TODAY()-WEEKDAY(TODAY()-1)+4),1,1)-2),7)>3,1,0))+7) )-_xlfn.ISOWEEKNUM(NOW()) -> -44 | K38: 11 | L38: =COUNTIFS(Error_Log!E:E,"="&TEXT(K38,"00"),Error_Log!U:U,"Y",Error_Log!A:A,"CR51") -> 1 | M38: =COUNTIFS(Error_Log!E:E,"="&TEXT(K38,"00"),Error_Log!A:A,"CR51") -> 2 | N38: =COUNTIFS(Error_Log!E:E,"="&TEXT(K38,"00"),Error_Log!U:U,"Y",Error_Log!A:A,"GY86") -> 4 | O38: =COUNTIFS(Error_Log!E:E,"="&TEXT(K38,"00"),Error_Log!A:A,"GY86") -> 6 | P38: =SUM(L38,N38) -> 5 | Q38: =SUM(M38,O38) -> 8
A39: GY86 | B39: =VLOOKUP(A39,Fleet[],2,FALSE) -> Intel | C39: 45603 | D39: =YEAR(DATE(YEAR(Runhours_Table[[#This Row],[Date]]-WEEKDAY(Runhours_Table[[#This Row],[Date]]-1)+4),1,1)-MOD((DATE(YEAR(Runhours_Table[[#This Row],[Date]]-WEEKDAY(Runhours_Table[[#This Row],[Date]]-1)+4),1,1)-2),7)+(7*IF(MOD((DATE(YEAR(Runhours_Table[[#This Row],[Date]]-WEEKDAY(Runhours_Table[[#This Row],[Date]]-1)+4),1,1)-2),7)>3,1,0))+7) -> 2024 | E39: =_xlfn.ISOWEEKNUM(Runhours_Table[[#This Row],[Date]]) -> 45 | F39: =RIGHT(YEAR(Runhours_Table[[#This Row],[Date]]),2)&TEXT(_xlfn.ISOWEEKNUM(Runhours_Table[[#This Row],[Date]]),"00") -> 2445 | G39: 0 | H39: 0 | I39: =_xlfn.ISOWEEKNUM(Runhours_Table[[#This Row],[Date]])+52*(Runhours_Table[[#This Row],[Year]]-YEAR(DATE(YEAR(TODAY()-WEEKDAY(TODAY()-1)+4),1,1)-MOD((DATE(YEAR(TODAY()-WEEKDAY(TODAY()-1)+4),1,1)-2),7)+(7*IF(MOD((DATE(YEAR(TODAY()-WEEKDAY(TODAY()-1)+4),1,1)-2),7)>3,1,0))+7) )-_xlfn.ISOWEEKNUM(NOW()) -> -44 | K39: 12 | L39: =COUNTIFS(Error_Log!E:E,"="&TEXT(K39,"00"),Error_Log!U:U,"Y",Error_Log!A:A,"CR51") -> 2 | M39: =COUNTIFS(Error_Log!E:E,"="&TEXT(K39,"00"),Error_Log!A:A,"CR51") -> 3 | N39: =COUNTIFS(Error_Log!E:E,"="&TEXT(K39,"00"),Error_Log!U:U,"Y",Error_Log!A:A,"GY86") -> 1 | O39: =COUNTIFS(Error_Log!E:E,"="&TEXT(K39,"00"),Error_Log!A:A,"GY86") -> 2 | P39: =SUM(L39,N39) -> 3 | Q39: =SUM(M39,O39) -> 5
A40: CR51 | B40: =VLOOKUP(A40,Fleet[],2,FALSE) -> Intel | C40: 45604 | D40: =YEAR(DATE(YEAR(Runhours_Table[[#This Row],[Date]]-WEEKDAY(Runhours_Table[[#This Row],[Date]]-1)+4),1,1)-MOD((DATE(YEAR(Runhours_Table[[#This Row],[Date]]-WEEKDAY(Runhours_Table[[#This Row],[Date]]-1)+4),1,1)-2),7)+(7*IF(MOD((DATE(YEAR(Runhours_Table[[#This Row],[Date]]-WEEKDAY(Runhours_Table[[#This Row],[Date]]-1)+4),1,1)-2),7)>3,1,0))+7) -> 2024 | E40: =_xlfn.ISOWEEKNUM(Runhours_Table[[#This Row],[Date]]) -> 45 | F40: =RIGHT(YEAR(Runhours_Table[[#This Row],[Date]]),2)&TEXT(_xlfn.ISOWEEKNUM(Runhours_Table[[#This Row],[Date]]),"00") -> 2445 | G40: 0 | H40: 0 | I40: =_xlfn.ISOWEEKNUM(Runhours_Table[[#This Row],[Date]])+52*(Runhours_Table[[#This Row],[Year]]-YEAR(DATE(YEAR(TODAY()-WEEKDAY(TODAY()-1)+4),1,1)-MOD((DATE(YEAR(TODAY()-WEEKDAY(TODAY()-1)+4),1,1)-2),7)+(7*IF(MOD((DATE(YEAR(TODAY()-WEEKDAY(TODAY()-1)+4),1,1)-2),7)>3,1,0))+7) )-_xlfn.ISOWEEKNUM(NOW()) -> -44 | K40: 13 | L40: =COUNTIFS(Error_Log!E:E,"="&TEXT(K40,"00"),Error_Log!U:U,"Y",Error_Log!A:A,"CR51") -> 2 | M40: =COUNTIFS(Error_Log!E:E,"="&TEXT(K40,"00"),Error_Log!A:A,"CR51") -> 2 | N40: =COUNTIFS(Error_Log!E:E,"="&TEXT(K40,"00"),Error_Log!U:U,"Y",Error_Log!A:A,"GY86") -> 1 | O40: =COUNTIFS(Error_Log!E:E,"="&TEXT(K40,"00"),Error_Log!A:A,"GY86") -> 1 | P40: =SUM(L40,N40) -> 3 | Q40: =SUM(M40,O40) -> 3
...

Sheet FC-AV Look up
A1: FC | B1: Av engineer
A2: FC-002 | B2: ANHG
A3: FC-004 | B3: ANHG
A4: FC-010 | B4: ARWY
A5: FC-012 | B5: ARWY
A6: FC-003 | B6: JHVD
A7: FC-048 | B7: JHVD
A8: FC-050 | B8: JHVD
A9: FC-071 | B9: JMTP
A10: FC-072 | B10: JMTP
A11: FC-076 | B11: KNGN
A12: FC-078 | B12: KNGN
... A33: FC-084 | B33: STRG
A34: FC-011
A35: FC-013
A36: FC-014
A37: FC-015
A38: FC-016

Sheet Hit Rate Waterfall
A1: Info | B1: Data
A2: Data Range | B2: WK2502-WK2527
A3: Total Productive Hours | B3: 1777.61
A4: Total Operational Time | B4: 4543.1
A5: #Hits | B5: 57
A6: Down Time | B6: 162.43
A7: Uptime | B7: 3204.75
A10: 13 Weeks TOPX
A11: Error Code | B11: Average Duration | C11: # Hits | D11: Global Reduced Hits | E11: Overall MTBF Improvement | F11: Individual MTBF Gain | G11: Individual Hit Rate Gain | H11: Loss | I11: AV Loss
A12: Baseline (Total) | B12: =H12/C12 -> 2.8496491 | C12: =B5 -> 57 | D12: =C12 -> 57 | E12: =$B$3/D12 -> 31.18614 | G12: =(C12/$B$4)*168 -> 2.1078118 | H12: =B6 -> 162.43 | I12: =H12/$B$4 -> 0.03575312
A13: XLD | B13: =H13/C13 -> 15.81 | C13: 4 | D13: =D12-C13 -> 53 | E13: =$B$3/D13 -> 33.539811 | F13: =$E$44*(C13/$C$44) -> 122.55606 | G13: =(C13/$B$4)*168 -> 0.14791662 | H13: 63.24 | I13: =H13/$B$4 -> 0.013920011
A14: System Specific | B14: =H14/C14 -> 0.645 | C14: 4 | D14: =D13-C14 -> 49 | E14: =$B$3/D14 -> 36.277755 | F14: =$E$44*(C14/$C$44) -> 122.55606 | G14: =(C14/$B$4)*168 -> 0.14791662 | H14: 2.58 | I14: =H14/$B$4 -> 0.00056789417
A15: WX-802A | B15: =H15/C15 -> 1.2433333 | C15: 6 | D15: =D14-C15 -> 43 | E15: =$B$3/D15 -> 41.339767 | F15: =$E$44*(C15/$C$44) -> 183.83409 | G15: =(C15/$B$4)*168 -> 0.22187493 | H15: 7.46 | I15: =H15/$B$4 -> 0.0016420506
A16: DW-5C00 | B16: =H16/C16 -> 1.79 | C16: 3 | D16: =D15-C16 -> 40 | E16: =$B$3/D16 -> 44.44025 | F16: =$E$44*(C16/$C$44) -> 91.917045 | G16: =(C16/$B$4)*168 -> 0.11093747 | H16: 5.37 | I16: =H16/$B$4 -> 0.0011820123
A17: WE-0406 | B17: =H17/C17 -> 1.35 | C17: 3 | D17: =D16-C17 -> 37 | E17: =$B$3/D17 -> 48.043514 | F17: =$E$44*(C17/$C$44) -> 91.917045 | G17: =(C17/$B$4)*168 -> 0.11093747 | H17: 4.05 | I17: =H17/$B$4 -> 0.00089146178
A18: WP-2C1D | B18: =H18/C18 -> 1.75 | C18: 3 | D18: =D17-C18 -> 34 | E18: =$B$3/D18 -> 52.282647 | F18: =$E$44*(C18/$C$44) -> 91.917045 | G18: =(C18/$B$4)*168 -> 0.11093747 | H18: 5.25 | I18: =H18/$B$4 -> 0.0011555986
A19: CN-00A5 | B19: =H19/C19 -> 3.9466667 | C19: 3 | D19: =D18-C19 -> 31 | E19: =$B$3/D19 -> 57.342258 | F19: =$E$44*(C19/$C$44) -> 91.917045 | G19: =(C19/$B$4)*168 -> 0.11093747 | H19: 11.84 | I19: =H19/$B$4 -> 0.00260615
A20: KI-6206 | B20: =H20/C20 -> 1.11 | C20: 2 | D20: =D19-C20 -> 29 | E20: =$B$3/D20 -> 61.296897 | F20: =$E$44*(C20/$C$44) -> 61.27803 | G20: =(C20/$B$4)*168 -> 0.07395831 | H20: 2.22 | I20: =H20/$B$4 -> 0.00048865312
A21: WH-3106 | B21: =H21/C21 -> 2.35 | C21: 2 | D21: =D20-C21 -> 27 | E21: =$B$3/D21 -> 65.837407 | F21: =$E$44*(C21/$C$44) -> 61.27803 | G21: =(C21/$B$4)*168 -> 0.07395831 | H21: 4.7 | I21: =H21/$B$4 -> 0.0010345359
A22: KE-A003 | B22: =H22/C22 -> 1.75 | C22: 2 | D22: =D21-C22 -> 25 | E22: =$B$3/D22 -> 71.1044 | F22: =$E$44*(C22/$C$44) -> 61.27803 | G22: =(C22/$B$4)*168 -> 0.07395831 | H22: 3.5 | I22: =H22/$B$4 -> 0.00077039907
A23: RQ-B006 | B23: =H23/C23 -> 1.535 | C23: 2 | D23: =D22-C23 -> 23 | E23: =$B$3/D23 -> 77.287391 | F23: =$E$44*(C23/$C$44) -> 61.27803 | G23: =(C23/$B$4)*168 -> 0.07395831 | H23: 3.07 | I23: =H23/$B$4 -> 0.00067575004
A24: LAW-1002 | B24: =H24/C24 -> 1.15 | C24: 2 | D24: =D23-C24 -> 21 | E24: =$B$3/D24 -> 84.648095 | F24: =$E$44*(C24/$C$44) -> 61.27803 | G24: =(C24/$B$4)*168 -> 0.07395831 | H24: 2.3 | I24: =H24/$B$4 -> 0.00050626224
... A42: DIS-06C2 | B42: =H42/C42 -> 4.05 | C42: 1 | D42: =D41-C42 -> 1 | E42: =$B$3/D42 -> 1777.61 | F42: =$E$44*(C42/$C$44) -> 30.639015 | G42: =(C42/$B$4)*168 -> 0.036979155 | H42: 4.05 | I42: =H42/$B$4 -> 0.00089146178
A43: PX-0A14 | B43: =H43/C43 -> 2.08 | C43: 1 | D43: =D42-C43 -> 0 | E43: =B3 -> 1777.61 | F43: =$E$44*(C43/$C$44) -> 30.639015 | G43: =(C43/$B$4)*168 -> 0.036979155 | H43: 2.08 | I43: =H43/$B$4 -> 0.00045783716
B44: Grand Total | C44: =SUM(C13:C43) -> 57 | D44: 0 | E44: =E43-E12 -> 1746.4239 | F44: =SUM(F13:F43) -> 1746.4239 | G44: =G12-SUM(G13:G43) -> 0 | H44: =H12-SUM(H13:H43) -> 5.71 | I44: =I12-SUM(I13:I43) -> 0.001256851
A48: Baseline | B48: 2.11
A49: XLD | B49: -0.15
A50: System Specific | B50: -0.15
A51: D&E Baseline | B51: =SUM(B48:B50) -> 1.81
A52: Solution Released | B52: -0.44
A53: Solution Known | B53: -0.44
A54: Solution Capability | B54: =SUM(B51:B53) -> 0.93
A55: Under investigation | B55: -0.81
A56: Investigation Capability | B56: =SUM(B54:B55) -> 0.12
A57: Need Investigation | B57: -0.12
A58: Capability | B58: 0

Sheet Error_Log
A1: System | B1: Customer | C1: Root_Error | D1: Year | E1: Week_Number | F1: Year_Week_Number | G1: Date | H1: SDT_Timestamp | I1: Description | J1: EPmID | K1: Duration | L1: FC | M1: SO | N1: AIR | O1: link | P1: AIR_issue_confirmed | Q1: AIR_FC | R1: Air_issue_description | S1: Close_notes | T1: WY | U1: P_Hits | V1: U_Hits | W1: Reconciled | X1: AIR2 | Y1: Event_code | Z1: Category | AA1: XLD | AB1: Week_Diff | AC1: In_MTBFP_AND_Ulist | AD1: Link_Timestamp | AE1: Check_P_U | AF1: NomolaPos
A2: GY86 | B2: =VLOOKUP(A2,'5000_Fleet'!A:D,2,FALSE) -> Intel | C2: RQ-8120 | D2: =YEAR(DATE(YEAR(Errorlog_table[[#This Row],[Date]]-WEEKDAY(Errorlog_table[[#This Row],[Date]]-1)+4),1,1)-MOD((DATE(YEAR(Errorlog_table[[#This Row],[Date]]-WEEKDAY(Errorlog_table[[#This Row],[Date]]-1)+4),1,1)-2),7)+(7*IF(MOD((DATE(YEAR(Errorlog_table[[#This Row],[Date]]-WEEKDAY(Errorlog_table[[#This Row],[Date]]-1)+4),1,1)-2),7)>3,1,0))+7) -> 2024 | E2: =VALUE(TEXT(_xlfn.ISOWEEKNUM(Errorlog_table[[#This Row],[Date]]),"00")) -> 52 | F2: =VALUE((Errorlog_table[[#This Row],[Year]])&TEXT(Errorlog_table[[#This Row],[Week_Number]],"00")) -> 202452 | G2: 45650 | H2: 09:07:00 | I2: EpmID:104643| SCN - Lot Abort for RS-Reinit (Lot Abort) | RQ-8120 | | J2: =IF(LEN(VALUE(MID(Errorlog_table[[#This Row],[Description]],FIND(":",Errorlog_table[[#This Row],[Description]])+1,6)))>1,MID(Errorlog_table[[#This Row],[Description]],FIND(":",Errorlog_table[[#This Row],[Description]])+1,6),"") -> 104643 | K2: 14.866667 | L2: FC-004 | M2: 0 | N2: P847221 | O2: =IF(N2="",HYPERLINK("https://air.asml.com/textsearch.do?sysparm_search="&M2,M2),HYPERLINK("https://air.asml.com/u_qm_issues.do?sysparm_query=number="&N2,N2)) -> P847221 | P2: =LEN(Errorlog_table[[#This Row],[AIR]]) -> 7 | Q2: {=IF(OR(Errorlog_table[[#This Row],[AIR]]="n/a",Errorlog_table[[#This Row],[Event_code]]="Y"),"n/a",IF(Errorlog_table[[#This Row],[AIR]]="","no AIR",_xlfn.XLOOKUP(Errorlog_table[[#This Row],[AIR]],AIR_dump[[#All],[Number]],AIR_dump[[#All],[Type]],"not found",0,1)))} -> 0 | R2: {=IF(OR(Errorlog_table[[#This Row],[AIR]]="n/a",Errorlog_table[[#This Row],[Event_code]]="Y"),"n/a",IF(Errorlog_table[[#This Row],[AIR]]="","no AIR",_xlfn.XLOOKUP(Errorlog_table[[#This Row],[AIR]],AIR_dump[[#All],[Number]],AIR_dump[[#All],[Summary]],"not found",0,1)))} -> [Intel][RS] Online PF Residual out of limits due to SS dynamics link drift | S2: {=_xlfn.XLOOKUP(Errorlog_table[[#This Row],[AIR]],AIR_dump[[#All],[Number]],AIR_dump[[#All],[Close notes]])} -> RCA | T2: =Errorlog_table[[#This Row],[Year_Week_Number]] -> 202452 | U2: Y | V2: Y | W2: =Errorlog_table[[#This Row],[System]] -> GY86 | X2: =Errorlog_table[[#This Row],[link]] -> P847221 | Y2: =LEN(Errorlog_table[[#This Row],[P_Hits]]) -> 1 | Z2: =Errorlog_table[[#This Row],[Description]] -> EpmID:104643| SCN - Lot Abort for RS-Reinit (Lot Abort) | RQ-8120 | | AB2: =_xlfn.ISOWEEKNUM(Errorlog_table[[#This Row],[Date]])+52*(Errorlog_table[[#This Row],[Year]]-YEAR(DATE(YEAR(TODAY()-WEEKDAY(TODAY()-1)+4),1,1)-MOD((DATE(YEAR(TODAY()-WEEKDAY(TODAY()-1)+4),1,1)-2),7)+(7*IF(MOD((DATE(YEAR(TODAY()-WEEKDAY(TODAY()-1)+4),1,1)-2),7)>3,1,0))+7) )-_xlfn.ISOWEEKNUM(NOW()) -> -37 | AD2: =TEXT(Errorlog_table[[#This Row],[Date]],"yyyy-mm-dd")&"_"&TEXT(Errorlog_table[[#This Row],[SDT_Timestamp]],"HH:MM:SS")&"_"&Errorlog_table[[#This Row],[System]] -> 2024-12-24_09:07:00_GY86 | AE2: =Errorlog_table[[#This Row],[P_Hits]] -> Y | AF2: 0
A3: CR51 | B3: =VLOOKUP(A3,'5000_Fleet'!A:D,2,FALSE) -> Intel | C3: MEP-0106 | D3: =YEAR(DATE(YEAR(Errorlog_table[[#This Row],[Date]]-WEEKDAY(Errorlog_table[[#This Row],[Date]]-1)+4),1,1)-MOD((DATE(YEAR(Errorlog_table[[#This Row],[Date]]-WEEKDAY(Errorlog_table[[#This Row],[Date]]-1)+4),1,1)-2),7)+(7*IF(MOD((DATE(YEAR(Errorlog_table[[#This Row],[Date]]-WEEKDAY(Errorlog_table[[#This Row],[Date]]-1)+4),1,1)-2),7)>3,1,0))+7) -> 2024 | E3: =VALUE(TEXT(_xlfn.ISOWEEKNUM(Errorlog_table[[#This Row],[Date]]),"00")) -> 52 | F3: =VALUE((Errorlog_table[[#This Row],[Year]])&TEXT(Errorlog_table[[#This Row],[Week_Number]],"00")) -> 202452 | G3: 45650 | H3: 05:30:00 | I3: EpmID:104638| SRC - Down after Lot Abort | MEP-0106 | | J3: =IF(LEN(VALUE(MID(Errorlog_table[[#This Row],[Description]],FIND(":",Errorlog_table[[#This Row],[Description]])+1,6)))>1,MID(Errorlog_table[[#This Row],[Description]],FIND(":",Errorlog_table[[#This Row],[Description]])+1,6),"") -> 104638 | K3: 5.833333 | L3: FC-712 | M3: 53013086 | N3: P851510 | O3: =IF(N3="",HYPERLINK("https://air.asml.com/textsearch.do?sysparm_search="&M3,M3),HYPERLINK("https://air.asml.com/u_qm_issues.do?sysparm_query=number="&N3,N3)) -> P851510 | P3: =LEN(Errorlog_table[[#This Row],[AIR]]) -> 7 | Q3: {=IF(OR(Errorlog_table[[#This Row],[AIR]]="n/a",Errorlog_table[[#This Row],[Event_code]]="Y"),"n/a",IF(Errorlog_table[[#This Row],[AIR]]="","no AIR",_xlfn.XLOOKUP(Errorlog_table[[#This Row],[AIR]],AIR_dump[[#All],[Number]],AIR_dump[[#All],[Type]],"not found",0,1)))} -> 0 | R3: {=IF(OR(Errorlog_table[[#This Row],[AIR]]="n/a",Errorlog_table[[#This Row],[Event_code]]="Y"),"n/a",IF(Errorlog_table[[#This Row],[AIR]]="","no AIR",_xlfn.XLOOKUP(Errorlog_table[[#This Row],[AIR]],AIR_dump[[#All],[Number]],AIR_dump[[#All],[Summary]],"not found",0,1)))} -> P851510 - [EXE 5000] [CR51] Request to investigate and add failure mode to DDF: Incorrect or no flow | S3: {=_xlfn.XLOOKUP(Errorlog_table[[#This Row],[AIR]],AIR_dump[[#All],[Number]],AIR_dump[[#All],[Close notes]])} -> RCA | T3: =Errorlog_table[[#This Row],[Year_Week_Number]] -> 202452 | U3: Y | V3: Y | W3: =Errorlog_table[[#This Row],[System]] -> CR51 | X3: =Errorlog_table[[#This Row],[link]] -> P851510 | Y3: =LEN(Errorlog_table[[#This Row],[P_Hits]]) -> 1 | Z3: =Errorlog_table[[#This Row],[Description]] -> EpmID:104638| SRC - Down after Lot Abort | MEP-0106 | | AB3: =_xlfn.ISOWEEKNUM(Errorlog_table[[#This Row],[Date]])+52*(Errorlog_table[[#This Row],[Year]]-YEAR(DATE(YEAR(TODAY()-WEEKDAY(TODAY()-1)+4),1,1)-MOD((DATE(YEAR(TODAY()-WEEKDAY(TODAY()-1)+4),1,1)-2),7)+(7*IF(MOD((DATE(YEAR(TODAY()-WEEKDAY(TODAY()-1)+4),1,1)-2),7)>3,1,0))+7) )-_xlfn.ISOWEEKNUM(NOW()) -> -37 | AD3: =TEXT(Errorlog_table[[#This Row],[Date]],"yyyy-mm-dd")&"_"&TEXT(Errorlog_table[[#This Row],[SDT_Timestamp]],"HH:MM:SS")&"_"&Errorlog_table[[#This Row],[System]] -> 2024-12-24_05:30:00_CR51 | AE3: =Errorlog_table[[#This Row],[P_Hits]] -> Y | AF3: 0
