Workbook
Name AIR2_: Overview!$B$41:$K$52
Name ErrorLog: Errorlog_table[#All]
Name now_summary: Summary!$D$2
Name offset: 'Daily Run Hours'!$I$1
Name recon: "recon"
Name SummaryX: Summary!$A$6:$Q$74
Name WK: 'Daily Run Hours'!#REF!

Sheet 5000_Fleet
A1: System | B1: Customer | C1: SAT | D1: Site
A2: CR51 | B2: Intel | C2: 2430 | D2: Intel-U-Hil-Fab D1X
A3: GY86 | B3: Intel | C3: 2437 | D3: Intel-U-Hil-Fab D1X
A4: EX04 | B4: ASML | C4: NA | D4: VHV-LAB-PF
A5: GT69 | B5: TSMC | C5: NA | D5: TSMC-U-HSINCHU-Fab-12
A6: IF68 | B6: Samsung | C6: NA | D6: Samsung_KR

Sheet List
A1: Years | C1: Weeks | D1: week | E1: CR51 | F1: GY86 | G1: GT69 | H1: Intel_tot
A2: 2024 | C2: 01 | E2: 12 | F2: 12 | H2: =Table17[[#This Row],[GY86]]+Table17[[#This Row],[CR51]] -> 24
A3: 2025 | C3: 02 | D3: 202502 | E3: 11 | F3: 13 | H3: =Table17[[#This Row],[GY86]]+Table17[[#This Row],[CR51]] -> 24
A4: 2026 | C4: 03 | D4: 202503 | E4: 11 | F4: 13 | H4: =Table17[[#This Row],[GY86]]+Table17[[#This Row],[CR51]] -> 24
C5: 04 | D5: 202504 | E5: 11 | F5: 13 | H5: =Table17[[#This Row],[GY86]]+Table17[[#This Row],[CR51]] -> 24
C6: 05 | D6: 202505 | E6: 13 | F6: 17 | H6: =Table17[[#This Row],[GY86]]+Table17[[#This Row],[CR51]] -> 30
C7: 06 | D7: 202506 | E7: 10 | F7: 19 | H7: =Table17[[#This Row],[GY86]]+Table17[[#This Row],[CR51]] -> 29
C8: 07 | D8: 202507 | E8: 10 | F8: 21 | H8: =Table17[[#This Row],[GY86]]+Table17[[#This Row],[CR51]] -> 31
C9: 08 | D9: 202508 | E9: 10 | F9: 24 | H9: =Table17[[#This Row],[GY86]]+Table17[[#This Row],[CR51]] -> 34
C10: 09 | D10: 202509 | E10: 11 | F10: 25 | H10: =Table17[[#This Row],[GY86]]+Table17[[#This Row],[CR51]] -> 36
C11: 10 | D11: 202510 | E11: 14 | F11: 25 | H11: =Table17[[#This Row],[GY86]]+Table17[[#This Row],[CR51]] -> 39
C12: 11 | D12: 202511 | E12: 15 | F12: 29 | H12: =Table17[[#This Row],[GY86]]+Table17[[#This Row],[CR51]] -> 44
C13: 12 | D13: 202512 | E13: 17 | F13: 30 | H13: =Table17[[#This Row],[GY86]]+Table17[[#This Row],[CR51]] -> 47
C14: 13 | D14: 202513 | E14: 15 | F14: 27 | H14: =Table17[[#This Row],[GY86]]+Table17[[#This Row],[CR51]] -> 42
C15: 14 | D15: 202514 | E15: 19 | F15: 25 | H15: =Table17[[#This Row],[GY86]]+Table17[[#This Row],[CR51]] -> 44
C16: 15 | D16: 202515 | E16: 20 | F16: 23 | H16: =Table17[[#This Row],[GY86]]+Table17[[#This Row],[CR51]] -> 43
C17: 16 | D17: 202516 | E17: 20 | F17: 24 | H17: =Table17[[#This Row],[GY86]]+Table17[[#This Row],[CR51]] -> 44
C18: 17 | D18: 202517 | E18: 21 | F18: 25 | H18: =Table17[[#This Row],[GY86]]+Table17[[#This Row],[CR51]] -> 46
C19: 18 | D19: 202518 | E19: 20 | F19: 21 | H19: =Table17[[#This Row],[GY86]]+Table17[[#This Row],[CR51]] -> 41
C20: 19 | D20: 202519 | E20: 20 | F20: 19 | H20: =Table17[[#This Row],[GY86]]+Table17[[#This Row],[CR51]] -> 39
C21: 20 | D21: 202520 | E21: 20 | F21: 20 | H21: =Table17[[#This Row],[GY86]]+Table17[[#This Row],[CR51]] -> 40
C22: 21 | D22: 202521 | E22: 23 | F22: 19 | H22: =Table17[[#This Row],[GY86]]+Table17[[#This Row],[CR51]] -> 42
... C25: 24 | D25: 202524 | E25: 20 | F25: 15 | H25: =Table17[[#This Row],[GY86]]+Table17[[#This Row],[CR51]] -> 35
C26: 25
C27: 26
C28: 27
C29: 28
C30: 29
C31: 30
C32: 31
C33: 32
C34: 33
C35: 34
C36: 35
C37: 36
... C53: 52

Sheet Daily Run Hours
A1: now | B1: =NOW() -> 45909.46 | C1: this weekstart | E1: 1week begin | F1: 4week begin | G1: 13week begin | H1: offset: | I1: =B2-2 -> 35
A2: #WK | B2: =_xlfn.ISOWEEKNUM(B1) -> 37 | C2: =B1-WEEKDAY(B1,2)+1 -> 45908.46 | E2: =C2-7 -> 45901.46 | F2: =C2-28 -> 45880.46 | G2: =C2-168 -> 45740.46 | K2: CR51 | O2: GY86 | S2: Intel Reliability
A3: System | B3: Customer | C3: Date | D3: Year | E3: Week Number | F3: Year-Week Number | G3: Productive Hours | H3: Up Time | I3: WK Difference | J3: Column1 | K3: do not use | O3: do not use | S3: do not use
A4: CR51 | B4: =VLOOKUP(A4,Fleet[],2,FALSE) -> Intel | C4: 45586 | D4: =YEAR(DATE(YEAR(Runhours_Table[[#This Row],[Date]]-WEEKDAY(Runhours_Table[[#This Row],[Date]]-1)+4),1,1)-MOD((DATE(YEAR(Runhours_Table[[#This Row],[Date]]-WEEKDAY(Runhours_Table[[#This Row],[Date]]-1)+4),1,1)-2),7)+(7*IF(MOD((DATE(YEAR(Runhours_Table[[#This Row],[Date]]-WEEKDAY(Runhours_Table[[#This Row],[Date]]-1)+4),1,1)-2),7)>3,1,0))+7) -> 2024 | E4: =_xlfn.ISOWEEKNUM(Runhours_Table[[#This Row],[Date]]) -> 43 | F4: =RIGHT(YEAR(Runhours_Table[[#This Row],[Date]]),2)&TEXT(_xlfn.ISOWEEKNUM(Runhours_Table[[#This Row],[Date]]),"00") -> 2443 | G4: 0 | H4: 0 | I4: =_xlfn.ISOWEEKNUM(Runhours_Table[[#This Row],[Date]])+52*(Runhours_Table[[#This Row],[Year]]-YEAR(DATE(YEAR(TODAY()-WEEKDAY(TODAY()-1)+4),1,1)-MOD((DATE(YEAR(TODAY()-WEEKDAY(TODAY()-1)+4),1,1)-2),7)+(7*IF(MOD((DATE(YEAR(TODAY()-WEEKDAY(TODAY()-1)+4),1,1)-2),7)>3,1,0))+7) )-_xlfn.ISOWEEKNUM(NOW()) -> -46 | K4: Reliability | O4: Reliability | S4: Reliability
A5: GY86 | B5: =VLOOKUP(A5,Fleet[],2,FALSE) -> Intel | C5: 45586 | D5: =YEAR(DATE(YEAR(Runhours_Table[[#This Row],[Date]]-WEEKDAY(Runhours_Table[[#This Row],[Date]]-1)+4),1,1)-MOD((DATE(YEAR(Runhours_Table[[#This Row],[Date]]-WEEKDAY(Runhours_Table[[#This Row],[Date]]-1)+4),1,1)-2),7)+(7*IF(MOD((DATE(YEAR(Runhours_Table[[#This Row],[Date]]-WEEKDAY(Runhours_Table[[#This Row],[Date]]-1)+4),1,1)-2),7)>3,1,0))+7) -> 2024 | E5: =_xlfn.ISOWEEKNUM(Runhours_Table[[#This Row],[Date]]) -> 43 | F5: =RIGHT(YEAR(Runhours_Table[[#This Row],[Date]]),2)&TEXT(_xlfn.ISOWEEKNUM(Runhours_Table[[#This Row],[Date]]),"00") -> 2443 | G5: 0 | H5: 0 | I5: =_xlfn.ISOWEEKNUM(Runhours_Table[[#This Row],[Date]])+52*(Runhours_Table[[#This Row],[Year]]-YEAR(DATE(YEAR(TODAY()-WEEKDAY(TODAY()-1)+4),1,1)-MOD((DATE(YEAR(TODAY()-WEEKDAY(TODAY()-1)+4),1,1)-2),7)+(7*IF(MOD((DATE(YEAR(TODAY()-WEEKDAY(TODAY()-1)+4),1,1)-2),7)>3,1,0))+7) )-_xlfn.ISOWEEKNUM(NOW()) -> -46 | K5: 13 wma | L5: Productive Hours (h) | M5: =SUMIFS(G:G,I:I,"<=12",I:I,">0",A:A,"CR51") -> 0 | O5: 13 wma | P5: Productive Hours (h) | Q5: =SUMIFS(G:G,I:I,"<=12",A:A,"GY86") -> 2055.1739 | S5: 13 wma | T5: Productive Hours (h) | U5: =Q5+M5 -> 2055.1739
A6: CR51 | B6: =VLOOKUP(A6,Fleet[],2,FALSE) -> Intel | C6: 45587 | D6: =YEAR(DATE(YEAR(Runhours_Table[[#This Row],[Date]]-WEEKDAY(Runhours_Table[[#This Row],[Date]]-1)+4),1,1)-MOD((DATE(YEAR(Runhours_Table[[#This Row],[Date]]-WEEKDAY(Runhours_Table[[#This Row],[Date]]-1)+4),1,1)-2),7)+(7*IF(MOD((DATE(YEAR(Runhours_Table[[#This Row],[Date]]-WEEKDAY(Runhours_Table[[#This Row],[Date]]-1)+4),1,1)-2),7)>3,1,0))+7) -> 2024 | E6: =_xlfn.ISOWEEKNUM(Runhours_Table[[#This Row],[Date]]) -> 43 | F6: =RIGHT(YEAR(Runhours_Table[[#This Row],[Date]]),2)&TEXT(_xlfn.ISOWEEKNUM(Runhours_Table[[#This Row],[Date]]),"00") -> 2443 | G6: 0 | H6: 0 | I6: =_xlfn.ISOWEEKNUM(Runhours_Table[[#This Row],[Date]])+52*(Runhours_Table[[#This Row],[Year]]-YEAR(DATE(YEAR(TODAY()-WEEKDAY(TODAY()-1)+4),1,1)-MOD((DATE(YEAR(TODAY()-WEEKDAY(TODAY()-1)+4),1,1)-2),7)+(7*IF(MOD((DATE(YEAR(TODAY()-WEEKDAY(TODAY()-1)+4),1,1)-2),7)>3,1,0))+7) )-_xlfn.ISOWEEKNUM(NOW()) -> -46 | L6: Uptime (h) | M6: =SUMIFS(H:H,I:I,"<=12",I:I,">0",A:A,"CR51") -> 0 | P6: Uptime (h) | Q6: =SUMIFS(H:H,I:I,"<=12",I:I,">0",A:A,"GY86") -> 0 | T6: Uptime (h) | U6: =Q6+M6 -> 0
A7: GY86 | B7: =VLOOKUP(A7,Fleet[],2,FALSE) -> Intel | C7: 45587 | D7: =YEAR(DATE(YEAR(Runhours_Table[[#This Row],[Date]]-WEEKDAY(Runhours_Table[[#This Row],[Date]]-1)+4),1,1)-MOD((DATE(YEAR(Runhours_Table[[#This Row],[Date]]-WEEKDAY(Runhours_Table[[#This Row],[Date]]-1)+4),1,1)-2),7)+(7*IF(MOD((DATE(YEAR(Runhours_Table[[#This Row],[Date]]-WEEKDAY(Runhours_Table[[#This Row],[Date]]-1)+4),1,1)-2),7)>3,1,0))+7) -> 2024 | E7: =_xlfn.ISOWEEKNUM(Runhours_Table[[#This Row],[Date]]) -> 43 | F7: =RIGHT(YEAR(Runhours_Table[[#This Row],[Date]]),2)&TEXT(_xlfn.ISOWEEKNUM(Runhours_Table[[#This Row],[Date]]),"00") -> 2443 | G7: 0 | H7: 0 | I7: =_xlfn.ISOWEEKNUM(Runhours_Table[[#This Row],[Date]])+52*(Runhours_Table[[#This Row],[Year]]-YEAR(DATE(YEAR(TODAY()-WEEKDAY(TODAY()-1)+4),1,1)-MOD((DATE(YEAR(TODAY()-WEEKDAY(TODAY()-1)+4),1,1)-2),7)+(7*IF(MOD((DATE(YEAR(TODAY()-WEEKDAY(TODAY()-1)+4),1,1)-2),7)>3,1,0))+7) )-_xlfn.ISOWEEKNUM(NOW()) -> -46 | L7: P hits | M7: =COUNTIFS(Error_Log!#REF!,"<=12",Error_Log!#REF!,">=0",Error_Log!V:V,"Y",Error_Log!A:A,"CR51") -> #REF! | P7: P hits | Q7: =COUNTIFS(Error_Log!#REF!,"<=12",Error_Log!#REF!,">=0",Error_Log!V:V,"Y",Error_Log!A:A,"GY86") -> #REF! | T7: P hits | U7: =Q7+M7 -> #REF!
A8: CR51 | B8: =VLOOKUP(A8,Fleet[],2,FALSE) -> Intel | C8: 45588 | D8: =YEAR(DATE(YEAR(Runhours_Table[[#This Row],[Date]]-WEEKDAY(Runhours_Table[[#This Row],[Date]]-1)+4),1,1)-MOD((DATE(YEAR(Runhours_Table[[#This Row],[Date]]-WEEKDAY(Runhours_Table[[#This Row],[Date]]-1)+4),1,1)-2),7)+(7*IF(MOD((DATE(YEAR(Runhours_Table[[#This Row],[Date]]-WEEKDAY(Runhours_Table[[#This Row],[Date]]-1)+4),1,1)-2),7)>3,1,0))+7) -> 2024 | E8: =_xlfn.ISOWEEKNUM(Runhours_Table[[#This Row],[Date]]) -> 43 | F8: =RIGHT(YEAR(Runhours_Table[[#This Row],[Date]]),2)&TEXT(_xlfn.ISOWEEKNUM(Runhours_Table[[#This Row],[Date]]),"00") -> 2443 | G8: 0 | H8: 0 | I8: =_xlfn.ISOWEEKNUM(Runhours_Table[[#This Row],[Date]])+52*(Runhours_Table[[#This Row],[Year]]-YEAR(DATE(YEAR(TODAY()-WEEKDAY(TODAY()-1)+4),1,1)-MOD((DATE(YEAR(TODAY()-WEEKDAY(TODAY()-1)+4),1,1)-2),7)+(7*IF(MOD((DATE(YEAR(TODAY()-WEEKDAY(TODAY()-1)+4),1,1)-2),7)>3,1,0))+7) )-_xlfn.ISOWEEKNUM(NOW()) -> -46 | L8: U hits | M8: =COUNTIFS(Error_Log!#REF!,"<=12",Error_Log!#REF!,">=0",Error_Log!W:W,"Y",Error_Log!A:A,"CR51") -> #REF! | P8: U hits | Q8: =COUNTIFS(Error_Log!#REF!,"<=12",Error_Log!#REF!,">=0",Error_Log!W:W,"Y",Error_Log!A:A,"GY86") -> #REF! | T8: U hits | U8: =Q8+M8 -> #REF!
A9: GY86 | B9: =VLOOKUP(A9,Fleet[],2,FALSE) -> Intel | C9: 45588 | D9: =YEAR(DATE(YEAR(Runhours_Table[[#This Row],[Date]]-WEEKDAY(Runhours_Table[[#This Row],[Date]]-1)+4),1,1)-MOD((DATE(YEAR(Runhours_Table[[#This Row],[Date]]-WEEKDAY(Runhours_Table[[#This Row],[Date]]-1)+4),1,1)-2),7)+(7*IF(MOD((DATE(YEAR(Runhours_Table[[#This Row],[Date]]-WEEKDAY(Runhours_Table[[#This Row],[Date]]-1)+4),1,1)-2),7)>3,1,0))+7) -> 2024 | E9: =_xlfn.ISOWEEKNUM(Runhours_Table[[#This Row],[Date]]) -> 43 | F9: =RIGHT(YEAR(Runhours_Table[[#This Row],[Date]]),2)&TEXT(_xlfn.ISOWEEKNUM(Runhours_Table[[#This Row],[Date]]),"00") -> 2443 | G9: 0 | H9: 0 | I9: =_xlfn.ISOWEEKNUM(Runhours_Table[[#This Row],[Date]])+52*(Runhours_Table[[#This Row],[Year]]-YEAR(DATE(YEAR(TODAY()-WEEKDAY(TODAY()-1)+4),1,1)-MOD((DATE(YEAR(TODAY()-WEEKDAY(TODAY()-1)+4),1,1)-2),7)+(7*IF(MOD((DATE(YEAR(TODAY()-WEEKDAY(TODAY()-1)+4),1,1)-2),7)>3,1,0))+7) )-_xlfn.ISOWEEKNUM(NOW()) -> -46 | L9: MTBFp (h) | M9: =M5/M7 -> #REF! | P9: MTBFp (h) | Q9: =Q5/Q7 -> #REF! | T9: MTBFp (h) | U9: =Q9+M9 -> #REF!
A10: CR51 | B10: =VLOOKUP(A10,Fleet[],2,FALSE) -> Intel | C10: 45589 | D10: =YEAR(DATE(YEAR(Runhours_Table[[#This Row],[Date]]-WEEKDAY(Runhours_Table[[#This Row],[Date]]-1)+4),1,1)-MOD((DATE(YEAR(Runhours_Table[[#This Row],[Date]]-WEEKDAY(Runhours_Table[[#This Row],[Date]]-1)+4),1,1)-2),7)+(7*IF(MOD((DATE(YEAR(Runhours_Table[[#This Row],[Date]]-WEEKDAY(Runhours_Table[[#This Row],[Date]]-1)+4),1,1)-2),7)>3,1,0))+7) -> 2024 | E10: =_xlfn.ISOWEEKNUM(Runhours_Table[[#This Row],[Date]]) -> 43 | F10: =RIGHT(YEAR(Runhours_Table[[#This Row],[Date]]),2)&TEXT(_xlfn.ISOWEEKNUM(Runhours_Table[[#This Row],[Date]]),"00") -> 2443 | G10: 0 | H10: 0 | I10: =_xlfn.ISOWEEKNUM(Runhours_Table[[#This Row],[Date]])+52*(Runhours_Table[[#This Row],[Year]]-YEAR(DATE(YEAR(TODAY()-WEEKDAY(TODAY()-1)+4),1,1)-MOD((DATE(YEAR(TODAY()-WEEKDAY(TODAY()-1)+4),1,1)-2),7)+(7*IF(MOD((DATE(YEAR(TODAY()-WEEKDAY(TODAY()-1)+4),1,1)-2),7)>3,1,0))+7) )-_xlfn.ISOWEEKNUM(NOW()) -> -46 | L10: MTBFu (h) | M10: =M6/M8 -> #REF! | P10: MTBFu (h) | Q10: =Q6/Q8 -> #REF! | T10: MTBFu (h) | U10: =Q10+M10 -> #REF!
A11: GY86 | B11: =VLOOKUP(A11,Fleet[],2,FALSE) -> Intel | C11: 45589 | D11: =YEAR(DATE(YEAR(Runhours_Table[[#This Row],[Date]]-WEEKDAY(Runhours_Table[[#This Row],[Date]]-1)+4),1,1)-MOD((DATE(YEAR(Runhours_Table[[#This Row],[Date]]-WEEKDAY(Runhours_Table[[#This Row],[Date]]-1)+4),1,1)-2),7)+(7*IF(MOD((DATE(YEAR(Runhours_Table[[#This Row],[Date]]-WEEKDAY(Runhours_Table[[#This Row],[Date]]-1)+4),1,1)-2),7)>3,1,0))+7) -> 2024 | E11: =_xlfn.ISOWEEKNUM(Runhours_Table[[#This Row],[Date]]) -> 43 | F11: =RIGHT(YEAR(Runhours_Table[[#This Row],[Date]]),2)&TEXT(_xlfn.ISOWEEKNUM(Runhours_Table[[#This Row],[Date]]),"00") -> 2443 | G11: 0 | H11: 0 | I11: =_xlfn.ISOWEEKNUM(Runhours_Table[[#This Row],[Date]])+52*(Runhours_Table[[#This Row],[Year]]-YEAR(DATE(YEAR(TODAY()-WEEKDAY(TODAY()-1)+4),1,1)-MOD((DATE(YEAR(TODAY()-WEEKDAY(TODAY()-1)+4),1,1)-2),7)+(7*IF(MOD((DATE(YEAR(TODAY()-WEEKDAY(TODAY()-1)+4),1,1)-2),7)>3,1,0))+7) )-_xlfn.ISOWEEKNUM(NOW()) -> -46 | K11: 4 wma | L11: Productive Hours (h) | M11: =SUMIFS(G:G,I:I,"<=4",A:A,"CR51") -> 1748.6992 | O11: 4 wma | P11: Productive Hours (h) | Q11: =SUMIFS(G:G,I:I,"<=13",A:A,"GY86") -> 2055.1739 | S11: 4 wma | T11: Productive Hours (h) | U11: =Q11+M11 -> 3803.8731
A12: CR51 | B12: =VLOOKUP(A12,Fleet[],2,FALSE) -> Intel | C12: 45590 | D12: =YEAR(DATE(YEAR(Runhours_Table[[#This Row],[Date]]-WEEKDAY(Runhours_Table[[#This Row],[Date]]-1)+4),1,1)-MOD((DATE(YEAR(Runhours_Table[[#This Row],[Date]]-WEEKDAY(Runhours_Table[[#This Row],[Date]]-1)+4),1,1)-2),7)+(7*IF(MOD((DATE(YEAR(Runhours_Table[[#This Row],[Date]]-WEEKDAY(Runhours_Table[[#This Row],[Date]]-1)+4),1,1)-2),7)>3,1,0))+7) -> 2024 | E12: =_xlfn.ISOWEEKNUM(Runhours_Table[[#This Row],[Date]]) -> 43 | F12: =RIGHT(YEAR(Runhours_Table[[#This Row],[Date]]),2)&TEXT(_xlfn.ISOWEEKNUM(Runhours_Table[[#This Row],[Date]]),"00") -> 2443 | G12: 0 | H12: 0 | I12: =_xlfn.ISOWEEKNUM(Runhours_Table[[#This Row],[Date]])+52*(Runhours_Table[[#This Row],[Year]]-YEAR(DATE(YEAR(TODAY()-WEEKDAY(TODAY()-1)+4),1,1)-MOD((DATE(YEAR(TODAY()-WEEKDAY(TODAY()-1)+4),1,1)-2),7)+(7*IF(MOD((DATE(YEAR(TODAY()-WEEKDAY(TODAY()-1)+4),1,1)-2),7)>3,1,0))+7) )-_xlfn.ISOWEEKNUM(NOW()) -> -46 | L12: Uptime (h) | M12: =SUMIFS(H:H,I:I,"<=4",A:A,"CR51") -> 3349.7019 | P12: Uptime (h) | Q12: =SUMIFS(H:H,I:I,"<=4",I:I,">=0",A:A,"GY86") -> 0 | T12: Uptime (h) | U12: =Q12+M12 -> 3349.7019
A13: GY86 | B13: =VLOOKUP(A13,Fleet[],2,FALSE) -> Intel | C13: 45590 | D13: =YEAR(DATE(YEAR(Runhours_Table[[#This Row],[Date]]-WEEKDAY(Runhours_Table[[#This Row],[Date]]-1)+4),1,1)-MOD((DATE(YEAR(Runhours_Table[[#This Row],[Date]]-WEEKDAY(Runhours_Table[[#This Row],[Date]]-1)+4),1,1)-2),7)+(7*IF(MOD((DATE(YEAR(Runhours_Table[[#This Row],[Date]]-WEEKDAY(Runhours_Table[[#This Row],[Date]]-1)+4),1,1)-2),7)>3,1,0))+7) -> 2024 | E13: =_xlfn.ISOWEEKNUM(Runhours_Table[[#This Row],[Date]]) -> 43 | F13: =RIGHT(YEAR(Runhours_Table[[#This Row],[Date]]),2)&TEXT(_xlfn.ISOWEEKNUM(Runhours_Table[[#This Row],[Date]]),"00") -> 2443 | G13: 0 | H13: 0 | I13: =_xlfn.ISOWEEKNUM(Runhours_Table[[#This Row],[Date]])+52*(Runhours_Table[[#This Row],[Year]]-YEAR(DATE(YEAR(TODAY()-WEEKDAY(TODAY()-1)+4),1,1)-MOD((DATE(YEAR(TODAY()-WEEKDAY(TODAY()-1)+4),1,1)-2),7)+(7*IF(MOD((DATE(YEAR(TODAY()-WEEKDAY(TODAY()-1)+4),1,1)-2),7)>3,1,0))+7) )-_xlfn.ISOWEEKNUM(NOW()) -> -46 | L13: P hits | M13: =COUNTIFS(Error_Log!#REF!,"<=3",Error_Log!#REF!,">=0",Error_Log!V:V,"Y",Error_Log!A:A,"CR51") -> #REF! | P13: P hits | Q13: =COUNTIFS(Error_Log!#REF!,"<=4",Error_Log!#REF!,">=0",Error_Log!V:V,"Y",Error_Log!A:A,"GY86") -> #REF! | T13: P hits | U13: =Q13+M13 -> #REF!
A14: CR51 | B14: =VLOOKUP(A14,Fleet[],2,FALSE) -> Intel | C14: 45591 | D14: =YEAR(DATE(YEAR(Runhours_Table[[#This Row],[Date]]-WEEKDAY(Runhours_Table[[#This Row],[Date]]-1)+4),1,1)-MOD((DATE(YEAR(Runhours_Table[[#This Row],[Date]]-WEEKDAY(Runhours_Table[[#This Row],[Date]]-1)+4),1,1)-2),7)+(7*IF(MOD((DATE(YEAR(Runhours_Table[[#This Row],[Date]]-WEEKDAY(Runhours_Table[[#This Row],[Date]]-1)+4),1,1)-2),7)>3,1,0))+7) -> 2024 | E14: =_xlfn.ISOWEEKNUM(Runhours_Table[[#This Row],[Date]]) -> 43 | F14: =RIGHT(YEAR(Runhours_Table[[#This Row],[Date]]),2)&TEXT(_xlfn.ISOWEEKNUM(Runhours_Table[[#This Row],[Date]]),"00") -> 2443 | G14: 0 | H14: 0 | I14: =_xlfn.ISOWEEKNUM(Runhours_Table[[#This Row],[Date]])+52*(Runhours_Table[[#This Row],[Year]]-YEAR(DATE(YEAR(TODAY()-WEEKDAY(TODAY()-1)+4),1,1)-MOD((DATE(YEAR(TODAY()-WEEKDAY(TODAY()-1)+4),1,1)-2),7)+(7*IF(MOD((DATE(YEAR(TODAY()-WEEKDAY(TODAY()-1)+4),1,1)-2),7)>3,1,0))+7) )-_xlfn.ISOWEEKNUM(NOW()) -> -46 | L14: U hits | M14: =COUNTIFS(Error_Log!#REF!,"<=3",Error_Log!#REF!,">=0",Error_Log!W:W,"Y",Error_Log!A:A,"CR51") -> #REF! | P14: U hits | Q14: =COUNTIFS(Error_Log!#REF!,"<=4",Error_Log!#REF!,">=0",Error_Log!W:W,"Y",Error_Log!A:A,"GY86") -> #REF! | T14: U hits | U14: =Q14+M14 -> #REF!
A15: GY86 | B15: =VLOOKUP(A15,Fleet[],2,FALSE) -> Intel | C15: 45591 | D15: =YEAR(DATE(YEAR(Runhours_Table[[#This Row],[Date]]-WEEKDAY(Runhours_Table[[#This Row],[Date]]-1)+4),1,1)-MOD((DATE(YEAR(Runhours_Table[[#This Row],[Date]]-WEEKDAY(Runhours_Table[[#This Row],[Date]]-1)+4),1,1)-2),7)+(7*IF(MOD((DATE(YEAR(Runhours_Table[[#This Row],[Date]]-WEEKDAY(Runhours_Table[[#This Row],[Date]]-1)+4),1,1)-2),7)>3,1,0))+7) -> 2024 | E15: =_xlfn.ISOWEEKNUM(Runhours_Table[[#This Row],[Date]]) -> 43 | F15: =RIGHT(YEAR(Runhours_Table[[#This Row],[Date]]),2)&TEXT(_xlfn.ISOWEEKNUM(Runhours_Table[[#This Row],[Date]]),"00") -> 2443 | G15: 0 | H15: 0 | I15: =_xlfn.ISOWEEKNUM(Runhours_Table[[#This Row],[Date]])+52*(Runhours_Table[[#This Row],[Year]]-YEAR(DATE(YEAR(TODAY()-WEEKDAY(TODAY()-1)+4),1,1)-MOD((DATE(YEAR(TODAY()-WEEKDAY(TODAY()-1)+4),1,1)-2),7)+(7*IF(MOD((DATE(YEAR(TODAY()-WEEKDAY(TODAY()-1)+4),1,1)-2),7)>3,1,0))+7) )-_xlfn.ISOWEEKNUM(NOW()) -> -46 | L15: MTBFp (h) | M15: =M11/M13 -> #REF! | P15: MTBFp (h) | Q15: =Q11/Q13 -> #REF! | T15: MTBFp (h) | U15: =Q15+M15 -> #REF!
A16: CR51 | B16: =VLOOKUP(A16,Fleet[],2,FALSE) -> Intel | C16: 45592 | D16: =YEAR(DATE(YEAR(Runhours_Table[[#This Row],[Date]]-WEEKDAY(Runhours_Table[[#This Row],[Date]]-1)+4),1,1)-MOD((DATE(YEAR(Runhours_Table[[#This Row],[Date]]-WEEKDAY(Runhours_Table[[#This Row],[Date]]-1)+4),1,1)-2),7)+(7*IF(MOD((DATE(YEAR(Runhours_Table[[#This Row],[Date]]-WEEKDAY(Runhours_Table[[#This Row],[Date]]-1)+4),1,1)-2),7)>3,1,0))+7) -> 2024 | E16: =_xlfn.ISOWEEKNUM(Runhours_Table[[#This Row],[Date]]) -> 43 | F16: =RIGHT(YEAR(Runhours_Table[[#This Row],[Date]]),2)&TEXT(_xlfn.ISOWEEKNUM(Runhours_Table[[#This Row],[Date]]),"00") -> 2443 | G16: 0 | H16: 0 | I16: =_xlfn.ISOWEEKNUM(Runhours_Table[[#This Row],[Date]])+52*(Runhours_Table[[#This Row],[Year]]-YEAR(DATE(YEAR(TODAY()-WEEKDAY(TODAY()-1)+4),1,1)-MOD((DATE(YEAR(TODAY()-WEEKDAY(TODAY()-1)+4),1,1)-2),7)+(7*IF(MOD((DATE(YEAR(TODAY()-WEEKDAY(TODAY()-1)+4),1,1)-2),7)>3,1,0))+7) )-_xlfn.ISOWEEKNUM(NOW()) -> -46 | L16: MTBFu (h) | M16: =M12/M14 -> #REF! | P16: MTBFu (h) | Q16: =Q12/Q14 -> #REF! | T16: MTBFu (h) | U16: =Q16+M16 -> #REF!
A17: GY86 | B17: =VLOOKUP(A17,Fleet[],2,FALSE) -> Intel | C17: 45592 | D17: =YEAR(DATE(YEAR(Runhours_Table[[#This Row],[Date]]-WEEKDAY(Runhours_Table[[#This Row],[Date]]-1)+4),1,1)-MOD((DATE(YEAR(Runhours_Table[[#This Row],[Date]]-WEEKDAY(Runhours_Table[[#This Row],[Date]]-1)+4),1,1)-2),7)+(7*IF(MOD((DATE(YEAR(Runhours_Table[[#This Row],[Date]]-WEEKDAY(Runhours_Table[[#This Row],[Date]]-1)+4),1,1)-2),7)>3,1,0))+7) -> 2024 | E17: =_xlfn.ISOWEEKNUM(Runhours_Table[[#This Row],[Date]]) -> 43 | F17: =RIGHT(YEAR(Runhours_Table[[#This Row],[Date]]),2)&TEXT(_xlfn.ISOWEEKNUM(Runhours_Table[[#This Row],[Date]]),"00") -> 2443 | G17: 0 | H17: 0 | I17: =_xlfn.ISOWEEKNUM(Runhours_Table[[#This Row],[Date]])+52*(Runhours_Table[[#This Row],[Year]]-YEAR(DATE(YEAR(TODAY()-WEEKDAY(TODAY()-1)+4),1,1)-MOD((DATE(YEAR(TODAY()-WEEKDAY(TODAY()-1)+4),1,1)-2),7)+(7*IF(MOD((DATE(YEAR(TODAY()-WEEKDAY(TODAY()-1)+4),1,1)-2),7)>3,1,0))+7) )-_xlfn.ISOWEEKNUM(NOW()) -> -46 | K17: 1 wma | L17: Productive Hours (h) | M17: =SUMIFS(G:G,I:I,"<=1",A:A,"CR51") -> 1748.6992 | O17: 1 wma | P17: Productive Hours (h) | Q17: =SUMIFS(G:G,I:I,"<=1",A:A,"GY86") -> 2055.1739 | S17: 1 wma | T17: Productive Hours (h) | U17: =Q17+M17 -> 3803.8731
A18: CR51 | B18: =VLOOKUP(A18,Fleet[],2,FALSE) -> Intel | C18: 45593 | D18: =YEAR(DATE(YEAR(Runhours_Table[[#This Row],[Date]]-WEEKDAY(Runhours_Table[[#This Row],[Date]]-1)+4),1,1)-MOD((DATE(YEAR(Runhours_Table[[#This Row],[Date]]-WEEKDAY(Runhours_Table[[#This Row],[Date]]-1)+4),1,1)-2),7)+(7*IF(MOD((DATE(YEAR(Runhours_Table[[#This Row],[Date]]-WEEKDAY(Runhours_Table[[#This Row],[Date]]-1)+4),1,1)-2),7)>3,1,0))+7) -> 2024 | E18: =_xlfn.ISOWEEKNUM(Runhours_Table[[#This Row],[Date]]) -> 44 | F18: =RIGHT(YEAR(Runhours_Table[[#This Row],[Date]]),2)&TEXT(_xlfn.ISOWEEKNUM(Runhours_Table[[#This Row],[Date]]),"00") -> 2444 | G18: 0 | H18: 0 | I18: =_xlfn.ISOWEEKNUM(Runhours_Table[[#This Row],[Date]])+52*(Runhours_Table[[#This Row],[Year]]-YEAR(DATE(YEAR(TODAY()-WEEKDAY(TODAY()-1)+4),1,1)-MOD((DATE(YEAR(TODAY()-WEEKDAY(TODAY()-1)+4),1,1)-2),7)+(7*IF(MOD((DATE(YEAR(TODAY()-WEEKDAY(TODAY()-1)+4),1,1)-2),7)>3,1,0))+7) )-_xlfn.ISOWEEKNUM(NOW()) -> -45 | L18: Uptime (h) | M18: =SUMIFS(H:H,I:I,"<=1",I:I,">0",A:A,"CR51") -> 0 | P18: Uptime (h) | Q18: =SUMIFS(H:H,I:I,"<=1",I:I,">=0",A:A,"GY86") -> 0 | T18: Uptime (h) | U18: =Q18+M18 -> 0
A19: GY86 | B19: =VLOOKUP(A19,Fleet[],2,FALSE) -> Intel | C19: 45593 | D19: =YEAR(DATE(YEAR(Runhours_Table[[#This Row],[Date]]-WEEKDAY(Runhours_Table[[#This Row],[Date]]-1)+4),1,1)-MOD((DATE(YEAR(Runhours_Table[[#This Row],[Date]]-WEEKDAY(Runhours_Table[[#This Row],[Date]]-1)+4),1,1)-2),7)+(7*IF(MOD((DATE(YEAR(Runhours_Table[[#This Row],[Date]]-WEEKDAY(Runhours_Table[[#This Row],[Date]]-1)+4),1,1)-2),7)>3,1,0))+7) -> 2024 | E19: =_xlfn.ISOWEEKNUM(Runhours_Table[[#This Row],[Date]]) -> 44 | F19: =RIGHT(YEAR(Runhours_Table[[#This Row],[Date]]),2)&TEXT(_xlfn.ISOWEEKNUM(Runhours_Table[[#This Row],[Date]]),"00") -> 2444 | G19: 0 | H19: 0 | I19: =_xlfn.ISOWEEKNUM(Runhours_Table[[#This Row],[Date]])+52*(Runhours_Table[[#This Row],[Year]]-YEAR(DATE(YEAR(TODAY()-WEEKDAY(TODAY()-1)+4),1,1)-MOD((DATE(YEAR(TODAY()-WEEKDAY(TODAY()-1)+4),1,1)-2),7)+(7*IF(MOD((DATE(YEAR(TODAY()-WEEKDAY(TODAY()-1)+4),1,1)-2),7)>3,1,0))+7) )-_xlfn.ISOWEEKNUM(NOW()) -> -45 | L19: P hits | M19: =COUNTIFS(Error_Log!#REF!,"<=1",Error_Log!#REF!,">=0",Error_Log!V:V,"Y",Error_Log!A:A,"CR51") -> #REF! | P19: P hits | Q19: =COUNTIFS(Error_Log!#REF!,"<=1",Error_Log!#REF!,">=0",Error_Log!V:V,"Y",Error_Log!A:A,"GY86") -> #REF! | T19: P hits | U19: =Q19+M19 -> #REF!
A20: CR51 | B20: =VLOOKUP(A20,Fleet[],2,FALSE) -> Intel | C20: 45594 | D20: =YEAR(DATE(YEAR(Runhours_Table[[#This Row],[Date]]-WEEKDAY(Runhours_Table[[#This Row],[Date]]-1)+4),1,1)-MOD((DATE(YEAR(Runhours_Table[[#This Row],[Date]]-WEEKDAY(Runhours_Table[[#This Row],[Date]]-1)+4),1,1)-2),7)+(7*IF(MOD((DATE(YEAR(Runhours_Table[[#This Row],[Date]]-WEEKDAY(Runhours_Table[[#This Row],[Date]]-1)+4),1,1)-2),7)>3,1,0))+7) -> 2024 | E20: =_xlfn.ISOWEEKNUM(Runhours_Table[[#This Row],[Date]]) -> 44 | F20: =RIGHT(YEAR(Runhours_Table[[#This Row],[Date]]),2)&TEXT(_xlfn.ISOWEEKNUM(Runhours_Table[[#This Row],[Date]]),"00") -> 2444 | G20: 0 | H20: 0 | I20: =_xlfn.ISOWEEKNUM(Runhours_Table[[#This Row],[Date]])+52*(Runhours_Table[[#This Row],[Year]]-YEAR(DATE(YEAR(TODAY()-WEEKDAY(TODAY()-1)+4),1,1)-MOD((DATE(YEAR(TODAY()-WEEKDAY(TODAY()-1)+4),1,1)-2),7)+(7*IF(MOD((DATE(YEAR(TODAY()-WEEKDAY(TODAY()-1)+4),1,1)-2),7)>3,1,0))+7) )-_xlfn.ISOWEEKNUM(NOW()) -> -45 | L20: U hits | M20: =COUNTIFS(Error_Log!#REF!,"<=1",Error_Log!#REF!,">=0",Error_Log!W:W,"Y",Error_Log!A:A,"CR51") -> #REF! | P20: U hits | Q20: =COUNTIFS(Error_Log!#REF!,"<=1",Error_Log!#REF!,">=0",Error_Log!W:W,"Y",Error_Log!A:A,"GY86") -> #REF! | T20: U hits | U20: =Q20+M20 -> #REF!
A21: GY86 | B21: =VLOOKUP(A21,Fleet[],2,FALSE) -> Intel | C21: 45594 | D21: =YEAR(DATE(YEAR(Runhours_Table[[#This Row],[Date]]-WEEKDAY(Runhours_Table[[#This Row],[Date]]-1)+4),1,1)-MOD((DATE(YEAR(Runhours_Table[[#This Row],[Date]]-WEEKDAY(Runhours_Table[[#This Row],[Date]]-1)+4),1,1)-2),7)+(7*IF(MOD((DATE(YEAR(Runhours_Table[[#This Row],[Date]]-WEEKDAY(Runhours_Table[[#This Row],[Date]]-1)+4),1,1)-2),7)>3,1,0))+7) -> 2024 | E21: =_xlfn.ISOWEEKNUM(Runhours_Table[[#This Row],[Date]]) -> 44 | F21: =RIGHT(YEAR(Runhours_Table[[#This Row],[Date]]),2)&TEXT(_xlfn.ISOWEEKNUM(Runhours_Table[[#This Row],[Date]]),"00") -> 2444 | G21: 0 | H21: 0 | I21: =_xlfn.ISOWEEKNUM(Runhours_Table[[#This Row],[Date]])+52*(Runhours_Table[[#This Row],[Year]]-YEAR(DATE(YEAR(TODAY()-WEEKDAY(TODAY()-1)+4),1,1)-MOD((DATE(YEAR(TODAY()-WEEKDAY(TODAY()-1)+4),1,1)-2),7)+(7*IF(MOD((DATE(YEAR(TODAY()-WEEKDAY(TODAY()-1)+4),1,1)-2),7)>3,1,0))+7) )-_xlfn.ISOWEEKNUM(NOW()) -> -45 | L21: MTBFp (h) | M21: =IF(M19=0,M17,M17/M19) -> #REF! | P21: MTBFp (h) | Q21: =IF(Q19=0,Q17,Q17/Q19) -> #REF! | T21: MTBFp (h) | U21: =Q21+M21 -> #REF!
A22: CR51 | B22: =VLOOKUP(A22,Fleet[],2,FALSE) -> Intel | C22: 45595 | D22: =YEAR(DATE(YEAR(Runhours_Table[[#This Row],[Date]]-WEEKDAY(Runhours_Table[[#This Row],[Date]]-1)+4),1,1)-MOD((DATE(YEAR(Runhours_Table[[#This Row],[Date]]-WEEKDAY(Runhours_Table[[#This Row],[Date]]-1)+4),1,1)-2),7)+(7*IF(MOD((DATE(YEAR(Runhours_Table[[#This Row],[Date]]-WEEKDAY(Runhours_Table[[#This Row],[Date]]-1)+4),1,1)-2),7)>3,1,0))+7) -> 2024 | E22: =_xlfn.ISOWEEKNUM(Runhours_Table[[#This Row],[Date]]) -> 44 | F22: =RIGHT(YEAR(Runhours_Table[[#This Row],[Date]]),2)&TEXT(_xlfn.ISOWEEKNUM(Runhours_Table[[#This Row],[Date]]),"00") -> 2444 | G22: 0 | H22: 0 | I22: =_xlfn.ISOWEEKNUM(Runhours_Table[[#This Row],[Date]])+52*(Runhours_Table[[#This Row],[Year]]-YEAR(DATE(YEAR(TODAY()-WEEKDAY(TODAY()-1)+4),1,1)-MOD((DATE(YEAR(TODAY()-WEEKDAY(TODAY()-1)+4),1,1)-2),7)+(7*IF(MOD((DATE(YEAR(TODAY()-WEEKDAY(TODAY()-1)+4),1,1)-2),7)>3,1,0))+7) )-_xlfn.ISOWEEKNUM(NOW()) -> -45 | L22: MTBFu (h) | M22: =IF(M20=0,M18,M18/M20) -> #REF! | P22: MTBFu (h) | Q22: =IF(Q20=0,Q18,Q18/Q20) -> #REF! | T22: MTBFu (h) | U22: =Q22+M22 -> #REF!
A23: GY86 | B23: =VLOOKUP(A23,Fleet[],2,FALSE) -> Intel | C23: 45595 | D23: =YEAR(DATE(YEAR(Runhours_Table[[#This Row],[Date]]-WEEKDAY(Runhours_Table[[#This Row],[Date]]-1)+4),1,1)-MOD((DATE(YEAR(Runhours_Table[[#This Row],[Date]]-WEEKDAY(Runhours_Table[[#This Row],[Date]]-1)+4),1,1)-2),7)+(7*IF(MOD((DATE(YEAR(Runhours_Table[[#This Row],[Date]]-WEEKDAY(Runhours_Table[[#This Row],[Date]]-1)+4),1,1)-2),7)>3,1,0))+7) -> 2024 | E23: =_xlfn.ISOWEEKNUM(Runhours_Table[[#This Row],[Date]]) -> 44 | F23: =RIGHT(YEAR(Runhours_Table[[#This Row],[Date]]),2)&TEXT(_xlfn.ISOWEEKNUM(Runhours_Table[[#This Row],[Date]]),"00") -> 2444 | G23: 0 | H23: 0 | I23: =_xlfn.ISOWEEKNUM(Runhours_Table[[#This Row],[Date]])+52*(Runhours_Table[[#This Row],[Year]]-YEAR(DATE(YEAR(TODAY()-WEEKDAY(TODAY()-1)+4),1,1)-MOD((DATE(YEAR(TODAY()-WEEKDAY(TODAY()-1)+4),1,1)-2),7)+(7*IF(MOD((DATE(YEAR(TODAY()-WEEKDAY(TODAY()-1)+4),1,1)-2),7)>3,1,0))+7) )-_xlfn.ISOWEEKNUM(NOW()) -> -45
A24: CR51 | B24: =VLOOKUP(A24,Fleet[],2,FALSE) -> Intel | C24: 45596 | D24: =YEAR(DATE(YEAR(Runhours_Table[[#This Row],[Date]]-WEEKDAY(Runhours_Table[[#This Row],[Date]]-1)+4),1,1)-MOD((DATE(YEAR(Runhours_Table[[#This Row],[Date]]-WEEKDAY(Runhours_Table[[#This Row],[Date]]-1)+4),1,1)-2),7)+(7*IF(MOD((DATE(YEAR(Runhours_Table[[#This Row],[Date]]-WEEKDAY(Runhours_Table[[#This Row],[Date]]-1)+4),1,1)-2),7)>3,1,0))+7) -> 2024 | E24: =_xlfn.ISOWEEKNUM(Runhours_Table[[#This Row],[Date]]) -> 44 | F24: =RIGHT(YEAR(Runhours_Table[[#This Row],[Date]]),2)&TEXT(_xlfn.ISOWEEKNUM(Runhours_Table[[#This Row],[Date]]),"00") -> 2444 | G24: 0 | H24: 0 | I24: =_xlfn.ISOWEEKNUM(Runhours_Table[[#This Row],[Date]])+52*(Runhours_Table[[#This Row],[Year]]-YEAR(DATE(YEAR(TODAY()-WEEKDAY(TODAY()-1)+4),1,1)-MOD((DATE(YEAR(TODAY()-WEEKDAY(TODAY()-1)+4),1,1)-2),7)+(7*IF(MOD((DATE(YEAR(TODAY()-WEEKDAY(TODAY()-1)+4),1,1)-2),7)>3,1,0))+7) )-_xlfn.ISOWEEKNUM(NOW()) -> -45
A25: GY86 | B25: =VLOOKUP(A25,Fleet[],2,FALSE) -> Intel | C25: 45596 | D25: =YEAR(DATE(YEAR(Runhours_Table[[#This Row],[Date]]-WEEKDAY(Runhours_Table[[#This Row],[Date]]-1)+4),1,1)-MOD((DATE(YEAR(Runhours_Table[[#This Row],[Date]]-WEEKDAY(Runhours_Table[[#This Row],[Date]]-1)+4),1,1)-2),7)+(7*IF(MOD((DATE(YEAR(Runhours_Table[[#This Row],[Date]]-WEEKDAY(Runhours_Table[[#This Row],[Date]]-1)+4),1,1)-2),7)>3,1,0))+7) -> 2024 | E25: =_xlfn.ISOWEEKNUM(Runhours_Table[[#This Row],[Date]]) -> 44 | F25: =RIGHT(YEAR(Runhours_Table[[#This Row],[Date]]),2)&TEXT(_xlfn.ISOWEEKNUM(Runhours_Table[[#This Row],[Date]]),"00") -> 2444 | G25: 0 | H25: 0 | I25: =_xlfn.ISOWEEKNUM(Runhours_Table[[#This Row],[Date]])+52*(Runhours_Table[[#This Row],[Year]]-YEAR(DATE(YEAR(TODAY()-WEEKDAY(TODAY()-1)+4),1,1)-MOD((DATE(YEAR(TODAY()-WEEKDAY(TODAY()-1)+4),1,1)-2),7)+(7*IF(MOD((DATE(YEAR(TODAY()-WEEKDAY(TODAY()-1)+4),1,1)-2),7)>3,1,0))+7) )-_xlfn.ISOWEEKNUM(NOW()) -> -45 | K25: <--- inserted to X check calculated values below
A26: CR51 | B26: =VLOOKUP(A26,Fleet[],2,FALSE) -> Intel | C26: 45597 | D26: =YEAR(DATE(YEAR(Runhours_Table[[#This Row],[Date]]-WEEKDAY(Runhours_Table[[#This Row],[Date]]-1)+4),1,1)-MOD((DATE(YEAR(Runhours_Table[[#This Row],[Date]]-WEEKDAY(Runhours_Table[[#This Row],[Date]]-1)+4),1,1)-2),7)+(7*IF(MOD((DATE(YEAR(Runhours_Table[[#This Row],[Date]]-WEEKDAY(Runhours_Table[[#This Row],[Date]]-1)+4),1,1)-2),7)>3,1,0))+7) -> 2024 | E26: =_xlfn.ISOWEEKNUM(Runhours_Table[[#This Row],[Date]]) -> 44 | F26: =RIGHT(YEAR(Runhours_Table[[#This Row],[Date]]),2)&TEXT(_xlfn.ISOWEEKNUM(Runhours_Table[[#This Row],[Date]]),"00") -> 2444 | G26: 0 | H26: 0 | I26: =_xlfn.ISOWEEKNUM(Runhours_Table[[#This Row],[Date]])+52*(Runhours_Table[[#This Row],[Year]]-YEAR(DATE(YEAR(TODAY()-WEEKDAY(TODAY()-1)+4),1,1)-MOD((DATE(YEAR(TODAY()-WEEKDAY(TODAY()-1)+4),1,1)-2),7)+(7*IF(MOD((DATE(YEAR(TODAY()-WEEKDAY(TODAY()-1)+4),1,1)-2),7)>3,1,0))+7) )-_xlfn.ISOWEEKNUM(NOW()) -> -45
A27: GY86 | B27: =VLOOKUP(A27,Fleet[],2,FALSE) -> Intel | C27: 45597 | D27: =YEAR(DATE(YEAR(Runhours_Table[[#This Row],[Date]]-WEEKDAY(Runhours_Table[[#This Row],[Date]]-1)+4),1,1)-MOD((DATE(YEAR(Runhours_Table[[#This Row],[Date]]-WEEKDAY(Runhours_Table[[#This Row],[Date]]-1)+4),1,1)-2),7)+(7*IF(MOD((DATE(YEAR(Runhours_Table[[#This Row],[Date]]-WEEKDAY(Runhours_Table[[#This Row],[Date]]-1)+4),1,1)-2),7)>3,1,0))+7) -> 2024 | E27: =_xlfn.ISOWEEKNUM(Runhours_Table[[#This Row],[Date]]) -> 44 | F27: =RIGHT(YEAR(Runhours_Table[[#This Row],[Date]]),2)&TEXT(_xlfn.ISOWEEKNUM(Runhours_Table[[#This Row],[Date]]),"00") -> 2444 | G27: 0 | H27: 0 | I27: =_xlfn.ISOWEEKNUM(Runhours_Table[[#This Row],[Date]])+52*(Runhours_Table[[#This Row],[Year]]-YEAR(DATE(YEAR(TODAY()-WEEKDAY(TODAY()-1)+4),1,1)-MOD((DATE(YEAR(TODAY()-WEEKDAY(TODAY()-1)+4),1,1)-2),7)+(7*IF(MOD((DATE(YEAR(TODAY()-WEEKDAY(TODAY()-1)+4),1,1)-2),7)>3,1,0))+7) )-_xlfn.ISOWEEKNUM(NOW()) -> -45 | L27: CR51 | N27: GY86 | P27: Total
A28: CR51 | B28: =VLOOKUP(A28,Fleet[],2,FALSE) -> Intel | C28: 45598 | D28: =YEAR(DATE(YEAR(Runhours_Table[[#This Row],[Date]]-WEEKDAY(Runhours_Table[[#This Row],[Date]]-1)+4),1,1)-MOD((DATE(YEAR(Runhours_Table[[#This Row],[Date]]-WEEKDAY(Runhours_Table[[#This Row],[Date]]-1)+4),1,1)-2),7)+(7*IF(MOD((DATE(YEAR(Runhours_Table[[#This Row],[Date]]-WEEKDAY(Runhours_Table[[#This Row],[Date]]-1)+4),1,1)-2),7)>3,1,0))+7) -> 2024 | E28: =_xlfn.ISOWEEKNUM(Runhours_Table[[#This Row],[Date]]) -> 44 | F28: =RIGHT(YEAR(Runhours_Table[[#This Row],[Date]]),2)&TEXT(_xlfn.ISOWEEKNUM(Runhours_Table[[#This Row],[Date]]),"00") -> 2444 | G28: 0 | H28: 0 | I28: =_xlfn.ISOWEEKNUM(Runhours_Table[[#This Row],[Date]])+52*(Runhours_Table[[#This Row],[Year]]-YEAR(DATE(YEAR(TODAY()-WEEKDAY(TODAY()-1)+4),1,1)-MOD((DATE(YEAR(TODAY()-WEEKDAY(TODAY()-1)+4),1,1)-2),7)+(7*IF(MOD((DATE(YEAR(TODAY()-WEEKDAY(TODAY()-1)+4),1,1)-2),7)>3,1,0))+7) )-_xlfn.ISOWEEKNUM(NOW()) -> -45 | K28: Week | L28: CR51_p_hits | M28: CR51_u_hits | N28: GY86_p_hits | O28: GY86_u_hits | P28: p_hits | Q28: u_hits
A29: GY86 | B29: =VLOOKUP(A29,Fleet[],2,FALSE) -> Intel | C29: 45598 | D29: =YEAR(DATE(YEAR(Runhours_Table[[#This Row],[Date]]-WEEKDAY(Runhours_Table[[#This Row],[Date]]-1)+4),1,1)-MOD((DATE(YEAR(Runhours_Table[[#This Row],[Date]]-WEEKDAY(Runhours_Table[[#This Row],[Date]]-1)+4),1,1)-2),7)+(7*IF(MOD((DATE(YEAR(Runhours_Table[[#This Row],[Date]]-WEEKDAY(Runhours_Table[[#This Row],[Date]]-1)+4),1,1)-2),7)>3,1,0))+7) -> 2024 | E29: =_xlfn.ISOWEEKNUM(Runhours_Table[[#This Row],[Date]]) -> 44 | F29: =RIGHT(YEAR(Runhours_Table[[#This Row],[Date]]),2)&TEXT(_xlfn.ISOWEEKNUM(Runhours_Table[[#This Row],[Date]]),"00") -> 2444 | G29: 0 | H29: 0 | I29: =_xlfn.ISOWEEKNUM(Runhours_Table[[#This Row],[Date]])+52*(Runhours_Table[[#This Row],[Year]]-YEAR(DATE(YEAR(TODAY()-WEEKDAY(TODAY()-1)+4),1,1)-MOD((DATE(YEAR(TODAY()-WEEKDAY(TODAY()-1)+4),1,1)-2),7)+(7*IF(MOD((DATE(YEAR(TODAY()-WEEKDAY(TODAY()-1)+4),1,1)-2),7)>3,1,0))+7) )-_xlfn.ISOWEEKNUM(NOW()) -> -45 | K29: 2 | L29: =COUNTIFS(Error_Log!E:E,"="&TEXT(K29,"00"),Error_Log!U:U,"Y",Error_Log!A:A,"CR51") -> 0 | M29: =COUNTIFS(Error_Log!E:E,"="&TEXT(K29,"00"),Error_Log!A:A,"CR51") -> 3 | N29: =COUNTIFS(Error_Log!E:E,"="&TEXT(K29,"00"),Error_Log!U:U,"Y",Error_Log!A:A,"GY86") -> 3 | O29: =COUNTIFS(Error_Log!E:E,"="&TEXT(K29,"00"),Error_Log!A:A,"GY86") -> 6 | P29: =SUM(L29,N29) -> 3 | Q29: =SUM(M29,O29) -> 9
A30: CR51 | B30: =VLOOKUP(A30,Fleet[],2,FALSE) -> Intel | C30: 45599 | D30: =YEAR(DATE(YEAR(Runhours_Table[[#This Row],[Date]]-WEEKDAY(Runhours_Table[[#This Row],[Date]]-1)+4),1,1)-MOD((DATE(YEAR(Runhours_Table[[#This Row],[Date]]-WEEKDAY(Runhours_Table[[#This Row],[Date]]-1)+4),1,1)-2),7)+(7*IF(MOD((DATE(YEAR(Runhours_Table[[#This Row],[Date]]-WEEKDAY(Runhours_Table[[#This Row],[Date]]-1)+4),1,1)-2),7)>3,1,0))+7) -> 2024 | E30: =_xlfn.ISOWEEKNUM(Runhours_Table[[#This Row],[Date]]) -> 44 | F30: =RIGHT(YEAR(Runhours_Table[[#This Row],[Date]]),2)&TEXT(_xlfn.ISOWEEKNUM(Runhours_Table[[#This Row],[Date]]),"00") -> 2444 | G30: 0 | H30: 0 | I30: =_xlfn.ISOWEEKNUM(Runhours_Table[[#This Row],[Date]])+52*(Runhours_Table[[#This Row],[Year]]-YEAR(DATE(YEAR(TODAY()-WEEKDAY(TODAY()-1)+4),1,1)-MOD((DATE(YEAR(TODAY()-WEEKDAY(TODAY()-1)+4),1,1)-2),7)+(7*IF(MOD((DATE(YEAR(TODAY()-WEEKDAY(TODAY()-1)+4),1,1)-2),7)>3,1,0))+7) )-_xlfn.ISOWEEKNUM(NOW()) -> -45 | K30: 3 | L30: =COUNTIFS(Error_Log!E:E,"="&TEXT(K30,"00"),Error_Log!U:U,"Y",Error_Log!A:A,"CR51") -> 0 | M30: =COUNTIFS(Error_Log!E:E,"="&TEXT(K30,"00"),Error_Log!A:A,"CR51") -> 1 | N30: =COUNTIFS(Error_Log!E:E,"="&TEXT(K30,"00"),Error_Log!U:U,"Y",Error_Log!A:A,"GY86") -> 0 | O30: =COUNTIFS(Error_Log!E:E,"="&TEXT(K30,"00"),Error_Log!A:A,"GY86") -> 1 | P30: =SUM(L30,N30) -> 0 | Q30: =SUM(M30,O30) -> 2
A31: GY86 | B31: =VLOOKUP(A31,Fleet[],2,FALSE) -> Intel | C31: 45599 | D31: =YEAR(DATE(YEAR(Runhours_Table[[#This Row],[Date]]-WEEKDAY(Runhours_Table[[#This Row],[Date]]-1)+4),1,1)-MOD((DATE(YEAR(Runhours_Table[[#This Row],[Date]]-WEEKDAY(Runhours_Table[[#This Row],[Date]]-1)+4),1,1)-2),7)+(7*IF(MOD((DATE(YEAR(Runhours_Table[[#This Row],[Date]]-WEEKDAY(Runhours_Table[[#This Row],[Date]]-1)+4),1,1)-2),7)>3,1,0))+7) -> 2024 | E31: =_xlfn.ISOWEEKNUM(Runhours_Table[[#This Row],[Date]]) -> 44 | F31: =RIGHT(YEAR(Runhours_Table[[#This Row],[Date]]),2)&TEXT(_xlfn.ISOWEEKNUM(Runhours_Table[[#This Row],[Date]]),"00") -> 2444 | G31: 0 | H31: 0 | I31: =_xlfn.ISOWEEKNUM(Runhours_Table[[#This Row],[Date]])+52*(Runhours_Table[[#This Row],[Year]]-YEAR(DATE(YEAR(TODAY()-WEEKDAY(TODAY()-1)+4),1,1)-MOD((DATE(YEAR(TODAY()-WEEKDAY(TODAY()-1)+4),1,1)-2),7)+(7*IF(MOD((DATE(YEAR(TODAY()-WEEKDAY(TODAY()-1)+4),1,1)-2),7)>3,1,0))+7) )-_xlfn.ISOWEEKNUM(NOW()) -> -45 | K31: 4 | L31: =COUNTIFS(Error_Log!E:E,"="&TEXT(K31,"00"),Error_Log!U:U,"Y",Error_Log!A:A,"CR51") -> 0 | M31: =COUNTIFS(Error_Log!E:E,"="&TEXT(K31,"00"),Error_Log!A:A,"CR51") -> 4 | N31: =COUNTIFS(Error_Log!E:E,"="&TEXT(K31,"00"),Error_Log!U:U,"Y",Error_Log!A:A,"GY86") -> 0 | O31: =COUNTIFS(Error_Log!E:E,"="&TEXT(K31,"00"),Error_Log!A:A,"GY86") -> 7 | P31: =SUM(L31,N31) -> 0 | Q31: =SUM(M31,O31) -> 11
A32: CR51 | B32: =VLOOKUP(A32,Fleet[],2,FALSE) -> Intel | C32: 45600 | D32: =YEAR(DATE(YEAR(Runhours_Table[[#This Row],[Date]]-WEEKDAY(Runhours_Table[[#This Row],[Date]]-1)+4),1,1)-MOD((DATE(YEAR(Runhours_Table[[#This Row],[Date]]-WEEKDAY(Runhours_Table[[#This Row],[Date]]-1)+4),1,1)-2),7)+(7*IF(MOD((DATE(YEAR(Runhours_Table[[#This Row],[Date]]-WEEKDAY(Runhours_Table[[#This Row],[Date]]-1)+4),1,1)-2),7)>3,1,0))+7) -> 2024 | E32: =_xlfn.ISOWEEKNUM(Runhours_Table[[#This Row],[Date]]) -> 45 | F32: =RIGHT(YEAR(Runhours_Table[[#This Row],[Date]]),2)&TEXT(_xlfn.ISOWEEKNUM(Runhours_Table[[#This Row],[Date]]),"00") -> 2445 | G32: 0.9 | H32: 5 | I32: =_xlfn.ISOWEEKNUM(Runhours_Table[[#This Row],[Date]])+52*(Runhours_Table[[#This Row],[Year]]-YEAR(DATE(YEAR(TODAY()-WEEKDAY(TODAY()-1)+4),1,1)-MOD((DATE(YEAR(TODAY()-WEEKDAY(TODAY()-1)+4),1,1)-2),7)+(7*IF(MOD((DATE(YEAR(TODAY()-WEEKDAY(TODAY()-1)+4),1,1)-2),7)>3,1,0))+7) )-_xlfn.ISOWEEKNUM(NOW()) -> -44 | K32: 5 | L32: =COUNTIFS(Error_Log!E:E,"="&TEXT(K32,"00"),Error_Log!U:U,"Y",Error_Log!A:A,"CR51") -> 2 | M32: =COUNTIFS(Error_Log!E:E,"="&TEXT(K32,"00"),Error_Log!A:A,"CR51") -> 5 | N32: =COUNTIFS(Error_Log!E:E,"="&TEXT(K32,"00"),Error_Log!U:U,"Y",Error_Log!A:A,"GY86") -> 4 | O32: =COUNTIFS(Error_Log!E:E,"="&TEXT(K32,"00"),Error_Log!A:A,"GY86") -> 5 | P32: =SUM(L32,N32) -> 6 | Q32: =SUM(M32,O32) -> 10
A33: GY86 | B33: =VLOOKUP(A33,Fleet[],2,FALSE) -> Intel | C33: 45600 | D33: =YEAR(DATE(YEAR(Runhours_Table[[#This Row],[Date]]-WEEKDAY(Runhours_Table[[#This Row],[Date]]-1)+4),1,1)-MOD((DATE(YEAR(Runhours_Table[[#This Row],[Date]]-WEEKDAY(Runhours_Table[[#This Row],[Date]]-1)+4),1,1)-2),7)+(7*IF(MOD((DATE(YEAR(Runhours_Table[[#This Row],[Date]]-WEEKDAY(Runhours_Table[[#This Row],[Date]]-1)+4),1,1)-2),7)>3,1,0))+7) -> 2024 | E33: =_xlfn.ISOWEEKNUM(Runhours_Table[[#This Row],[Date]]) -> 45 | F33: =RIGHT(YEAR(Runhours_Table[[#This Row],[Date]]),2)&TEXT(_xlfn.ISOWEEKNUM(Runhours_Table[[#This Row],[Date]]),"00") -> 2445 | G33: 0 | H33: 0 | I33: =_xlfn.ISOWEEKNUM(Runhours_Table[[#This Row],[Date]])+52*(Runhours_Table[[#This Row],[Year]]-YEAR(DATE(YEAR(TODAY()-WEEKDAY(TODAY()-1)+4),1,1)-MOD((DATE(YEAR(TODAY()-WEEKDAY(TODAY()-1)+4),1,1)-2),7)+(7*IF(MOD((DATE(YEAR(TODAY()-WEEKDAY(TODAY()-1)+4),1,1)-2),7)>3,1,0))+7) )-_xlfn.ISOWEEKNUM(NOW()) -> -44 | K33: 6 | L33: =COUNTIFS(Error_Log!E:E,"="&TEXT(K33,"00"),Error_Log!U:U,"Y",Error_Log!A:A,"CR51") -> 1 | M33: =COUNTIFS(Error_Log!E:E,"="&TEXT(K33,"00"),Error_Log!A:A,"CR51") -> 1 | N33: =COUNTIFS(Error_Log!E:E,"="&TEXT(K33,"00"),Error_Log!U:U,"Y",Error_Log!A:A,"GY86") -> 2 | O33: =COUNTIFS(Error_Log!E:E,"="&TEXT(K33,"00"),Error_Log!A:A,"GY86") -> 2 | P33: =SUM(L33,N33) -> 3 | Q33: =SUM(M33,O33) -> 3
A34: CR51 | B34: =VLOOKUP(A34,Fleet[],2,FALSE) -> Intel | C34: 45601 | D34: =YEAR(DATE(YEAR(Runhours_Table[[#This Row],[Date]]-WEEKDAY(Runhours_Table[[#This Row],[Date]]-1)+4),1,1)-MOD((DATE(YEAR(Runhours_Table[[#This Row],[Date]]-WEEKDAY(Runhours_Table[[#This Row],[Date]]-1)+4),1,1)-2),7)+(7*IF(MOD((DATE(YEAR(Runhours_Table[[#This Row],[Date]]-WEEKDAY(Runhours_Table[[#This Row],[Date]]-1)+4),1,1)-2),7)>3,1,0))+7) -> 2024 | E34: =_xlfn.ISOWEEKNUM(Runhours_Table[[#This Row],[Date]]) -> 45 | F34: =RIGHT(YEAR(Runhours_Table[[#This Row],[Date]]),2)&TEXT(_xlfn.ISOWEEKNUM(Runhours_Table[[#This Row],[Date]]),"00") -> 2445 | G34: 1.1 | H34: 16 | I34: =_xlfn.ISOWEEKNUM(Runhours_Table[[#This Row],[Date]])+52*(Runhours_Table[[#This Row],[Year]]-YEAR(DATE(YEAR(TODAY()-WEEKDAY(TODAY()-1)+4),1,1)-MOD((DATE(YEAR(TODAY()-WEEKDAY(TODAY()-1)+4),1,1)-2),7)+(7*IF(MOD((DATE(YEAR(TODAY()-WEEKDAY(TODAY()-1)+4),1,1)-2),7)>3,1,0))+7) )-_xlfn.ISOWEEKNUM(NOW()) -> -44 | K34: 7 | L34: =COUNTIFS(Error_Log!E:E,"="&TEXT(K34,"00"),Error_Log!U:U,"Y",Error_Log!A:A,"CR51") -> 0 | M34: =COUNTIFS(Error_Log!E:E,"="&TEXT(K34,"00"),Error_Log!A:A,"CR51") -> 1 | N34: =COUNTIFS(Error_Log!E:E,"="&TEXT(K34,"00"),Error_Log!U:U,"Y",Error_Log!A:A,"GY86") -> 2 | O34: =COUNTIFS(Error_Log!E:E,"="&TEXT(K34,"00"),Error_Log!A:A,"GY86") -> 2 | P34: =SUM(L34,N34) -> 2 | Q34: =SUM(M34,O34) -> 3
A35: GY86 | B35: =VLOOKUP(A35,Fleet[],2,FALSE) -> Intel | C35: 45601 | D35: =YEAR(DATE(YEAR(Runhours_Table[[#This Row],[Date]]-WEEKDAY(Runhours_Table[[#This Row],[Date]]-1)+4),1,1)-MOD((DATE(YEAR(Runhours_Table[[#This Row],[Date]]-WEEKDAY(Runhours_Table[[#This Row],[Date]]-1)+4),1,1)-2),7)+(7*IF(MOD((DATE(YEAR(Runhours_Table[[#This Row],[Date]]-WEEKDAY(Runhours_Table[[#This Row],[Date]]-1)+4),1,1)-2),7)>3,1,0))+7) -> 2024 | E35: =_xlfn.ISOWEEKNUM(Runhours_Table[[#This Row],[Date]]) -> 45 | F35: =RIGHT(YEAR(Runhours_Table[[#This Row],[Date]]),2)&TEXT(_xlfn.ISOWEEKNUM(Runhours_Table[[#This Row],[Date]]),"00") -> 2445 | G35: 0 | H35: 0 | I35: =_xlfn.ISOWEEKNUM(Runhours_Table[[#This Row],[Date]])+52*(Runhours_Table[[#This Row],[Year]]-YEAR(DATE(YEAR(TODAY()-WEEKDAY(TODAY()-1)+4),1,1)-MOD((DATE(YEAR(TODAY()-WEEKDAY(TODAY()-1)+4),1,1)-2),7)+(7*IF(MOD((DATE(YEAR(TODAY()-WEEKDAY(TODAY()-1)+4),1,1)-2),7)>3,1,0))+7) )-_xlfn.ISOWEEKNUM(NOW()) -> -44 | K35: 8 | L35: =COUNTIFS(Error_Log!E:E,"="&TEXT(K35,"00"),Error_Log!U:U,"Y",Error_Log!A:A,"CR51") -> 0 | M35: =COUNTIFS(Error_Log!E:E,"="&TEXT(K35,"00"),Error_Log!A:A,"CR51") -> 0 | N35: =COUNTIFS(Error_Log!E:E,"="&TEXT(K35,"00"),Error_Log!U:U,"Y",Error_Log!A:A,"GY86") -> 3 | O35: =COUNTIFS(Error_Log!E:E,"="&TEXT(K35,"00"),Error_Log!A:A,"GY86") -> 4 | P35: =SUM(L35,N35) -> 3 | Q35: =SUM(M35,O35) -> 4
A36: CR51 | B36: =VLOOKUP(A36,Fleet[],2,FALSE) -> Intel | C36: 45602 | D36: =YEAR(DATE(YEAR(Runhours_Table[[#This Row],[Date]]-WEEKDAY(Runhours_Table[[#This Row],[Date]]-1)+4),1,1)-MOD((DATE(YEAR(Runhours_Table[[#This Row],[Date]]-WEEKDAY(Runhours_Table[[#This Row],[Date]]-1)+4),1,1)-2),7)+(7*IF(MOD((DATE(YEAR(Runhours_Table[[#This Row],[Date]]-WEEKDAY(Runhours_Table[[#This Row],[Date]]-1)+4),1,1)-2),7)>3,1,0))+7) -> 2024 | E36: =_xlfn.ISOWEEKNUM(Runhours_Table[[#This Row],[Date]]) -> 45 | F36: =RIGHT(YEAR(Runhours_Table[[#This Row],[Date]]),2)&TEXT(_xlfn.ISOWEEKNUM(Runhours_Table[[#This Row],[Date]]),"00") -> 2445 | G36: 0.3 | H36: 11 | I36: =_xlfn.ISOWEEKNUM(Runhours_Table[[#This Row],[Date]])+52*(Runhours_Table[[#This Row],[Year]]-YEAR(DATE(YEAR(TODAY()-WEEKDAY(TODAY()-1)+4),1,1)-MOD((DATE(YEAR(TODAY()-WEEKDAY(TODAY()-1)+4),1,1)-2),7)+(7*IF(MOD((DATE(YEAR(TODAY()-WEEKDAY(TODAY()-1)+4),1,1)-2),7)>3,1,0))+7) )-_xlfn.ISOWEEKNUM(NOW()) -> -44 | K36: 9 | L36: =COUNTIFS(Error_Log!E:E,"="&TEXT(K36,"00"),Error_Log!U:U,"Y",Error_Log!A:A,"CR51") -> 1 | M36: =COUNTIFS(Error_Log!E:E,"="&TEXT(K36,"00"),Error_Log!A:A,"CR51") -> 1 | N36: =COUNTIFS(Error_Log!E:E,"="&TEXT(K36,"00"),Error_Log!U:U,"Y",Error_Log!A:A,"GY86") -> 1 | O36: =COUNTIFS(Error_Log!E:E,"="&TEXT(K36,"00"),Error_Log!A:A,"GY86") -> 1 | P36: =SUM(L36,N36) -> 2 | Q36: =SUM(M36,O36) -> 2
A37: GY86 | B37: =VLOOKUP(A37,Fleet[],2,FALSE) -> Intel | C37: 45602 | D37: =YEAR(DATE(YEAR(Runhours_Table[[#This Row],[Date]]-WEEKDAY(Runhours_Table[[#This Row],[Date]]-1)+4),1,1)-MOD((DATE(YEAR(Runhours_Table[[#This Row],[Date]]-WEEKDAY(Runhours_Table[[#This Row],[Date]]-1)+4),1,1)-2),7)+(7*IF(MOD((DATE(YEAR(Runhours_Table[[#This Row],[Date]]-WEEKDAY(Runhours_Table[[#This Row],[Date]]-1)+4),1,1)-2),7)>3,1,0))+7) -> 2024 | E37: =_xlfn.ISOWEEKNUM(Runhours_Table[[#This Row],[Date]]) -> 45 | F37: =RIGHT(YEAR(Runhours_Table[[#This Row],[Date]]),2)&TEXT(_xlfn.ISOWEEKNUM(Runhours_Table[[#This Row],[Date]]),"00") -> 2445 | G37: 0 | H37: 0 | I37: =_xlfn.ISOWEEKNUM(Runhours_Table[[#This Row],[Date]])+52*(Runhours_Table[[#This Row],[Year]]-YEAR(DATE(YEAR(TODAY()-WEEKDAY(TODAY()-1)+4),1,1)-MOD((DATE(YEAR(TODAY()-WEEKDAY(TODAY()-1)+4),1,1)-2),7)+(7*IF(MOD((DATE(YEAR(TODAY()-WEEKDAY(TODAY()-1)+4),1,1)-2),7)>3,1,0))+7) )-_xlfn.ISOWEEKNUM(NOW()) -> -44 | K37: 10 | L37: =COUNTIFS(Error_Log!E:E,"="&TEXT(K37,"00"),Error_Log!U:U,"Y",Error_Log!A:A,"CR51") -> 3 | M37: =COUNTIFS(Error_Log!E:E,"="&TEXT(K37,"00"),Error_Log!A:A,"CR51") -> 3 | N37: =COUNTIFS(Error_Log!E:E,"="&TEXT(K37,"00"),Error_Log!U:U,"Y",Error_Log!A:A,"GY86") -> 0 | O37: =COUNTIFS(Error_Log!E:E,"="&TEXT(K37,"00"),Error_Log!A:A,"GY86") -> 0 | P37: =SUM(L37,N37) -> 3 | Q37: =SUM(M37,O37) -> 3
A38: CR51 | B38: =VLOOKUP(A38,Fleet[],2,FALSE) -> Intel | C38: 45603 | D38: =YEAR(DATE(YEAR(Runhours_Table[[#This Row],[Date]]-WEEKDAY(Runhours_Table[[#This Row],[Date]]-1)+4),1,1)-MOD((DATE(YEAR(Runhours_Table[[#This Row],[Date]]-WEEKDAY(Runhours_Table[[#This Row],[Date]]-1)+4),1,1)-2),7)+(7*IF(MOD((DATE(YEAR(Runhours_Table[[#This Row],[Date]]-WEEKDAY(Runhours_Table[[#This Row],[Date]]-1)+4),1,1)-2),7)>3,1,0))+7) -> 2024 | E38: =_xlfn.ISOWEEKNUM(Runhours_Table[[#This Row],[Date]]) -> 45 | F38: =RIGHT(YEAR(Runhours_Table[[#This Row],[Date]]),2)&TEXT(_xlfn.ISOWEEKNUM(Runhours_Table[[#This Row],[Date]]),"00") -> 2445 | G38: 2.9 | H38: 16 | I38: =_xlfn.ISOWEEKNUM(Runhours_Table[[#This Row],[Date]])+52*(Runhours_Table[[#This Row],[Year]]-YEAR(DATE(YEAR(TODAY()-WEEKDAY(TODAY()-1)+4),1,1)-MOD((DATE(YEAR(TODAY()-WEEKDAY(TODAY()-1)+4),1,1)-2),7)+(7*IF(MOD((DATE(YEAR(TODAY()-WEEKDAY(TODAY()-1)+4),1,1)-2),7)>3,1,0))+7) )-_xlfn.ISOWEEKNUM(NOW()) -> -44 | K38: 11 | L38: =COUNTIFS(Error_Log!E:E,"="&TEXT(K38,"00"),Error_Log!U:U,"Y",Error_Log!A:A,"CR51") -> 1 | M38: =COUNTIFS(Error_Log!E:E,"="&TEXT(K38,"00"),Error_Log!A:A,"CR51") -> 2 | N38: =COUNTIFS(Error_Log!E:E,"="&TEXT(K38,"00"),Error_Log!U:U,"Y",Error_Log!A:A,"GY86") -> 4 | O38: =COUNTIFS(Error_Log!E:E,"="&TEXT(K38,"00"),Error_Log!A:A,"GY86") -> 6 | P38: =SUM(L38,N38) -> 5 | Q38: =SUM(M38,O38) -> 8
A39: GY86 | B39: =VLOOKUP(A39,Fleet[],2,FALSE) -> Intel | C39: 45603 | D39: =YEAR(DATE(YEAR(Runhours_Table[[#This Row],[Date]]-WEEKDAY(Runhours_Table[[#This Row],[Date]]-1)+4),1,1)-MOD((DATE(YEAR(Runhours_Table[[#This Row],[Date]]-WEEKDAY(Runhours_Table[[#This Row],[Date]]-1)+4),1,1)-2),7)+(7*IF(MOD((DATE(YEAR(Runhours_Table[[#This Row],[Date]]-WEEKDAY(Runhours_Table[[#This Row],[Date]]-1)+4),1,1)-2),7)>3,1,0))+7) -> 2024 | E39: =_xlfn.ISOWEEKNUM(Runhours_Table[[#This Row],[Date]]) -> 45 | F39: =RIGHT(YEAR(Runhours_Table[[#This Row],[Date]]),2)&TEXT(_xlfn.ISOWEEKNUM(Runhours_Table[[#This Row],[Date]]),"00") -> 2445 | G39: 0 | H39: 0 | I39: =_xlfn.ISOWEEKNUM(Runhours_Table[[#This Row],[Date]])+52*(Runhours_Table[[#This Row],[Year]]-YEAR(DATE(YEAR(TODAY()-WEEKDAY(TODAY()-1)+4),1,1)-MOD((DATE(YEAR(TODAY()-WEEKDAY(TODAY()-1)+4),1,1)-2),7)+(7*IF(MOD((DATE(YEAR(TODAY()-WEEKDAY(TODAY()-1)+4),1,1)-2),7)>3,1,0))+7) )-_xlfn.ISOWEEKNUM(NOW()) -> -44 | K39: 12 | L39: =COUNTIFS(Error_Log!E:E,"="&TEXT(K39,"00"),Error_Log!U:U,"Y",Error_Log!A:A,"CR51") -> 2 | M39: =COUNTIFS(Error_Log!E:E,"="&TEXT(K39,"00"),Error_Log!A:A,"CR51") -> 3 | N39: =COUNTIFS(Error_Log!E:E,"="&TEXT(K39,"00"),Error_Log!U:U,"Y",Error_Log!A:A,"GY86") -> 1 | O39: =COUNTIFS(Error_Log!E:E,"="&TEXT(K39,"00"),Error_Log!A:A,"GY86") -> 2 | P39: =SUM(L39,N39) -> 3 | Q39: =SUM(M39,O39) -> 5
A40: CR51 | B40: =VLOOKUP(A40,Fleet[],2,FALSE) -> Intel | C40: 45604 | D40: =YEAR(DATE(YEAR(Runhours_Table[[#This Row],[Date]]-WEEKDAY(Runhours_Table[[#This Row],[Date]]-1)+4),1,1)-MOD((DATE(YEAR(Runhours_Table[[#This Row],[Date]]-WEEKDAY(Runhours_Table[[#This Row],[Date]]-1)+4),1,1)-2),7)+(7*IF(MOD((DATE(YEAR(Runhours_Table[[#This Row],[Date]]-WEEKDAY(Runhours_Table[[#This Row],[Date]]-1)+4),1,1)-2),7)>3,1,0))+7) -> 2024 | E40: =_xlfn.ISOWEEKNUM(Runhours_Table[[#This Row],[Date]]) -> 45 | F40: =RIGHT(YEAR(Runhours_Table[[#This Row],[Date]]),2)&TEXT(_xlfn.ISOWEEKNUM(Runhours_Table[[#This Row],[Date]]),"00") -> 2445 | G40: 0 | H40: 0 | I40: =_xlfn.ISOWEEKNUM(Runhours_Table[[#This Row],[Date]])+52*(Runhours_Table[[#This Row],[Year]]-YEAR(DATE(YEAR(TODAY()-WEEKDAY(TODAY()-1)+4),1,1)-MOD((DATE(YEAR(TODAY()-WEEKDAY(TODAY()-1)+4),1,1)-2),7)+(7*IF(MOD((DATE(YEAR(TODAY()-WEEKDAY(TODAY()-1)+4),1,1)-2),7)>3,1,0))+7) )-_xlfn.ISOWEEKNUM(NOW()) -> -44 | K40: 13 | L40: =COUNTIFS(Error_Log!E:E,"="&TEXT(K40,"00"),Error_Log!U:U,"Y",Error_Log!A:A,"CR51") -> 2 | M40: =COUNTIFS(Error_Log!E:E,"="&TEXT(K40,"00"),Error_Log!A:A,"CR51") -> 2 | N40: =COUNTIFS(Error_Log!E:E,"="&TEXT(K40,"00"),Error_Log!U:U,"Y",Error_Log!A:A,"GY86") -> 1 | O40: =COUNTIFS(Error_Log!E:E,"="&TEXT(K40,"00"),Error_Log!A:A,"GY86") -> 1 | P40: =SUM(L40,N40) -> 3 | Q40: =SUM(M40,O40) -> 3
... A57: GY86 | B57: =VLOOKUP(A57,Fleet[],2,FALSE) -> Intel | C57: 45612 | D57: =YEAR(DATE(YEAR(Runhours_Table[[#This Row],[Date]]-WEEKDAY(Runhours_Table[[#This Row],[Date]]-1)+4),1,1)-MOD((DATE(YEAR(Runhours_Table[[#This Row],[Date]]-WEEKDAY(Runhours_Table[[#This Row],[Date]]-1)+4),1,1)-2),7)+(7*IF(MOD((DATE(YEAR(Runhours_Table[[#This Row],[Date]]-WEEKDAY(Runhours_Table[[#This Row],[Date]]-1)+4),1,1)-2),7)>3,1,0))+7) -> 2024 | E57: =_xlfn.ISOWEEKNUM(Runhours_Table[[#This Row],[Date]]) -> 46 | F57: =RIGHT(YEAR(Runhours_Table[[#This Row],[Date]]),2)&TEXT(_xlfn.ISOWEEKNUM(Runhours_Table[[#This Row],[Date]]),"00") -> 2446 | G57: 0 | H57: 0 | I57: =_xlfn.ISOWEEKNUM(Runhours_Table[[#This Row],[Date]])+52*(Runhours_Table[[#This Row],[Year]]-YEAR(DATE(YEAR(TODAY()-WEEKDAY(TODAY()-1)+4),1,1)-MOD((DATE(YEAR(TODAY()-WEEKDAY(TODAY()-1)+4),1,1)-2),7)+(7*IF(MOD((DATE(YEAR(TODAY()-WEEKDAY(TODAY()-1)+4),1,1)-2),7)>3,1,0))+7) )-_xlfn.ISOWEEKNUM(NOW()) -> -43 | K57: 30 | L57: =COUNTIFS(Error_Log!E:E,"="&TEXT(K57,"00"),Error_Log!U:U,"Y",Error_Log!A:A,"CR51") -> 1 | M57: =COUNTIFS(Error_Log!E:E,"="&TEXT(K57,"00"),Error_Log!A:A,"CR51") -> 1 | N57: =COUNTIFS(Error_Log!E:E,"="&TEXT(K57,"00"),Error_Log!U:U,"Y",Error_Log!A:A,"GY86") -> 2 | O57: =COUNTIFS(Error_Log!E:E,"="&TEXT(K57,"00"),Error_Log!A:A,"GY86") -> 2 | P57: =SUM(L57,N57) -> 3 | Q57: =SUM(M57,O57) -> 3
A58: CR51 | B58: =VLOOKUP(A58,Fleet[],2,FALSE) -> Intel | C58: 45613 | D58: =YEAR(DATE(YEAR(Runhours_Table[[#This Row],[Date]]-WEEKDAY(Runhours_Table[[#This Row],[Date]]-1)+4),1,1)-MOD((DATE(YEAR(Runhours_Table[[#This Row],[Date]]-WEEKDAY(Runhours_Table[[#This Row],[Date]]-1)+4),1,1)-2),7)+(7*IF(MOD((DATE(YEAR(Runhours_Table[[#This Row],[Date]]-WEEKDAY(Runhours_Table[[#This Row],[Date]]-1)+4),1,1)-2),7)>3,1,0))+7) -> 2024 | E58: =_xlfn.ISOWEEKNUM(Runhours_Table[[#This Row],[Date]]) -> 46 | F58: =RIGHT(YEAR(Runhours_Table[[#This Row],[Date]]),2)&TEXT(_xlfn.ISOWEEKNUM(Runhours_Table[[#This Row],[Date]]),"00") -> 2446 | G58: 1.2 | H58: 3 | I58: =_xlfn.ISOWEEKNUM(Runhours_Table[[#This Row],[Date]])+52*(Runhours_Table[[#This Row],[Year]]-YEAR(DATE(YEAR(TODAY()-WEEKDAY(TODAY()-1)+4),1,1)-MOD((DATE(YEAR(TODAY()-WEEKDAY(TODAY()-1)+4),1,1)-2),7)+(7*IF(MOD((DATE(YEAR(TODAY()-WEEKDAY(TODAY()-1)+4),1,1)-2),7)>3,1,0))+7) )-_xlfn.ISOWEEKNUM(NOW()) -> -43
A59: GY86 | B59: =VLOOKUP(A59,Fleet[],2,FALSE) -> Intel | C59: 45613 | D59: =YEAR(DATE(YEAR(Runhours_Table[[#This Row],[Date]]-WEEKDAY(Runhours_Table[[#This Row],[Date]]-1)+4),1,1)-MOD((DATE(YEAR(Runhours_Table[[#This Row],[Date]]-WEEKDAY(Runhours_Table[[#This Row],[Date]]-1)+4),1,1)-2),7)+(7*IF(MOD((DATE(YEAR(Runhours_Table[[#This Row],[Date]]-WEEKDAY(Runhours_Table[[#This Row],[Date]]-1)+4),1,1)-2),7)>3,1,0))+7) -> 2024 | E59: =_xlfn.ISOWEEKNUM(Runhours_Table[[#This Row],[Date]]) -> 46 | F59: =RIGHT(YEAR(Runhours_Table[[#This Row],[Date]]),2)&TEXT(_xlfn.ISOWEEKNUM(Runhours_Table[[#This Row],[Date]]),"00") -> 2446 | G59: 0 | H59: 0 | I59: =_xlfn.ISOWEEKNUM(Runhours_Table[[#This Row],[Date]])+52*(Runhours_Table[[#This Row],[Year]]-YEAR(DATE(YEAR(TODAY()-WEEKDAY(TODAY()-1)+4),1,1)-MOD((DATE(YEAR(TODAY()-WEEKDAY(TODAY()-1)+4),1,1)-2),7)+(7*IF(MOD((DATE(YEAR(TODAY()-WEEKDAY(TODAY()-1)+4),1,1)-2),7)>3,1,0))+7) )-_xlfn.ISOWEEKNUM(NOW()) -> -43
A60: CR51 | B60: =VLOOKUP(A60,Fleet[],2,FALSE) -> Intel | C60: 45614 | D60: =YEAR(DATE(YEAR(Runhours_Table[[#This Row],[Date]]-WEEKDAY(Runhours_Table[[#This Row],[Date]]-1)+4),1,1)-MOD((DATE(YEAR(Runhours_Table[[#This Row],[Date]]-WEEKDAY(Runhours_Table[[#This Row],[Date]]-1)+4),1,1)-2),7)+(7*IF(MOD((DATE(YEAR(Runhours_Table[[#This Row],[Date]]-WEEKDAY(Runhours_Table[[#This Row],[Date]]-1)+4),1,1)-2),7)>3,1,0))+7) -> 2024 | E60: =_xlfn.ISOWEEKNUM(Runhours_Table[[#This Row],[Date]]) -> 47 | F60: =RIGHT(YEAR(Runhours_Table[[#This Row],[Date]]),2)&TEXT(_xlfn.ISOWEEKNUM(Runhours_Table[[#This Row],[Date]]),"00") -> 2447 | G60: 0 | H60: 24 | I60: =_xlfn.ISOWEEKNUM(Runhours_Table[[#This Row],[Date]])+52*(Runhours_Table[[#This Row],[Year]]-YEAR(DATE(YEAR(TODAY()-WEEKDAY(TODAY()-1)+4),1,1)-MOD((DATE(YEAR(TODAY()-WEEKDAY(TODAY()-1)+4),1,1)-2),7)+(7*IF(MOD((DATE(YEAR(TODAY()-WEEKDAY(TODAY()-1)+4),1,1)-2),7)>3,1,0))+7) )-_xlfn.ISOWEEKNUM(NOW()) -> -42
A61: GY86 | B61: =VLOOKUP(A61,Fleet[],2,FALSE) -> Intel | C61: 45614 | D61: =YEAR(DATE(YEAR(Runhours_Table[[#This Row],[Date]]-WEEKDAY(Runhours_Table[[#This Row],[Date]]-1)+4),1,1)-MOD((DATE(YEAR(Runhours_Table[[#This Row],[Date]]-WEEKDAY(Runhours_Table[[#This Row],[Date]]-1)+4),1,1)-2),7)+(7*IF(MOD((DATE(YEAR(Runhours_Table[[#This Row],[Date]]-WEEKDAY(Runhours_Table[[#This Row],[Date]]-1)+4),1,1)-2),7)>3,1,0))+7) -> 2024 | E61: =_xlfn.ISOWEEKNUM(Runhours_Table[[#This Row],[Date]]) -> 47 | F61: =RIGHT(YEAR(Runhours_Table[[#This Row],[Date]]),2)&TEXT(_xlfn.ISOWEEKNUM(Runhours_Table[[#This Row],[Date]]),"00") -> 2447 | G61: 0 | H61: 0 | I61: =_xlfn.ISOWEEKNUM(Runhours_Table[[#This Row],[Date]])+52*(Runhours_Table[[#This Row],[Year]]-YEAR(DATE(YEAR(TODAY()-WEEKDAY(TODAY()-1)+4),1,1)-MOD((DATE(YEAR(TODAY()-WEEKDAY(TODAY()-1)+4),1,1)-2),7)+(7*IF(MOD((DATE(YEAR(TODAY()-WEEKDAY(TODAY()-1)+4),1,1)-2),7)>3,1,0))+7) )-_xlfn.ISOWEEKNUM(NOW()) -> -42
A62: CR51 | B62: =VLOOKUP(A62,Fleet[],2,FALSE) -> Intel | C62: 45615 | D62: =YEAR(DATE(YEAR(Runhours_Table[[#This Row],[Date]]-WEEKDAY(Runhours_Table[[#This Row],[Date]]-1)+4),1,1)-MOD((DATE(YEAR(Runhours_Table[[#This Row],[Date]]-WEEKDAY(Runhours_Table[[#This Row],[Date]]-1)+4),1,1)-2),7)+(7*IF(MOD((DATE(YEAR(Runhours_Table[[#This Row],[Date]]-WEEKDAY(Runhours_Table[[#This Row],[Date]]-1)+4),1,1)-2),7)>3,1,0))+7) -> 2024 | E62: =_xlfn.ISOWEEKNUM(Runhours_Table[[#This Row],[Date]]) -> 47 | F62: =RIGHT(YEAR(Runhours_Table[[#This Row],[Date]]),2)&TEXT(_xlfn.ISOWEEKNUM(Runhours_Table[[#This Row],[Date]]),"00") -> 2447 | G62: 0 | H62: 24 | I62: =_xlfn.ISOWEEKNUM(Runhours_Table[[#This Row],[Date]])+52*(Runhours_Table[[#This Row],[Year]]-YEAR(DATE(YEAR(TODAY()-WEEKDAY(TODAY()-1)+4),1,1)-MOD((DATE(YEAR(TODAY()-WEEKDAY(TODAY()-1)+4),1,1)-2),7)+(7*IF(MOD((DATE(YEAR(TODAY()-WEEKDAY(TODAY()-1)+4),1,1)-2),7)>3,1,0))+7) )-_xlfn.ISOWEEKNUM(NOW()) -> -42
A63: GY86 | B63: =VLOOKUP(A63,Fleet[],2,FALSE) -> Intel | C63: 45615 | D63: =YEAR(DATE(YEAR(Runhours_Table[[#This Row],[Date]]-WEEKDAY(Runhours_Table[[#This Row],[Date]]-1)+4),1,1)-MOD((DATE(YEAR(Runhours_Table[[#This Row],[Date]]-WEEKDAY(Runhours_Table[[#This Row],[Date]]-1)+4),1,1)-2),7)+(7*IF(MOD((DATE(YEAR(Runhours_Table[[#This Row],[Date]]-WEEKDAY(Runhours_Table[[#This Row],[Date]]-1)+4),1,1)-2),7)>3,1,0))+7) -> 2024 | E63: =_xlfn.ISOWEEKNUM(Runhours_Table[[#This Row],[Date]]) -> 47 | F63: =RIGHT(YEAR(Runhours_Table[[#This Row],[Date]]),2)&TEXT(_xlfn.ISOWEEKNUM(Runhours_Table[[#This Row],[Date]]),"00") -> 2447 | G63: 0 | H63: 0 | I63: =_xlfn.ISOWEEKNUM(Runhours_Table[[#This Row],[Date]])+52*(Runhours_Table[[#This Row],[Year]]-YEAR(DATE(YEAR(TODAY()-WEEKDAY(TODAY()-1)+4),1,1)-MOD((DATE(YEAR(TODAY()-WEEKDAY(TODAY()-1)+4),1,1)-2),7)+(7*IF(MOD((DATE(YEAR(TODAY()-WEEKDAY(TODAY()-1)+4),1,1)-2),7)>3,1,0))+7) )-_xlfn.ISOWEEKNUM(NOW()) -> -42
A64: CR51 | B64: =VLOOKUP(A64,Fleet[],2,FALSE) -> Intel | C64: 45616 | D64: =YEAR(DATE(YEAR(Runhours_Table[[#This Row],[Date]]-WEEKDAY(Runhours_Table[[#This Row],[Date]]-1)+4),1,1)-MOD((DATE(YEAR(Runhours_Table[[#This Row],[Date]]-WEEKDAY(Runhours_Table[[#This Row],[Date]]-1)+4),1,1)-2),7)+(7*IF(MOD((DATE(YEAR(Runhours_Table[[#This Row],[Date]]-WEEKDAY(Runhours_Table[[#This Row],[Date]]-1)+4),1,1)-2),7)>3,1,0))+7) -> 2024 | E64: =_xlfn.ISOWEEKNUM(Runhours_Table[[#This Row],[Date]]) -> 47 | F64: =RIGHT(YEAR(Runhours_Table[[#This Row],[Date]]),2)&TEXT(_xlfn.ISOWEEKNUM(Runhours_Table[[#This Row],[Date]]),"00") -> 2447 | G64: 0 | H64: 24 | I64: =_xlfn.ISOWEEKNUM(Runhours_Table[[#This Row],[Date]])+52*(Runhours_Table[[#This Row],[Year]]-YEAR(DATE(YEAR(TODAY()-WEEKDAY(TODAY()-1)+4),1,1)-MOD((DATE(YEAR(TODAY()-WEEKDAY(TODAY()-1)+4),1,1)-2),7)+(7*IF(MOD((DATE(YEAR(TODAY()-WEEKDAY(TODAY()-1)+4),1,1)-2),7)>3,1,0))+7) )-_xlfn.ISOWEEKNUM(NOW()) -> -42
A65: GY86 | B65: =VLOOKUP(A65,Fleet[],2,FALSE) -> Intel | C65: 45616 | D65: =YEAR(DATE(YEAR(Runhours_Table[[#This Row],[Date]]-WEEKDAY(Runhours_Table[[#This Row],[Date]]-1)+4),1,1)-MOD((DATE(YEAR(Runhours_Table[[#This Row],[Date]]-WEEKDAY(Runhours_Table[[#This Row],[Date]]-1)+4),1,1)-2),7)+(7*IF(MOD((DATE(YEAR(Runhours_Table[[#This Row],[Date]]-WEEKDAY(Runhours_Table[[#This Row],[Date]]-1)+4),1,1)-2),7)>3,1,0))+7) -> 2024 | E65: =_xlfn.ISOWEEKNUM(Runhours_Table[[#This Row],[Date]]) -> 47 | F65: =RIGHT(YEAR(Runhours_Table[[#This Row],[Date]]),2)&TEXT(_xlfn.ISOWEEKNUM(Runhours_Table[[#This Row],[Date]]),"00") -> 2447 | G65: 0 | H65: 0 | I65: =_xlfn.ISOWEEKNUM(Runhours_Table[[#This Row],[Date]])+52*(Runhours_Table[[#This Row],[Year]]-YEAR(DATE(YEAR(TODAY()-WEEKDAY(TODAY()-1)+4),1,1)-MOD((DATE(YEAR(TODAY()-WEEKDAY(TODAY()-1)+4),1,1)-2),7)+(7*IF(MOD((DATE(YEAR(TODAY()-WEEKDAY(TODAY()-1)+4),1,1)-2),7)>3,1,0))+7) )-_xlfn.ISOWEEKNUM(NOW()) -> -42
A66: CR51 | B66: =VLOOKUP(A66,Fleet[],2,FALSE) -> Intel | C66: 45617 | D66: =YEAR(DATE(YEAR(Runhours_Table[[#This Row],[Date]]-WEEKDAY(Runhours_Table[[#This Row],[Date]]-1)+4),1,1)-MOD((DATE(YEAR(Runhours_Table[[#This Row],[Date]]-WEEKDAY(Runhours_Table[[#This Row],[Date]]-1)+4),1,1)-2),7)+(7*IF(MOD((DATE(YEAR(Runhours_Table[[#This Row],[Date]]-WEEKDAY(Runhours_Table[[#This Row],[Date]]-1)+4),1,1)-2),7)>3,1,0))+7) -> 2024 | E66: =_xlfn.ISOWEEKNUM(Runhours_Table[[#This Row],[Date]]) -> 47 | F66: =RIGHT(YEAR(Runhours_Table[[#This Row],[Date]]),2)&TEXT(_xlfn.ISOWEEKNUM(Runhours_Table[[#This Row],[Date]]),"00") -> 2447 | G66: 4.4 | H66: 24 | I66: =_xlfn.ISOWEEKNUM(Runhours_Table[[#This Row],[Date]])+52*(Runhours_Table[[#This Row],[Year]]-YEAR(DATE(YEAR(TODAY()-WEEKDAY(TODAY()-1)+4),1,1)-MOD((DATE(YEAR(TODAY()-WEEKDAY(TODAY()-1)+4),1,1)-2),7)+(7*IF(MOD((DATE(YEAR(TODAY()-WEEKDAY(TODAY()-1)+4),1,1)-2),7)>3,1,0))+7) )-_xlfn.ISOWEEKNUM(NOW()) -> -42
A67: GY86 | B67: =VLOOKUP(A67,Fleet[],2,FALSE) -> Intel | C67: 45617 | D67: =YEAR(DATE(YEAR(Runhours_Table[[#This Row],[Date]]-WEEKDAY(Runhours_Table[[#This Row],[Date]]-1)+4),1,1)-MOD((DATE(YEAR(Runhours_Table[[#This Row],[Date]]-WEEKDAY(Runhours_Table[[#This Row],[Date]]-1)+4),1,1)-2),7)+(7*IF(MOD((DATE(YEAR(Runhours_Table[[#This Row],[Date]]-WEEKDAY(Runhours_Table[[#This Row],[Date]]-1)+4),1,1)-2),7)>3,1,0))+7) -> 2024 | E67: =_xlfn.ISOWEEKNUM(Runhours_Table[[#This Row],[Date]]) -> 47 | F67: =RIGHT(YEAR(Runhours_Table[[#This Row],[Date]]),2)&TEXT(_xlfn.ISOWEEKNUM(Runhours_Table[[#This Row],[Date]]),"00") -> 2447 | G67: 0 | H67: 0 | I67: =_xlfn.ISOWEEKNUM(Runhours_Table[[#This Row],[Date]])+52*(Runhours_Table[[#This Row],[Year]]-YEAR(DATE(YEAR(TODAY()-WEEKDAY(TODAY()-1)+4),1,1)-MOD((DATE(YEAR(TODAY()-WEEKDAY(TODAY()-1)+4),1,1)-2),7)+(7*IF(MOD((DATE(YEAR(TODAY()-WEEKDAY(TODAY()-1)+4),1,1)-2),7)>3,1,0))+7) )-_xlfn.ISOWEEKNUM(NOW()) -> -42
A68: CR51 | B68: =VLOOKUP(A68,Fleet[],2,FALSE) -> Intel | C68: 45618 | D68: =YEAR(DATE(YEAR(Runhours_Table[[#This Row],[Date]]-WEEKDAY(Runhours_Table[[#This Row],[Date]]-1)+4),1,1)-MOD((DATE(YEAR(Runhours_Table[[#This Row],[Date]]-WEEKDAY(Runhours_Table[[#This Row],[Date]]-1)+4),1,1)-2),7)+(7*IF(MOD((DATE(YEAR(Runhours_Table[[#This Row],[Date]]-WEEKDAY(Runhours_Table[[#This Row],[Date]]-1)+4),1,1)-2),7)>3,1,0))+7) -> 2024 | E68: =_xlfn.ISOWEEKNUM(Runhours_Table[[#This Row],[Date]]) -> 47 | F68: =RIGHT(YEAR(Runhours_Table[[#This Row],[Date]]),2)&TEXT(_xlfn.ISOWEEKNUM(Runhours_Table[[#This Row],[Date]]),"00") -> 2447 | G68: 1 | H68: 3 | I68: =_xlfn.ISOWEEKNUM(Runhours_Table[[#This Row],[Date]])+52*(Runhours_Table[[#This Row],[Year]]-YEAR(DATE(YEAR(TODAY()-WEEKDAY(TODAY()-1)+4),1,1)-MOD((DATE(YEAR(TODAY()-WEEKDAY(TODAY()-1)+4),1,1)-2),7)+(7*IF(MOD((DATE(YEAR(TODAY()-WEEKDAY(TODAY()-1)+4),1,1)-2),7)>3,1,0))+7) )-_xlfn.ISOWEEKNUM(NOW()) -> -42
A69: GY86 | B69: =VLOOKUP(A69,Fleet[],2,FALSE) -> Intel | C69: 45618 | D69: =YEAR(DATE(YEAR(Runhours_Table[[#This Row],[Date]]-WEEKDAY(Runhours_Table[[#This Row],[Date]]-1)+4),1,1)-MOD((DATE(YEAR(Runhours_Table[[#This Row],[Date]]-WEEKDAY(Runhours_Table[[#This Row],[Date]]-1)+4),1,1)-2),7)+(7*IF(MOD((DATE(YEAR(Runhours_Table[[#This Row],[Date]]-WEEKDAY(Runhours_Table[[#This Row],[Date]]-1)+4),1,1)-2),7)>3,1,0))+7) -> 2024 | E69: =_xlfn.ISOWEEKNUM(Runhours_Table[[#This Row],[Date]]) -> 47 | F69: =RIGHT(YEAR(Runhours_Table[[#This Row],[Date]]),2)&TEXT(_xlfn.ISOWEEKNUM(Runhours_Table[[#This Row],[Date]]),"00") -> 2447 | G69: 0 | H69: 0 | I69: =_xlfn.ISOWEEKNUM(Runhours_Table[[#This Row],[Date]])+52*(Runhours_Table[[#This Row],[Year]]-YEAR(DATE(YEAR(TODAY()-WEEKDAY(TODAY()-1)+4),1,1)-MOD((DATE(YEAR(TODAY()-WEEKDAY(TODAY()-1)+4),1,1)-2),7)+(7*IF(MOD((DATE(YEAR(TODAY()-WEEKDAY(TODAY()-1)+4),1,1)-2),7)>3,1,0))+7) )-_xlfn.ISOWEEKNUM(NOW()) -> -42
... A219: GY86 | B219: =VLOOKUP(A219,Fleet[],2,FALSE) -> Intel | C219: 45693 | D219: =YEAR(DATE(YEAR(Runhours_Table[[#This Row],[Date]]-WEEKDAY(Runhours_Table[[#This Row],[Date]]-1)+4),1,1)-MOD((DATE(YEAR(Runhours_Table[[#This Row],[Date]]-WEEKDAY(Runhours_Table[[#This Row],[Date]]-1)+4),1,1)-2),7)+(7*IF(MOD((DATE(YEAR(Runhours_Table[[#This Row],[Date]]-WEEKDAY(Runhours_Table[[#This Row],[Date]]-1)+4),1,1)-2),7)>3,1,0))+7) -> 2025 | E219: =_xlfn.ISOWEEKNUM(Runhours_Table[[#This Row],[Date]]) -> 6 | F219: =RIGHT(YEAR(Runhours_Table[[#This Row],[Date]]),2)&TEXT(_xlfn.ISOWEEKNUM(Runhours_Table[[#This Row],[Date]]),"00") -> 2506 | G219: 11.312222 | H219: 16.783333 | I219: =_xlfn.ISOWEEKNUM(Runhours_Table[[#This Row],[Date]])+52*(Runhours_Table[[#This Row],[Year]]-YEAR(DATE(YEAR(TODAY()-WEEKDAY(TODAY()-1)+4),1,1)-MOD((DATE(YEAR(TODAY()-WEEKDAY(TODAY()-1)+4),1,1)-2),7)+(7*IF(MOD((DATE(YEAR(TODAY()-WEEKDAY(TODAY()-1)+4),1,1)-2),7)>3,1,0))+7) )-_xlfn.ISOWEEKNUM(NOW()) -> -31
A220: CR51 | B220: =VLOOKUP(A220,Fleet[],2,FALSE) -> Intel | C220: 45694 | D220: =YEAR(DATE(YEAR(Runhours_Table[[#This Row],[Date]]-WEEKDAY(Runhours_Table[[#This Row],[Date]]-1)+4),1,1)-MOD((DATE(YEAR(Runhours_Table[[#This Row],[Date]]-WEEKDAY(Runhours_Table[[#This Row],[Date]]-1)+4),1,1)-2),7)+(7*IF(MOD((DATE(YEAR(Runhours_Table[[#This Row],[Date]]-WEEKDAY(Runhours_Table[[#This Row],[Date]]-1)+4),1,1)-2),7)>3,1,0))+7) -> 2025 | E220: =_xlfn.ISOWEEKNUM(Runhours_Table[[#This Row],[Date]]) -> 6 | F220: =RIGHT(YEAR(Runhours_Table[[#This Row],[Date]]),2)&TEXT(_xlfn.ISOWEEKNUM(Runhours_Table[[#This Row],[Date]]),"00") -> 2506 | I220: =_xlfn.ISOWEEKNUM(Runhours_Table[[#This Row],[Date]])+52*(Runhours_Table[[#This Row],[Year]]-YEAR(DATE(YEAR(TODAY()-WEEKDAY(TODAY()-1)+4),1,1)-MOD((DATE(YEAR(TODAY()-WEEKDAY(TODAY()-1)+4),1,1)-2),7)+(7*IF(MOD((DATE(YEAR(TODAY()-WEEKDAY(TODAY()-1)+4),1,1)-2),7)>3,1,0))+7) )-_xlfn.ISOWEEKNUM(NOW()) -> -31
A221: GY86 | B221: =VLOOKUP(A221,Fleet[],2,FALSE) -> Intel | C221: 45694 | D221: =YEAR(DATE(YEAR(Runhours_Table[[#This Row],[Date]]-WEEKDAY(Runhours_Table[[#This Row],[Date]]-1)+4),1,1)-MOD((DATE(YEAR(Runhours_Table[[#This Row],[Date]]-WEEKDAY(Runhours_Table[[#This Row],[Date]]-1)+4),1,1)-2),7)+(7*IF(MOD((DATE(YEAR(Runhours_Table[[#This Row],[Date]]-WEEKDAY(Runhours_Table[[#This Row],[Date]]-1)+4),1,1)-2),7)>3,1,0))+7) -> 2025 | E221: =_xlfn.ISOWEEKNUM(Runhours_Table[[#This Row],[Date]]) -> 6 | F221: =RIGHT(YEAR(Runhours_Table[[#This Row],[Date]]),2)&TEXT(_xlfn.ISOWEEKNUM(Runhours_Table[[#This Row],[Date]]),"00") -> 2506 | G221: 16.038889 | H221: 22.866667 | I221: =_xlfn.ISOWEEKNUM(Runhours_Table[[#This Row],[Date]])+52*(Runhours_Table[[#This Row],[Year]]-YEAR(DATE(YEAR(TODAY()-WEEKDAY(TODAY()-1)+4),1,1)-MOD((DATE(YEAR(TODAY()-WEEKDAY(TODAY()-1)+4),1,1)-2),7)+(7*IF(MOD((DATE(YEAR(TODAY()-WEEKDAY(TODAY()-1)+4),1,1)-2),7)>3,1,0))+7) )-_xlfn.ISOWEEKNUM(NOW()) -> -31
A222: CR51 | B222: =VLOOKUP(A222,Fleet[],2,FALSE) -> Intel | C222: 45695 | D222: =YEAR(DATE(YEAR(Runhours_Table[[#This Row],[Date]]-WEEKDAY(Runhours_Table[[#This Row],[Date]]-1)+4),1,1)-MOD((DATE(YEAR(Runhours_Table[[#This Row],[Date]]-WEEKDAY(Runhours_Table[[#This Row],[Date]]-1)+4),1,1)-2),7)+(7*IF(MOD((DATE(YEAR(Runhours_Table[[#This Row],[Date]]-WEEKDAY(Runhours_Table[[#This Row],[Date]]-1)+4),1,1)-2),7)>3,1,0))+7) -> 2025 | E222: =_xlfn.ISOWEEKNUM(Runhours_Table[[#This Row],[Date]]) -> 6 | F222: =RIGHT(YEAR(Runhours_Table[[#This Row],[Date]]),2)&TEXT(_xlfn.ISOWEEKNUM(Runhours_Table[[#This Row],[Date]]),"00") -> 2506 | H222: 0 | I222: =_xlfn.ISOWEEKNUM(Runhours_Table[[#This Row],[Date]])+52*(Runhours_Table[[#This Row],[Year]]-YEAR(DATE(YEAR(TODAY()-WEEKDAY(TODAY()-1)+4),1,1)-MOD((DATE(YEAR(TODAY()-WEEKDAY(TODAY()-1)+4),1,1)-2),7)+(7*IF(MOD((DATE(YEAR(TODAY()-WEEKDAY(TODAY()-1)+4),1,1)-2),7)>3,1,0))+7) )-_xlfn.ISOWEEKNUM(NOW()) -> -31
A223: GY86 | B223: =VLOOKUP(A223,Fleet[],2,FALSE) -> Intel | C223: 45695 | D223: =YEAR(DATE(YEAR(Runhours_Table[[#This Row],[Date]]-WEEKDAY(Runhours_Table[[#This Row],[Date]]-1)+4),1,1)-MOD((DATE(YEAR(Runhours_Table[[#This Row],[Date]]-WEEKDAY(Runhours_Table[[#This Row],[Date]]-1)+4),1,1)-2),7)+(7*IF(MOD((DATE(YEAR(Runhours_Table[[#This Row],[Date]]-WEEKDAY(Runhours_Table[[#This Row],[Date]]-1)+4),1,1)-2),7)>3,1,0))+7) -> 2025 | E223: =_xlfn.ISOWEEKNUM(Runhours_Table[[#This Row],[Date]]) -> 6 | F223: =RIGHT(YEAR(Runhours_Table[[#This Row],[Date]]),2)&TEXT(_xlfn.ISOWEEKNUM(Runhours_Table[[#This Row],[Date]]),"00") -> 2506 | G223: 19.961111 | H223: 22.833333 | I223: =_xlfn.ISOWEEKNUM(Runhours_Table[[#This Row],[Date]])+52*(Runhours_Table[[#This Row],[Year]]-YEAR(DATE(YEAR(TODAY()-WEEKDAY(TODAY()-1)+4),1,1)-MOD((DATE(YEAR(TODAY()-WEEKDAY(TODAY()-1)+4),1,1)-2),7)+(7*IF(MOD((DATE(YEAR(TODAY()-WEEKDAY(TODAY()-1)+4),1,1)-2),7)>3,1,0))+7) )-_xlfn.ISOWEEKNUM(NOW()) -> -31
A224: CR51 | B224: =VLOOKUP(A224,Fleet[],2,FALSE) -> Intel | C224: 45696 | D224: =YEAR(DATE(YEAR(Runhours_Table[[#This Row],[Date]]-WEEKDAY(Runhours_Table[[#This Row],[Date]]-1)+4),1,1)-MOD((DATE(YEAR(Runhours_Table[[#This Row],[Date]]-WEEKDAY(Runhours_Table[[#This Row],[Date]]-1)+4),1,1)-2),7)+(7*IF(MOD((DATE(YEAR(Runhours_Table[[#This Row],[Date]]-WEEKDAY(Runhours_Table[[#This Row],[Date]]-1)+4),1,1)-2),7)>3,1,0))+7) -> 2025 | E224: =_xlfn.ISOWEEKNUM(Runhours_Table[[#This Row],[Date]]) -> 6 | F224: =RIGHT(YEAR(Runhours_Table[[#This Row],[Date]]),2)&TEXT(_xlfn.ISOWEEKNUM(Runhours_Table[[#This Row],[Date]]),"00") -> 2506 | H224: 0 | I224: =_xlfn.ISOWEEKNUM(Runhours_Table[[#This Row],[Date]])+52*(Runhours_Table[[#This Row],[Year]]-YEAR(DATE(YEAR(TODAY()-WEEKDAY(TODAY()-1)+4),1,1)-MOD((DATE(YEAR(TODAY()-WEEKDAY(TODAY()-1)+4),1,1)-2),7)+(7*IF(MOD((DATE(YEAR(TODAY()-WEEKDAY(TODAY()-1)+4),1,1)-2),7)>3,1,0))+7) )-_xlfn.ISOWEEKNUM(NOW()) -> -31
A225: GY86 | B225: =VLOOKUP(A225,Fleet[],2,FALSE) -> Intel | C225: 45696 | D225: =YEAR(DATE(YEAR(Runhours_Table[[#This Row],[Date]]-WEEKDAY(Runhours_Table[[#This Row],[Date]]-1)+4),1,1)-MOD((DATE(YEAR(Runhours_Table[[#This Row],[Date]]-WEEKDAY(Runhours_Table[[#This Row],[Date]]-1)+4),1,1)-2),7)+(7*IF(MOD((DATE(YEAR(Runhours_Table[[#This Row],[Date]]-WEEKDAY(Runhours_Table[[#This Row],[Date]]-1)+4),1,1)-2),7)>3,1,0))+7) -> 2025 | E225: =_xlfn.ISOWEEKNUM(Runhours_Table[[#This Row],[Date]]) -> 6 | F225: =RIGHT(YEAR(Runhours_Table[[#This Row],[Date]]),2)&TEXT(_xlfn.ISOWEEKNUM(Runhours_Table[[#This Row],[Date]]),"00") -> 2506 | G225: 11.675833 | H225: 22.25 | I225: =_xlfn.ISOWEEKNUM(Runhours_Table[[#This Row],[Date]])+52*(Runhours_Table[[#This Row],[Year]]-YEAR(DATE(YEAR(TODAY()-WEEKDAY(TODAY()-1)+4),1,1)-MOD((DATE(YEAR(TODAY()-WEEKDAY(TODAY()-1)+4),1,1)-2),7)+(7*IF(MOD((DATE(YEAR(TODAY()-WEEKDAY(TODAY()-1)+4),1,1)-2),7)>3,1,0))+7) )-_xlfn.ISOWEEKNUM(NOW()) -> -31
A226: CR51 | B226: =VLOOKUP(A226,Fleet[],2,FALSE) -> Intel | C226: 45697 | D226: =YEAR(DATE(YEAR(Runhours_Table[[#This Row],[Date]]-WEEKDAY(Runhours_Table[[#This Row],[Date]]-1)+4),1,1)-MOD((DATE(YEAR(Runhours_Table[[#This Row],[Date]]-WEEKDAY(Runhours_Table[[#This Row],[Date]]-1)+4),1,1)-2),7)+(7*IF(MOD((DATE(YEAR(Runhours_Table[[#This Row],[Date]]-WEEKDAY(Runhours_Table[[#This Row],[Date]]-1)+4),1,1)-2),7)>3,1,0))+7) -> 2025 | E226: =_xlfn.ISOWEEKNUM(Runhours_Table[[#This Row],[Date]]) -> 6 | F226: =RIGHT(YEAR(Runhours_Table[[#This Row],[Date]]),2)&TEXT(_xlfn.ISOWEEKNUM(Runhours_Table[[#This Row],[Date]]),"00") -> 2506 | H226: 0 | I226: =_xlfn.ISOWEEKNUM(Runhours_Table[[#This Row],[Date]])+52*(Runhours_Table[[#This Row],[Year]]-YEAR(DATE(YEAR(TODAY()-WEEKDAY(TODAY()-1)+4),1,1)-MOD((DATE(YEAR(TODAY()-WEEKDAY(TODAY()-1)+4),1,1)-2),7)+(7*IF(MOD((DATE(YEAR(TODAY()-WEEKDAY(TODAY()-1)+4),1,1)-2),7)>3,1,0))+7) )-_xlfn.ISOWEEKNUM(NOW()) -> -31
A227: GY86 | B227: =VLOOKUP(A227,Fleet[],2,FALSE) -> Intel | C227: 45697 | D227: =YEAR(DATE(YEAR(Runhours_Table[[#This Row],[Date]]-WEEKDAY(Runhours_Table[[#This Row],[Date]]-1)+4),1,1)-MOD((DATE(YEAR(Runhours_Table[[#This Row],[Date]]-WEEKDAY(Runhours_Table[[#This Row],[Date]]-1)+4),1,1)-2),7)+(7*IF(MOD((DATE(YEAR(Runhours_Table[[#This Row],[Date]]-WEEKDAY(Runhours_Table[[#This Row],[Date]]-1)+4),1,1)-2),7)>3,1,0))+7) -> 2025 | E227: =_xlfn.ISOWEEKNUM(Runhours_Table[[#This Row],[Date]]) -> 6 | F227: =RIGHT(YEAR(Runhours_Table[[#This Row],[Date]]),2)&TEXT(_xlfn.ISOWEEKNUM(Runhours_Table[[#This Row],[Date]]),"00") -> 2506 | G227: 18.633333 | H227: 23 | I227: =_xlfn.ISOWEEKNUM(Runhours_Table[[#This Row],[Date]])+52*(Runhours_Table[[#This Row],[Year]]-YEAR(DATE(YEAR(TODAY()-WEEKDAY(TODAY()-1)+4),1,1)-MOD((DATE(YEAR(TODAY()-WEEKDAY(TODAY()-1)+4),1,1)-2),7)+(7*IF(MOD((DATE(YEAR(TODAY()-WEEKDAY(TODAY()-1)+4),1,1)-2),7)>3,1,0))+7) )-_xlfn.ISOWEEKNUM(NOW()) -> -31
A228: CR51 | B228: =VLOOKUP(A228,Fleet[],2,FALSE) -> Intel | C228: 45698 | D228: =YEAR(DATE(YEAR(Runhours_Table[[#This Row],[Date]]-WEEKDAY(Runhours_Table[[#This Row],[Date]]-1)+4),1,1)-MOD((DATE(YEAR(Runhours_Table[[#This Row],[Date]]-WEEKDAY(Runhours_Table[[#This Row],[Date]]-1)+4),1,1)-2),7)+(7*IF(MOD((DATE(YEAR(Runhours_Table[[#This Row],[Date]]-WEEKDAY(Runhours_Table[[#This Row],[Date]]-1)+4),1,1)-2),7)>3,1,0))+7) -> 2025 | E228: =_xlfn.ISOWEEKNUM(Runhours_Table[[#This Row],[Date]]) -> 7 | F228: =RIGHT(YEAR(Runhours_Table[[#This Row],[Date]]),2)&TEXT(_xlfn.ISOWEEKNUM(Runhours_Table[[#This Row],[Date]]),"00") -> 2507 | G228: 2.89 | H228: 12.166667 | I228: =_xlfn.ISOWEEKNUM(Runhours_Table[[#This Row],[Date]])+52*(Runhours_Table[[#This Row],[Year]]-YEAR(DATE(YEAR(TODAY()-WEEKDAY(TODAY()-1)+4),1,1)-MOD((DATE(YEAR(TODAY()-WEEKDAY(TODAY()-1)+4),1,1)-2),7)+(7*IF(MOD((DATE(YEAR(TODAY()-WEEKDAY(TODAY()-1)+4),1,1)-2),7)>3,1,0))+7) )-_xlfn.ISOWEEKNUM(NOW()) -> -30
A229: GY86 | B229: =VLOOKUP(A229,Fleet[],2,FALSE) -> Intel | C229: 45698 | D229: =YEAR(DATE(YEAR(Runhours_Table[[#This Row],[Date]]-WEEKDAY(Runhours_Table[[#This Row],[Date]]-1)+4),1,1)-MOD((DATE(YEAR(Runhours_Table[[#This Row],[Date]]-WEEKDAY(Runhours_Table[[#This Row],[Date]]-1)+4),1,1)-2),7)+(7*IF(MOD((DATE(YEAR(Runhours_Table[[#This Row],[Date]]-WEEKDAY(Runhours_Table[[#This Row],[Date]]-1)+4),1,1)-2),7)>3,1,0))+7) -> 2025 | E229: =_xlfn.ISOWEEKNUM(Runhours_Table[[#This Row],[Date]]) -> 7 | F229: =RIGHT(YEAR(Runhours_Table[[#This Row],[Date]]),2)&TEXT(_xlfn.ISOWEEKNUM(Runhours_Table[[#This Row],[Date]]),"00") -> 2507 | G229: 11.407778 | H229: 15 | I229: =_xlfn.ISOWEEKNUM(Runhours_Table[[#This Row],[Date]])+52*(Runhours_Table[[#This Row],[Year]]-YEAR(DATE(YEAR(TODAY()-WEEKDAY(TODAY()-1)+4),1,1)-MOD((DATE(YEAR(TODAY()-WEEKDAY(TODAY()-1)+4),1,1)-2),7)+(7*IF(MOD((DATE(YEAR(TODAY()-WEEKDAY(TODAY()-1)+4),1,1)-2),7)>3,1,0))+7) )-_xlfn.ISOWEEKNUM(NOW()) -> -30
A230: CR51 | B230: =VLOOKUP(A230,Fleet[],2,FALSE) -> Intel | C230: 45699 | D230: =YEAR(DATE(YEAR(Runhours_Table[[#This Row],[Date]]-WEEKDAY(Runhours_Table[[#This Row],[Date]]-1)+4),1,1)-MOD((DATE(YEAR(Runhours_Table[[#This Row],[Date]]-WEEKDAY(Runhours_Table[[#This Row],[Date]]-1)+4),1,1)-2),7)+(7*IF(MOD((DATE(YEAR(Runhours_Table[[#This Row],[Date]]-WEEKDAY(Runhours_Table[[#This Row],[Date]]-1)+4),1,1)-2),7)>3,1,0))+7) -> 2025 | E230: =_xlfn.ISOWEEKNUM(Runhours_Table[[#This Row],[Date]]) -> 7 | F230: =RIGHT(YEAR(Runhours_Table[[#This Row],[Date]]),2)&TEXT(_xlfn.ISOWEEKNUM(Runhours_Table[[#This Row],[Date]]),"00") -> 2507 | G230: 7.511944 | H230: 14.616666 | I230: =_xlfn.ISOWEEKNUM(Runhours_Table[[#This Row],[Date]])+52*(Runhours_Table[[#This Row],[Year]]-YEAR(DATE(YEAR(TODAY()-WEEKDAY(TODAY()-1)+4),1,1)-MOD((DATE(YEAR(TODAY()-WEEKDAY(TODAY()-1)+4),1,1)-2),7)+(7*IF(MOD((DATE(YEAR(TODAY()-WEEKDAY(TODAY()-1)+4),1,1)-2),7)>3,1,0))+7) )-_xlfn.ISOWEEKNUM(NOW()) -> -30
A231: GY86 | B231: =VLOOKUP(A231,Fleet[],2,FALSE) -> Intel | C231: 45699 | D231: =YEAR(DATE(YEAR(Runhours_Table[[#This Row],[Date]]-WEEKDAY(Runhours_Table[[#This Row],[Date]]-1)+4),1,1)-MOD((DATE(YEAR(Runhours_Table[[#This Row],[Date]]-WEEKDAY(Runhours_Table[[#This Row],[Date]]-1)+4),1,1)-2),7)+(7*IF(MOD((DATE(YEAR(Runhours_Table[[#This Row],[Date]]-WEEKDAY(Runhours_Table[[#This Row],[Date]]-1)+4),1,1)-2),7)>3,1,0))+7) -> 2025 | E231: =_xlfn.ISOWEEKNUM(Runhours_Table[[#This Row],[Date]]) -> 7 | F231: =RIGHT(YEAR(Runhours_Table[[#This Row],[Date]]),2)&TEXT(_xlfn.ISOWEEKNUM(Runhours_Table[[#This Row],[Date]]),"00") -> 2507 | G231: 5.505278 | H231: 7.3 | I231: =_xlfn.ISOWEEKNUM(Runhours_Table[[#This Row],[Date]])+52*(Runhours_Table[[#This Row],[Year]]-YEAR(DATE(YEAR(TODAY()-WEEKDAY(TODAY()-1)+4),1,1)-MOD((DATE(YEAR(TODAY()-WEEKDAY(TODAY()-1)+4),1,1)-2),7)+(7*IF(MOD((DATE(YEAR(TODAY()-WEEKDAY(TODAY()-1)+4),1,1)-2),7)>3,1,0))+7) )-_xlfn.ISOWEEKNUM(NOW()) -> -30
A232: CR51 | B232: =VLOOKUP(A232,Fleet[],2,FALSE) -> Intel | C232: 45700 | D232: =YEAR(DATE(YEAR(Runhours_Table[[#This Row],[Date]]-WEEKDAY(Runhours_Table[[#This Row],[Date]]-1)+4),1,1)-MOD((DATE(YEAR(Runhours_Table[[#This Row],[Date]]-WEEKDAY(Runhours_Table[[#This Row],[Date]]-1)+4),1,1)-2),7)+(7*IF(MOD((DATE(YEAR(Runhours_Table[[#This Row],[Date]]-WEEKDAY(Runhours_Table[[#This Row],[Date]]-1)+4),1,1)-2),7)>3,1,0))+7) -> 2025 | E232: =_xlfn.ISOWEEKNUM(Runhours_Table[[#This Row],[Date]]) -> 7 | F232: =RIGHT(YEAR(Runhours_Table[[#This Row],[Date]]),2)&TEXT(_xlfn.ISOWEEKNUM(Runhours_Table[[#This Row],[Date]]),"00") -> 2507 | G232: 13.73 | H232: 22.183333 | I232: =_xlfn.ISOWEEKNUM(Runhours_Table[[#This Row],[Date]])+52*(Runhours_Table[[#This Row],[Year]]-YEAR(DATE(YEAR(TODAY()-WEEKDAY(TODAY()-1)+4),1,1)-MOD((DATE(YEAR(TODAY()-WEEKDAY(TODAY()-1)+4),1,1)-2),7)+(7*IF(MOD((DATE(YEAR(TODAY()-WEEKDAY(TODAY()-1)+4),1,1)-2),7)>3,1,0))+7) )-_xlfn.ISOWEEKNUM(NOW()) -> -30
A233: GY86 | B233: =VLOOKUP(A233,Fleet[],2,FALSE) -> Intel | C233: 45700 | D233: =YEAR(DATE(YEAR(Runhours_Table[[#This Row],[Date]]-WEEKDAY(Runhours_Table[[#This Row],[Date]]-1)+4),1,1)-MOD((DATE(YEAR(Runhours_Table[[#This Row],[Date]]-WEEKDAY(Runhours_Table[[#This Row],[Date]]-1)+4),1,1)-2),7)+(7*IF(MOD((DATE(YEAR(Runhours_Table[[#This Row],[Date]]-WEEKDAY(Runhours_Table[[#This Row],[Date]]-1)+4),1,1)-2),7)>3,1,0))+7) -> 2025 | E233: =_xlfn.ISOWEEKNUM(Runhours_Table[[#This Row],[Date]]) -> 7 | F233: =RIGHT(YEAR(Runhours_Table[[#This Row],[Date]]),2)&TEXT(_xlfn.ISOWEEKNUM(Runhours_Table[[#This Row],[Date]]),"00") -> 2507 | G233: 17.838889 | H233: 22.383333 | I233: =_xlfn.ISOWEEKNUM(Runhours_Table[[#This Row],[Date]])+52*(Runhours_Table[[#This Row],[Year]]-YEAR(DATE(YEAR(TODAY()-WEEKDAY(TODAY()-1)+4),1,1)-MOD((DATE(YEAR(TODAY()-WEEKDAY(TODAY()-1)+4),1,1)-2),7)+(7*IF(MOD((DATE(YEAR(TODAY()-WEEKDAY(TODAY()-1)+4),1,1)-2),7)>3,1,0))+7) )-_xlfn.ISOWEEKNUM(NOW()) -> -30
A234: CR51 | B234: =VLOOKUP(A234,Fleet[],2,FALSE) -> Intel | C234: 45701 | D234: =YEAR(DATE(YEAR(Runhours_Table[[#This Row],[Date]]-WEEKDAY(Runhours_Table[[#This Row],[Date]]-1)+4),1,1)-MOD((DATE(YEAR(Runhours_Table[[#This Row],[Date]]-WEEKDAY(Runhours_Table[[#This Row],[Date]]-1)+4),1,1)-2),7)+(7*IF(MOD((DATE(YEAR(Runhours_Table[[#This Row],[Date]]-WEEKDAY(Runhours_Table[[#This Row],[Date]]-1)+4),1,1)-2),7)>3,1,0))+7) -> 2025 | E234: =_xlfn.ISOWEEKNUM(Runhours_Table[[#This Row],[Date]]) -> 7 | F234: =RIGHT(YEAR(Runhours_Table[[#This Row],[Date]]),2)&TEXT(_xlfn.ISOWEEKNUM(Runhours_Table[[#This Row],[Date]]),"00") -> 2507 | G234: 4.570278 | H234: 21.45 | I234: =_xlfn.ISOWEEKNUM(Runhours_Table[[#This Row],[Date]])+52*(Runhours_Table[[#This Row],[Year]]-YEAR(DATE(YEAR(TODAY()-WEEKDAY(TODAY()-1)+4),1,1)-MOD((DATE(YEAR(TODAY()-WEEKDAY(TODAY()-1)+4),1,1)-2),7)+(7*IF(MOD((DATE(YEAR(TODAY()-WEEKDAY(TODAY()-1)+4),1,1)-2),7)>3,1,0))+7) )-_xlfn.ISOWEEKNUM(NOW()) -> -30
A235: GY86 | B235: =VLOOKUP(A235,Fleet[],2,FALSE) -> Intel | C235: 45701 | D235: =YEAR(DATE(YEAR(Runhours_Table[[#This Row],[Date]]-WEEKDAY(Runhours_Table[[#This Row],[Date]]-1)+4),1,1)-MOD((DATE(YEAR(Runhours_Table[[#This Row],[Date]]-WEEKDAY(Runhours_Table[[#This Row],[Date]]-1)+4),1,1)-2),7)+(7*IF(MOD((DATE(YEAR(Runhours_Table[[#This Row],[Date]]-WEEKDAY(Runhours_Table[[#This Row],[Date]]-1)+4),1,1)-2),7)>3,1,0))+7) -> 2025 | E235: =_xlfn.ISOWEEKNUM(Runhours_Table[[#This Row],[Date]]) -> 7 | F235: =RIGHT(YEAR(Runhours_Table[[#This Row],[Date]]),2)&TEXT(_xlfn.ISOWEEKNUM(Runhours_Table[[#This Row],[Date]]),"00") -> 2507 | G235: 9.06 | H235: 20.316667 | I235: =_xlfn.ISOWEEKNUM(Runhours_Table[[#This Row],[Date]])+52*(Runhours_Table[[#This Row],[Year]]-YEAR(DATE(YEAR(TODAY()-WEEKDAY(TODAY()-1)+4),1,1)-MOD((DATE(YEAR(TODAY()-WEEKDAY(TODAY()-1)+4),1,1)-2),7)+(7*IF(MOD((DATE(YEAR(TODAY()-WEEKDAY(TODAY()-1)+4),1,1)-2),7)>3,1,0))+7) )-_xlfn.ISOWEEKNUM(NOW()) -> -30
A236: CR51 | B236: =VLOOKUP(A236,Fleet[],2,FALSE) -> Intel | C236: 45702 | D236: =YEAR(DATE(YEAR(Runhours_Table[[#This Row],[Date]]-WEEKDAY(Runhours_Table[[#This Row],[Date]]-1)+4),1,1)-MOD((DATE(YEAR(Runhours_Table[[#This Row],[Date]]-WEEKDAY(Runhours_Table[[#This Row],[Date]]-1)+4),1,1)-2),7)+(7*IF(MOD((DATE(YEAR(Runhours_Table[[#This Row],[Date]]-WEEKDAY(Runhours_Table[[#This Row],[Date]]-1)+4),1,1)-2),7)>3,1,0))+7) -> 2025 | E236: =_xlfn.ISOWEEKNUM(Runhours_Table[[#This Row],[Date]]) -> 7 | F236: =RIGHT(YEAR(Runhours_Table[[#This Row],[Date]]),2)&TEXT(_xlfn.ISOWEEKNUM(Runhours_Table[[#This Row],[Date]]),"00") -> 2507 | G236: 7.921111 | H236: 19.833333 | I236: =_xlfn.ISOWEEKNUM(Runhours_Table[[#This Row],[Date]])+52*(Runhours_Table[[#This Row],[Year]]-YEAR(DATE(YEAR(TODAY()-WEEKDAY(TODAY()-1)+4),1,1)-MOD((DATE(YEAR(TODAY()-WEEKDAY(TODAY()-1)+4),1,1)-2),7)+(7*IF(MOD((DATE(YEAR(TODAY()-WEEKDAY(TODAY()-1)+4),1,1)-2),7)>3,1,0))+7) )-_xlfn.ISOWEEKNUM(NOW()) -> -30
A237: GY86 | B237: =VLOOKUP(A237,Fleet[],2,FALSE) -> Intel | C237: 45702 | D237: =YEAR(DATE(YEAR(Runhours_Table[[#This Row],[Date]]-WEEKDAY(Runhours_Table[[#This Row],[Date]]-1)+4),1,1)-MOD((DATE(YEAR(Runhours_Table[[#This Row],[Date]]-WEEKDAY(Runhours_Table[[#This Row],[Date]]-1)+4),1,1)-2),7)+(7*IF(MOD((DATE(YEAR(Runhours_Table[[#This Row],[Date]]-WEEKDAY(Runhours_Table[[#This Row],[Date]]-1)+4),1,1)-2),7)>3,1,0))+7) -> 2025 | E237: =_xlfn.ISOWEEKNUM(Runhours_Table[[#This Row],[Date]]) -> 7 | F237: =RIGHT(YEAR(Runhours_Table[[#This Row],[Date]]),2)&TEXT(_xlfn.ISOWEEKNUM(Runhours_Table[[#This Row],[Date]]),"00") -> 2507 | G237: 11.916389 | H237: 19.383333 | I237: =_xlfn.ISOWEEKNUM(Runhours_Table[[#This Row],[Date]])+52*(Runhours_Table[[#This Row],[Year]]-YEAR(DATE(YEAR(TODAY()-WEEKDAY(TODAY()-1)+4),1,1)-MOD((DATE(YEAR(TODAY()-WEEKDAY(TODAY()-1)+4),1,1)-2),7)+(7*IF(MOD((DATE(YEAR(TODAY()-WEEKDAY(TODAY()-1)+4),1,1)-2),7)>3,1,0))+7) )-_xlfn.ISOWEEKNUM(NOW()) -> -30
A238: CR51 | B238: =VLOOKUP(A238,Fleet[],2,FALSE) -> Intel | C238: 45703 | D238: =YEAR(DATE(YEAR(Runhours_Table[[#This Row],[Date]]-WEEKDAY(Runhours_Table[[#This Row],[Date]]-1)+4),1,1)-MOD((DATE(YEAR(Runhours_Table[[#This Row],[Date]]-WEEKDAY(Runhours_Table[[#This Row],[Date]]-1)+4),1,1)-2),7)+(7*IF(MOD((DATE(YEAR(Runhours_Table[[#This Row],[Date]]-WEEKDAY(Runhours_Table[[#This Row],[Date]]-1)+4),1,1)-2),7)>3,1,0))+7) -> 2025 | E238: =_xlfn.ISOWEEKNUM(Runhours_Table[[#This Row],[Date]]) -> 7 | F238: =RIGHT(YEAR(Runhours_Table[[#This Row],[Date]]),2)&TEXT(_xlfn.ISOWEEKNUM(Runhours_Table[[#This Row],[Date]]),"00") -> 2507 | G238: 20.041944 | H238: 22.266666 | I238: =_xlfn.ISOWEEKNUM(Runhours_Table[[#This Row],[Date]])+52*(Runhours_Table[[#This Row],[Year]]-YEAR(DATE(YEAR(TODAY()-WEEKDAY(TODAY()-1)+4),1,1)-MOD((DATE(YEAR(TODAY()-WEEKDAY(TODAY()-1)+4),1,1)-2),7)+(7*IF(MOD((DATE(YEAR(TODAY()-WEEKDAY(TODAY()-1)+4),1,1)-2),7)>3,1,0))+7) )-_xlfn.ISOWEEKNUM(NOW()) -> -30
... A259: GY86 | B259: =VLOOKUP(A259,Fleet[],2,FALSE) -> Intel | C259: 45713 | D259: =YEAR(DATE(YEAR(Runhours_Table[[#This Row],[Date]]-WEEKDAY(Runhours_Table[[#This Row],[Date]]-1)+4),1,1)-MOD((DATE(YEAR(Runhours_Table[[#This Row],[Date]]-WEEKDAY(Runhours_Table[[#This Row],[Date]]-1)+4),1,1)-2),7)+(7*IF(MOD((DATE(YEAR(Runhours_Table[[#This Row],[Date]]-WEEKDAY(Runhours_Table[[#This Row],[Date]]-1)+4),1,1)-2),7)>3,1,0))+7) -> 2025 | E259: =_xlfn.ISOWEEKNUM(Runhours_Table[[#This Row],[Date]]) -> 9 | F259: =RIGHT(YEAR(Runhours_Table[[#This Row],[Date]]),2)&TEXT(_xlfn.ISOWEEKNUM(Runhours_Table[[#This Row],[Date]]),"00") -> 2509 | G259: 21.093056 | H259: 22.333334 | I259: =_xlfn.ISOWEEKNUM(Runhours_Table[[#This Row],[Date]])+52*(Runhours_Table[[#This Row],[Year]]-YEAR(DATE(YEAR(TODAY()-WEEKDAY(TODAY()-1)+4),1,1)-MOD((DATE(YEAR(TODAY()-WEEKDAY(TODAY()-1)+4),1,1)-2),7)+(7*IF(MOD((DATE(YEAR(TODAY()-WEEKDAY(TODAY()-1)+4),1,1)-2),7)>3,1,0))+7) )-_xlfn.ISOWEEKNUM(NOW()) -> -28
A260: CR51 | B260: =VLOOKUP(A260,Fleet[],2,FALSE) -> Intel | C260: 45714 | D260: =YEAR(DATE(YEAR(Runhours_Table[[#This Row],[Date]]-WEEKDAY(Runhours_Table[[#This Row],[Date]]-1)+4),1,1)-MOD((DATE(YEAR(Runhours_Table[[#This Row],[Date]]-WEEKDAY(Runhours_Table[[#This Row],[Date]]-1)+4),1,1)-2),7)+(7*IF(MOD((DATE(YEAR(Runhours_Table[[#This Row],[Date]]-WEEKDAY(Runhours_Table[[#This Row],[Date]]-1)+4),1,1)-2),7)>3,1,0))+7) -> 2025 | E260: =_xlfn.ISOWEEKNUM(Runhours_Table[[#This Row],[Date]]) -> 9 | F260: =RIGHT(YEAR(Runhours_Table[[#This Row],[Date]]),2)&TEXT(_xlfn.ISOWEEKNUM(Runhours_Table[[#This Row],[Date]]),"00") -> 2509 | H260: 0 | I260: =_xlfn.ISOWEEKNUM(Runhours_Table[[#This Row],[Date]])+52*(Runhours_Table[[#This Row],[Year]]-YEAR(DATE(YEAR(TODAY()-WEEKDAY(TODAY()-1)+4),1,1)-MOD((DATE(YEAR(TODAY()-WEEKDAY(TODAY()-1)+4),1,1)-2),7)+(7*IF(MOD((DATE(YEAR(TODAY()-WEEKDAY(TODAY()-1)+4),1,1)-2),7)>3,1,0))+7) )-_xlfn.ISOWEEKNUM(NOW()) -> -28
A261: GY86 | B261: =VLOOKUP(A261,Fleet[],2,FALSE) -> Intel | C261: 45714 | D261: =YEAR(DATE(YEAR(Runhours_Table[[#This Row],[Date]]-WEEKDAY(Runhours_Table[[#This Row],[Date]]-1)+4),1,1)-MOD((DATE(YEAR(Runhours_Table[[#This Row],[Date]]-WEEKDAY(Runhours_Table[[#This Row],[Date]]-1)+4),1,1)-2),7)+(7*IF(MOD((DATE(YEAR(Runhours_Table[[#This Row],[Date]]-WEEKDAY(Runhours_Table[[#This Row],[Date]]-1)+4),1,1)-2),7)>3,1,0))+7) -> 2025 | E261: =_xlfn.ISOWEEKNUM(Runhours_Table[[#This Row],[Date]]) -> 9 | F261: =RIGHT(YEAR(Runhours_Table[[#This Row],[Date]]),2)&TEXT(_xlfn.ISOWEEKNUM(Runhours_Table[[#This Row],[Date]]),"00") -> 2509 | G261: 15.643056 | H261: 23.866667 | I261: =_xlfn.ISOWEEKNUM(Runhours_Table[[#This Row],[Date]])+52*(Runhours_Table[[#This Row],[Year]]-YEAR(DATE(YEAR(TODAY()-WEEKDAY(TODAY()-1)+4),1,1)-MOD((DATE(YEAR(TODAY()-WEEKDAY(TODAY()-1)+4),1,1)-2),7)+(7*IF(MOD((DATE(YEAR(TODAY()-WEEKDAY(TODAY()-1)+4),1,1)-2),7)>3,1,0))+7) )-_xlfn.ISOWEEKNUM(NOW()) -> -28
A262: CR51 | B262: =VLOOKUP(A262,Fleet[],2,FALSE) -> Intel | C262: 45715 | D262: =YEAR(DATE(YEAR(Runhours_Table[[#This Row],[Date]]-WEEKDAY(Runhours_Table[[#This Row],[Date]]-1)+4),1,1)-MOD((DATE(YEAR(Runhours_Table[[#This Row],[Date]]-WEEKDAY(Runhours_Table[[#This Row],[Date]]-1)+4),1,1)-2),7)+(7*IF(MOD((DATE(YEAR(Runhours_Table[[#This Row],[Date]]-WEEKDAY(Runhours_Table[[#This Row],[Date]]-1)+4),1,1)-2),7)>3,1,0))+7) -> 2025 | E262: =_xlfn.ISOWEEKNUM(Runhours_Table[[#This Row],[Date]]) -> 9 | F262: =RIGHT(YEAR(Runhours_Table[[#This Row],[Date]]),2)&TEXT(_xlfn.ISOWEEKNUM(Runhours_Table[[#This Row],[Date]]),"00") -> 2509 | H262: 0 | I262: =_xlfn.ISOWEEKNUM(Runhours_Table[[#This Row],[Date]])+52*(Runhours_Table[[#This Row],[Year]]-YEAR(DATE(YEAR(TODAY()-WEEKDAY(TODAY()-1)+4),1,1)-MOD((DATE(YEAR(TODAY()-WEEKDAY(TODAY()-1)+4),1,1)-2),7)+(7*IF(MOD((DATE(YEAR(TODAY()-WEEKDAY(TODAY()-1)+4),1,1)-2),7)>3,1,0))+7) )-_xlfn.ISOWEEKNUM(NOW()) -> -28
A263: GY86 | B263: =VLOOKUP(A263,Fleet[],2,FALSE) -> Intel | C263: 45715 | D263: =YEAR(DATE(YEAR(Runhours_Table[[#This Row],[Date]]-WEEKDAY(Runhours_Table[[#This Row],[Date]]-1)+4),1,1)-MOD((DATE(YEAR(Runhours_Table[[#This Row],[Date]]-WEEKDAY(Runhours_Table[[#This Row],[Date]]-1)+4),1,1)-2),7)+(7*IF(MOD((DATE(YEAR(Runhours_Table[[#This Row],[Date]]-WEEKDAY(Runhours_Table[[#This Row],[Date]]-1)+4),1,1)-2),7)>3,1,0))+7) -> 2025 | E263: =_xlfn.ISOWEEKNUM(Runhours_Table[[#This Row],[Date]]) -> 9 | F263: =RIGHT(YEAR(Runhours_Table[[#This Row],[Date]]),2)&TEXT(_xlfn.ISOWEEKNUM(Runhours_Table[[#This Row],[Date]]),"00") -> 2509 | G263: 19.209722 | H263: 21.6 | I263: =_xlfn.ISOWEEKNUM(Runhours_Table[[#This Row],[Date]])+52*(Runhours_Table[[#This Row],[Year]]-YEAR(DATE(YEAR(TODAY()-WEEKDAY(TODAY()-1)+4),1,1)-MOD((DATE(YEAR(TODAY()-WEEKDAY(TODAY()-1)+4),1,1)-2),7)+(7*IF(MOD((DATE(YEAR(TODAY()-WEEKDAY(TODAY()-1)+4),1,1)-2),7)>3,1,0))+7) )-_xlfn.ISOWEEKNUM(NOW()) -> -28
A264: CR51 | B264: =VLOOKUP(A264,Fleet[],2,FALSE) -> Intel | C264: 45716 | D264: =YEAR(DATE(YEAR(Runhours_Table[[#This Row],[Date]]-WEEKDAY(Runhours_Table[[#This Row],[Date]]-1)+4),1,1)-MOD((DATE(YEAR(Runhours_Table[[#This Row],[Date]]-WEEKDAY(Runhours_Table[[#This Row],[Date]]-1)+4),1,1)-2),7)+(7*IF(MOD((DATE(YEAR(Runhours_Table[[#This Row],[Date]]-WEEKDAY(Runhours_Table[[#This Row],[Date]]-1)+4),1,1)-2),7)>3,1,0))+7) -> 2025 | E264: =_xlfn.ISOWEEKNUM(Runhours_Table[[#This Row],[Date]]) -> 9 | F264: =RIGHT(YEAR(Runhours_Table[[#This Row],[Date]]),2)&TEXT(_xlfn.ISOWEEKNUM(Runhours_Table[[#This Row],[Date]]),"00") -> 2509 | H264: 0 | I264: =_xlfn.ISOWEEKNUM(Runhours_Table[[#This Row],[Date]])+52*(Runhours_Table[[#This Row],[Year]]-YEAR(DATE(YEAR(TODAY()-WEEKDAY(TODAY()-1)+4),1,1)-MOD((DATE(YEAR(TODAY()-WEEKDAY(TODAY()-1)+4),1,1)-2),7)+(7*IF(MOD((DATE(YEAR(TODAY()-WEEKDAY(TODAY()-1)+4),1,1)-2),7)>3,1,0))+7) )-_xlfn.ISOWEEKNUM(NOW()) -> -28
A265: GY86 | B265: =VLOOKUP(A265,Fleet[],2,FALSE) -> Intel | C265: 45716 | D265: =YEAR(DATE(YEAR(Runhours_Table[[#This Row],[Date]]-WEEKDAY(Runhours_Table[[#This Row],[Date]]-1)+4),1,1)-MOD((DATE(YEAR(Runhours_Table[[#This Row],[Date]]-WEEKDAY(Runhours_Table[[#This Row],[Date]]-1)+4),1,1)-2),7)+(7*IF(MOD((DATE(YEAR(Runhours_Table[[#This Row],[Date]]-WEEKDAY(Runhours_Table[[#This Row],[Date]]-1)+4),1,1)-2),7)>3,1,0))+7) -> 2025 | E265: =_xlfn.ISOWEEKNUM(Runhours_Table[[#This Row],[Date]]) -> 9 | F265: =RIGHT(YEAR(Runhours_Table[[#This Row],[Date]]),2)&TEXT(_xlfn.ISOWEEKNUM(Runhours_Table[[#This Row],[Date]]),"00") -> 2509 | G265: 13.261389 | H265: 22.45 | I265: =_xlfn.ISOWEEKNUM(Runhours_Table[[#This Row],[Date]])+52*(Runhours_Table[[#This Row],[Year]]-YEAR(DATE(YEAR(TODAY()-WEEKDAY(TODAY()-1)+4),1,1)-MOD((DATE(YEAR(TODAY()-WEEKDAY(TODAY()-1)+4),1,1)-2),7)+(7*IF(MOD((DATE(YEAR(TODAY()-WEEKDAY(TODAY()-1)+4),1,1)-2),7)>3,1,0))+7) )-_xlfn.ISOWEEKNUM(NOW()) -> -28
A266: CR51 | B266: =VLOOKUP(A266,Fleet[],2,FALSE) -> Intel | C266: 45717 | D266: =YEAR(DATE(YEAR(Runhours_Table[[#This Row],[Date]]-WEEKDAY(Runhours_Table[[#This Row],[Date]]-1)+4),1,1)-MOD((DATE(YEAR(Runhours_Table[[#This Row],[Date]]-WEEKDAY(Runhours_Table[[#This Row],[Date]]-1)+4),1,1)-2),7)+(7*IF(MOD((DATE(YEAR(Runhours_Table[[#This Row],[Date]]-WEEKDAY(Runhours_Table[[#This Row],[Date]]-1)+4),1,1)-2),7)>3,1,0))+7) -> 2025 | E266: =_xlfn.ISOWEEKNUM(Runhours_Table[[#This Row],[Date]]) -> 9 | F266: =RIGHT(YEAR(Runhours_Table[[#This Row],[Date]]),2)&TEXT(_xlfn.ISOWEEKNUM(Runhours_Table[[#This Row],[Date]]),"00") -> 2509 | H266: 0 | I266: =_xlfn.ISOWEEKNUM(Runhours_Table[[#This Row],[Date]])+52*(Runhours_Table[[#This Row],[Year]]-YEAR(DATE(YEAR(TODAY()-WEEKDAY(TODAY()-1)+4),1,1)-MOD((DATE(YEAR(TODAY()-WEEKDAY(TODAY()-1)+4),1,1)-2),7)+(7*IF(MOD((DATE(YEAR(TODAY()-WEEKDAY(TODAY()-1)+4),1,1)-2),7)>3,1,0))+7) )-_xlfn.ISOWEEKNUM(NOW()) -> -28
A267: GY86 | B267: =VLOOKUP(A267,Fleet[],2,FALSE) -> Intel | C267: 45717 | D267: =YEAR(DATE(YEAR(Runhours_Table[[#This Row],[Date]]-WEEKDAY(Runhours_Table[[#This Row],[Date]]-1)+4),1,1)-MOD((DATE(YEAR(Runhours_Table[[#This Row],[Date]]-WEEKDAY(Runhours_Table[[#This Row],[Date]]-1)+4),1,1)-2),7)+(7*IF(MOD((DATE(YEAR(Runhours_Table[[#This Row],[Date]]-WEEKDAY(Runhours_Table[[#This Row],[Date]]-1)+4),1,1)-2),7)>3,1,0))+7) -> 2025 | E267: =_xlfn.ISOWEEKNUM(Runhours_Table[[#This Row],[Date]]) -> 9 | F267: =RIGHT(YEAR(Runhours_Table[[#This Row],[Date]]),2)&TEXT(_xlfn.ISOWEEKNUM(Runhours_Table[[#This Row],[Date]]),"00") -> 2509 | G267: 16.091389 | H267: 22.033333 | I267: =_xlfn.ISOWEEKNUM(Runhours_Table[[#This Row],[Date]])+52*(Runhours_Table[[#This Row],[Year]]-YEAR(DATE(YEAR(TODAY()-WEEKDAY(TODAY()-1)+4),1,1)-MOD((DATE(YEAR(TODAY()-WEEKDAY(TODAY()-1)+4),1,1)-2),7)+(7*IF(MOD((DATE(YEAR(TODAY()-WEEKDAY(TODAY()-1)+4),1,1)-2),7)>3,1,0))+7) )-_xlfn.ISOWEEKNUM(NOW()) -> -28
A268: CR51 | B268: =VLOOKUP(A268,Fleet[],2,FALSE) -> Intel | C268: 45718 | D268: =YEAR(DATE(YEAR(Runhours_Table[[#This Row],[Date]]-WEEKDAY(Runhours_Table[[#This Row],[Date]]-1)+4),1,1)-MOD((DATE(YEAR(Runhours_Table[[#This Row],[Date]]-WEEKDAY(Runhours_Table[[#This Row],[Date]]-1)+4),1,1)-2),7)+(7*IF(MOD((DATE(YEAR(Runhours_Table[[#This Row],[Date]]-WEEKDAY(Runhours_Table[[#This Row],[Date]]-1)+4),1,1)-2),7)>3,1,0))+7) -> 2025 | E268: =_xlfn.ISOWEEKNUM(Runhours_Table[[#This Row],[Date]]) -> 9 | F268: =RIGHT(YEAR(Runhours_Table[[#This Row],[Date]]),2)&TEXT(_xlfn.ISOWEEKNUM(Runhours_Table[[#This Row],[Date]]),"00") -> 2509 | H268: 0 | I268: =_xlfn.ISOWEEKNUM(Runhours_Table[[#This Row],[Date]])+52*(Runhours_Table[[#This Row],[Year]]-YEAR(DATE(YEAR(TODAY()-WEEKDAY(TODAY()-1)+4),1,1)-MOD((DATE(YEAR(TODAY()-WEEKDAY(TODAY()-1)+4),1,1)-2),7)+(7*IF(MOD((DATE(YEAR(TODAY()-WEEKDAY(TODAY()-1)+4),1,1)-2),7)>3,1,0))+7) )-_xlfn.ISOWEEKNUM(NOW()) -> -28
A269: GY86 | B269: =VLOOKUP(A269,Fleet[],2,FALSE) -> Intel | C269: 45718 | D269: =YEAR(DATE(YEAR(Runhours_Table[[#This Row],[Date]]-WEEKDAY(Runhours_Table[[#This Row],[Date]]-1)+4),1,1)-MOD((DATE(YEAR(Runhours_Table[[#This Row],[Date]]-WEEKDAY(Runhours_Table[[#This Row],[Date]]-1)+4),1,1)-2),7)+(7*IF(MOD((DATE(YEAR(Runhours_Table[[#This Row],[Date]]-WEEKDAY(Runhours_Table[[#This Row],[Date]]-1)+4),1,1)-2),7)>3,1,0))+7) -> 2025 | E269: =_xlfn.ISOWEEKNUM(Runhours_Table[[#This Row],[Date]]) -> 9 | F269: =RIGHT(YEAR(Runhours_Table[[#This Row],[Date]]),2)&TEXT(_xlfn.ISOWEEKNUM(Runhours_Table[[#This Row],[Date]]),"00") -> 2509 | G269: 12.365 | H269: 15.85 | I269: =_xlfn.ISOWEEKNUM(Runhours_Table[[#This Row],[Date]])+52*(Runhours_Table[[#This Row],[Year]]-YEAR(DATE(YEAR(TODAY()-WEEKDAY(TODAY()-1)+4),1,1)-MOD((DATE(YEAR(TODAY()-WEEKDAY(TODAY()-1)+4),1,1)-2),7)+(7*IF(MOD((DATE(YEAR(TODAY()-WEEKDAY(TODAY()-1)+4),1,1)-2),7)>3,1,0))+7) )-_xlfn.ISOWEEKNUM(NOW()) -> -28
A270: CR51 | B270: =VLOOKUP(A270,Fleet[],2,FALSE) -> Intel | C270: 45719 | D270: =YEAR(DATE(YEAR(Runhours_Table[[#This Row],[Date]]-WEEKDAY(Runhours_Table[[#This Row],[Date]]-1)+4),1,1)-MOD((DATE(YEAR(Runhours_Table[[#This Row],[Date]]-WEEKDAY(Runhours_Table[[#This Row],[Date]]-1)+4),1,1)-2),7)+(7*IF(MOD((DATE(YEAR(Runhours_Table[[#This Row],[Date]]-WEEKDAY(Runhours_Table[[#This Row],[Date]]-1)+4),1,1)-2),7)>3,1,0))+7) -> 2025 | E270: =_xlfn.ISOWEEKNUM(Runhours_Table[[#This Row],[Date]]) -> 10 | F270: =RIGHT(YEAR(Runhours_Table[[#This Row],[Date]]),2)&TEXT(_xlfn.ISOWEEKNUM(Runhours_Table[[#This Row],[Date]]),"00") -> 2510 | H270: 0 | I270: =_xlfn.ISOWEEKNUM(Runhours_Table[[#This Row],[Date]])+52*(Runhours_Table[[#This Row],[Year]]-YEAR(DATE(YEAR(TODAY()-WEEKDAY(TODAY()-1)+4),1,1)-MOD((DATE(YEAR(TODAY()-WEEKDAY(TODAY()-1)+4),1,1)-2),7)+(7*IF(MOD((DATE(YEAR(TODAY()-WEEKDAY(TODAY()-1)+4),1,1)-2),7)>3,1,0))+7) )-_xlfn.ISOWEEKNUM(NOW()) -> -27
A271: GY86 | B271: =VLOOKUP(A271,Fleet[],2,FALSE) -> Intel | C271: 45719 | D271: =YEAR(DATE(YEAR(Runhours_Table[[#This Row],[Date]]-WEEKDAY(Runhours_Table[[#This Row],[Date]]-1)+4),1,1)-MOD((DATE(YEAR(Runhours_Table[[#This Row],[Date]]-WEEKDAY(Runhours_Table[[#This Row],[Date]]-1)+4),1,1)-2),7)+(7*IF(MOD((DATE(YEAR(Runhours_Table[[#This Row],[Date]]-WEEKDAY(Runhours_Table[[#This Row],[Date]]-1)+4),1,1)-2),7)>3,1,0))+7) -> 2025 | E271: =_xlfn.ISOWEEKNUM(Runhours_Table[[#This Row],[Date]]) -> 10 | F271: =RIGHT(YEAR(Runhours_Table[[#This Row],[Date]]),2)&TEXT(_xlfn.ISOWEEKNUM(Runhours_Table[[#This Row],[Date]]),"00") -> 2510 | G271: 18.785 | H271: 21.833333 | I271: =_xlfn.ISOWEEKNUM(Runhours_Table[[#This Row],[Date]])+52*(Runhours_Table[[#This Row],[Year]]-YEAR(DATE(YEAR(TODAY()-WEEKDAY(TODAY()-1)+4),1,1)-MOD((DATE(YEAR(TODAY()-WEEKDAY(TODAY()-1)+4),1,1)-2),7)+(7*IF(MOD((DATE(YEAR(TODAY()-WEEKDAY(TODAY()-1)+4),1,1)-2),7)>3,1,0))+7) )-_xlfn.ISOWEEKNUM(NOW()) -> -27
A272: CR51 | B272: =VLOOKUP(A272,Fleet[],2,FALSE) -> Intel | C272: 45720 | D272: =YEAR(DATE(YEAR(Runhours_Table[[#This Row],[Date]]-WEEKDAY(Runhours_Table[[#This Row],[Date]]-1)+4),1,1)-MOD((DATE(YEAR(Runhours_Table[[#This Row],[Date]]-WEEKDAY(Runhours_Table[[#This Row],[Date]]-1)+4),1,1)-2),7)+(7*IF(MOD((DATE(YEAR(Runhours_Table[[#This Row],[Date]]-WEEKDAY(Runhours_Table[[#This Row],[Date]]-1)+4),1,1)-2),7)>3,1,0))+7) -> 2025 | E272: =_xlfn.ISOWEEKNUM(Runhours_Table[[#This Row],[Date]]) -> 10 | F272: =RIGHT(YEAR(Runhours_Table[[#This Row],[Date]]),2)&TEXT(_xlfn.ISOWEEKNUM(Runhours_Table[[#This Row],[Date]]),"00") -> 2510 | H272: 0 | I272: =_xlfn.ISOWEEKNUM(Runhours_Table[[#This Row],[Date]])+52*(Runhours_Table[[#This Row],[Year]]-YEAR(DATE(YEAR(TODAY()-WEEKDAY(TODAY()-1)+4),1,1)-MOD((DATE(YEAR(TODAY()-WEEKDAY(TODAY()-1)+4),1,1)-2),7)+(7*IF(MOD((DATE(YEAR(TODAY()-WEEKDAY(TODAY()-1)+4),1,1)-2),7)>3,1,0))+7) )-_xlfn.ISOWEEKNUM(NOW()) -> -27
A273: GY86 | B273: =VLOOKUP(A273,Fleet[],2,FALSE) -> Intel | C273: 45720 | D273: =YEAR(DATE(YEAR(Runhours_Table[[#This Row],[Date]]-WEEKDAY(Runhours_Table[[#This Row],[Date]]-1)+4),1,1)-MOD((DATE(YEAR(Runhours_Table[[#This Row],[Date]]-WEEKDAY(Runhours_Table[[#This Row],[Date]]-1)+4),1,1)-2),7)+(7*IF(MOD((DATE(YEAR(Runhours_Table[[#This Row],[Date]]-WEEKDAY(Runhours_Table[[#This Row],[Date]]-1)+4),1,1)-2),7)>3,1,0))+7) -> 2025 | E273: =_xlfn.ISOWEEKNUM(Runhours_Table[[#This Row],[Date]]) -> 10 | F273: =RIGHT(YEAR(Runhours_Table[[#This Row],[Date]]),2)&TEXT(_xlfn.ISOWEEKNUM(Runhours_Table[[#This Row],[Date]]),"00") -> 2510 | G273: 13.975833 | H273: 17.766666 | I273: =_xlfn.ISOWEEKNUM(Runhours_Table[[#This Row],[Date]])+52*(Runhours_Table[[#This Row],[Year]]-YEAR(DATE(YEAR(TODAY()-WEEKDAY(TODAY()-1)+4),1,1)-MOD((DATE(YEAR(TODAY()-WEEKDAY(TODAY()-1)+4),1,1)-2),7)+(7*IF(MOD((DATE(YEAR(TODAY()-WEEKDAY(TODAY()-1)+4),1,1)-2),7)>3,1,0))+7) )-_xlfn.ISOWEEKNUM(NOW()) -> -27
A274: CR51 | B274: =VLOOKUP(A274,Fleet[],2,FALSE) -> Intel | C274: 45721 | D274: =YEAR(DATE(YEAR(Runhours_Table[[#This Row],[Date]]-WEEKDAY(Runhours_Table[[#This Row],[Date]]-1)+4),1,1)-MOD((DATE(YEAR(Runhours_Table[[#This Row],[Date]]-WEEKDAY(Runhours_Table[[#This Row],[Date]]-1)+4),1,1)-2),7)+(7*IF(MOD((DATE(YEAR(Runhours_Table[[#This Row],[Date]]-WEEKDAY(Runhours_Table[[#This Row],[Date]]-1)+4),1,1)-2),7)>3,1,0))+7) -> 2025 | E274: =_xlfn.ISOWEEKNUM(Runhours_Table[[#This Row],[Date]]) -> 10 | F274: =RIGHT(YEAR(Runhours_Table[[#This Row],[Date]]),2)&TEXT(_xlfn.ISOWEEKNUM(Runhours_Table[[#This Row],[Date]]),"00") -> 2510 | H274: 0 | I274: =_xlfn.ISOWEEKNUM(Runhours_Table[[#This Row],[Date]])+52*(Runhours_Table[[#This Row],[Year]]-YEAR(DATE(YEAR(TODAY()-WEEKDAY(TODAY()-1)+4),1,1)-MOD((DATE(YEAR(TODAY()-WEEKDAY(TODAY()-1)+4),1,1)-2),7)+(7*IF(MOD((DATE(YEAR(TODAY()-WEEKDAY(TODAY()-1)+4),1,1)-2),7)>3,1,0))+7) )-_xlfn.ISOWEEKNUM(NOW()) -> -27
A275: GY86 | B275: =VLOOKUP(A275,Fleet[],2,FALSE) -> Intel | C275: 45721 | D275: =YEAR(DATE(YEAR(Runhours_Table[[#This Row],[Date]]-WEEKDAY(Runhours_Table[[#This Row],[Date]]-1)+4),1,1)-MOD((DATE(YEAR(Runhours_Table[[#This Row],[Date]]-WEEKDAY(Runhours_Table[[#This Row],[Date]]-1)+4),1,1)-2),7)+(7*IF(MOD((DATE(YEAR(Runhours_Table[[#This Row],[Date]]-WEEKDAY(Runhours_Table[[#This Row],[Date]]-1)+4),1,1)-2),7)>3,1,0))+7) -> 2025 | E275: =_xlfn.ISOWEEKNUM(Runhours_Table[[#This Row],[Date]]) -> 10 | F275: =RIGHT(YEAR(Runhours_Table[[#This Row],[Date]]),2)&TEXT(_xlfn.ISOWEEKNUM(Runhours_Table[[#This Row],[Date]]),"00") -> 2510 | G275: 20.7725 | H275: 23.816667 | I275: =_xlfn.ISOWEEKNUM(Runhours_Table[[#This Row],[Date]])+52*(Runhours_Table[[#This Row],[Year]]-YEAR(DATE(YEAR(TODAY()-WEEKDAY(TODAY()-1)+4),1,1)-MOD((DATE(YEAR(TODAY()-WEEKDAY(TODAY()-1)+4),1,1)-2),7)+(7*IF(MOD((DATE(YEAR(TODAY()-WEEKDAY(TODAY()-1)+4),1,1)-2),7)>3,1,0))+7) )-_xlfn.ISOWEEKNUM(NOW()) -> -27
A276: CR51 | B276: =VLOOKUP(A276,Fleet[],2,FALSE) -> Intel | C276: 45722 | D276: =YEAR(DATE(YEAR(Runhours_Table[[#This Row],[Date]]-WEEKDAY(Runhours_Table[[#This Row],[Date]]-1)+4),1,1)-MOD((DATE(YEAR(Runhours_Table[[#This Row],[Date]]-WEEKDAY(Runhours_Table[[#This Row],[Date]]-1)+4),1,1)-2),7)+(7*IF(MOD((DATE(YEAR(Runhours_Table[[#This Row],[Date]]-WEEKDAY(Runhours_Table[[#This Row],[Date]]-1)+4),1,1)-2),7)>3,1,0))+7) -> 2025 | E276: =_xlfn.ISOWEEKNUM(Runhours_Table[[#This Row],[Date]]) -> 10 | F276: =RIGHT(YEAR(Runhours_Table[[#This Row],[Date]]),2)&TEXT(_xlfn.ISOWEEKNUM(Runhours_Table[[#This Row],[Date]]),"00") -> 2510 | G276: 1.015 | H276: 3.433333 | I276: =_xlfn.ISOWEEKNUM(Runhours_Table[[#This Row],[Date]])+52*(Runhours_Table[[#This Row],[Year]]-YEAR(DATE(YEAR(TODAY()-WEEKDAY(TODAY()-1)+4),1,1)-MOD((DATE(YEAR(TODAY()-WEEKDAY(TODAY()-1)+4),1,1)-2),7)+(7*IF(MOD((DATE(YEAR(TODAY()-WEEKDAY(TODAY()-1)+4),1,1)-2),7)>3,1,0))+7) )-_xlfn.ISOWEEKNUM(NOW()) -> -27
A277: GY86 | B277: =VLOOKUP(A277,Fleet[],2,FALSE) -> Intel | C277: 45722 | D277: =YEAR(DATE(YEAR(Runhours_Table[[#This Row],[Date]]-WEEKDAY(Runhours_Table[[#This Row],[Date]]-1)+4),1,1)-MOD((DATE(YEAR(Runhours_Table[[#This Row],[Date]]-WEEKDAY(Runhours_Table[[#This Row],[Date]]-1)+4),1,1)-2),7)+(7*IF(MOD((DATE(YEAR(Runhours_Table[[#This Row],[Date]]-WEEKDAY(Runhours_Table[[#This Row],[Date]]-1)+4),1,1)-2),7)>3,1,0))+7) -> 2025 | E277: =_xlfn.ISOWEEKNUM(Runhours_Table[[#This Row],[Date]]) -> 10 | F277: =RIGHT(YEAR(Runhours_Table[[#This Row],[Date]]),2)&TEXT(_xlfn.ISOWEEKNUM(Runhours_Table[[#This Row],[Date]]),"00") -> 2510 | G277: 5.6025 | H277: 20.116667 | I277: =_xlfn.ISOWEEKNUM(Runhours_Table[[#This Row],[Date]])+52*(Runhours_Table[[#This Row],[Year]]-YEAR(DATE(YEAR(TODAY()-WEEKDAY(TODAY()-1)+4),1,1)-MOD((DATE(YEAR(TODAY()-WEEKDAY(TODAY()-1)+4),1,1)-2),7)+(7*IF(MOD((DATE(YEAR(TODAY()-WEEKDAY(TODAY()-1)+4),1,1)-2),7)>3,1,0))+7) )-_xlfn.ISOWEEKNUM(NOW()) -> -27
A278: CR51 | B278: =VLOOKUP(A278,Fleet[],2,FALSE) -> Intel | C278: 45723 | D278: =YEAR(DATE(YEAR(Runhours_Table[[#This Row],[Date]]-WEEKDAY(Runhours_Table[[#This Row],[Date]]-1)+4),1,1)-MOD((DATE(YEAR(Runhours_Table[[#This Row],[Date]]-WEEKDAY(Runhours_Table[[#This Row],[Date]]-1)+4),1,1)-2),7)+(7*IF(MOD((DATE(YEAR(Runhours_Table[[#This Row],[Date]]-WEEKDAY(Runhours_Table[[#This Row],[Date]]-1)+4),1,1)-2),7)>3,1,0))+7) -> 2025 | E278: =_xlfn.ISOWEEKNUM(Runhours_Table[[#This Row],[Date]]) -> 10 | F278: =RIGHT(YEAR(Runhours_Table[[#This Row],[Date]]),2)&TEXT(_xlfn.ISOWEEKNUM(Runhours_Table[[#This Row],[Date]]),"00") -> 2510 | G278: 4.988056 | H278: 21.283334 | I278: =_xlfn.ISOWEEKNUM(Runhours_Table[[#This Row],[Date]])+52*(Runhours_Table[[#This Row],[Year]]-YEAR(DATE(YEAR(TODAY()-WEEKDAY(TODAY()-1)+4),1,1)-MOD((DATE(YEAR(TODAY()-WEEKDAY(TODAY()-1)+4),1,1)-2),7)+(7*IF(MOD((DATE(YEAR(TODAY()-WEEKDAY(TODAY()-1)+4),1,1)-2),7)>3,1,0))+7) )-_xlfn.ISOWEEKNUM(NOW()) -> -27
A279: GY86 | B279: =VLOOKUP(A279,Fleet[],2,FALSE) -> Intel | C279: 45723 | D279: =YEAR(DATE(YEAR(Runhours_Table[[#This Row],[Date]]-WEEKDAY(Runhours_Table[[#This Row],[Date]]-1)+4),1,1)-MOD((DATE(YEAR(Runhours_Table[[#This Row],[Date]]-WEEKDAY(Runhours_Table[[#This Row],[Date]]-1)+4),1,1)-2),7)+(7*IF(MOD((DATE(YEAR(Runhours_Table[[#This Row],[Date]]-WEEKDAY(Runhours_Table[[#This Row],[Date]]-1)+4),1,1)-2),7)>3,1,0))+7) -> 2025 | E279: =_xlfn.ISOWEEKNUM(Runhours_Table[[#This Row],[Date]]) -> 10 | F279: =RIGHT(YEAR(Runhours_Table[[#This Row],[Date]]),2)&TEXT(_xlfn.ISOWEEKNUM(Runhours_Table[[#This Row],[Date]]),"00") -> 2510 | G279: 17.523333 | H279: 22.45 | I279: =_xlfn.ISOWEEKNUM(Runhours_Table[[#This Row],[Date]])+52*(Runhours_Table[[#This Row],[Year]]-YEAR(DATE(YEAR(TODAY()-WEEKDAY(TODAY()-1)+4),1,1)-MOD((DATE(YEAR(TODAY()-WEEKDAY(TODAY()-1)+4),1,1)-2),7)+(7*IF(MOD((DATE(YEAR(TODAY()-WEEKDAY(TODAY()-1)+4),1,1)-2),7)>3,1,0))+7) )-_xlfn.ISOWEEKNUM(NOW()) -> -27
A280: CR51 | B280: =VLOOKUP(A280,Fleet[],2,FALSE) -> Intel | C280: 45724 | D280: =YEAR(DATE(YEAR(Runhours_Table[[#This Row],[Date]]-WEEKDAY(Runhours_Table[[#This Row],[Date]]-1)+4),1,1)-MOD((DATE(YEAR(Runhours_Table[[#This Row],[Date]]-WEEKDAY(Runhours_Table[[#This Row],[Date]]-1)+4),1,1)-2),7)+(7*IF(MOD((DATE(YEAR(Runhours_Table[[#This Row],[Date]]-WEEKDAY(Runhours_Table[[#This Row],[Date]]-1)+4),1,1)-2),7)>3,1,0))+7) -> 2025 | E280: =_xlfn.ISOWEEKNUM(Runhours_Table[[#This Row],[Date]]) -> 10 | F280: =RIGHT(YEAR(Runhours_Table[[#This Row],[Date]]),2)&TEXT(_xlfn.ISOWEEKNUM(Runhours_Table[[#This Row],[Date]]),"00") -> 2510 | G280: 6.816667 | H280: 16.9 | I280: =_xlfn.ISOWEEKNUM(Runhours_Table[[#This Row],[Date]])+52*(Runhours_Table[[#This Row],[Year]]-YEAR(DATE(YEAR(TODAY()-WEEKDAY(TODAY()-1)+4),1,1)-MOD((DATE(YEAR(TODAY()-WEEKDAY(TODAY()-1)+4),1,1)-2),7)+(7*IF(MOD((DATE(YEAR(TODAY()-WEEKDAY(TODAY()-1)+4),1,1)-2),7)>3,1,0))+7) )-_xlfn.ISOWEEKNUM(NOW()) -> -27
A281: GY86 | B281: =VLOOKUP(A281,Fleet[],2,FALSE) -> Intel | C281: 45724 | D281: =YEAR(DATE(YEAR(Runhours_Table[[#This Row],[Date]]-WEEKDAY(Runhours_Table[[#This Row],[Date]]-1)+4),1,1)-MOD((DATE(YEAR(Runhours_Table[[#This Row],[Date]]-WEEKDAY(Runhours_Table[[#This Row],[Date]]-1)+4),1,1)-2),7)+(7*IF(MOD((DATE(YEAR(Runhours_Table[[#This Row],[Date]]-WEEKDAY(Runhours_Table[[#This Row],[Date]]-1)+4),1,1)-2),7)>3,1,0))+7) -> 2025 | E281: =_xlfn.ISOWEEKNUM(Runhours_Table[[#This Row],[Date]]) -> 10 | F281: =RIGHT(YEAR(Runhours_Table[[#This Row],[Date]]),2)&TEXT(_xlfn.ISOWEEKNUM(Runhours_Table[[#This Row],[Date]]),"00") -> 2510 | G281: 17.153056 | H281: 19.316667 | I281: =_xlfn.ISOWEEKNUM(Runhours_Table[[#This Row],[Date]])+52*(Runhours_Table[[#This Row],[Year]]-YEAR(DATE(YEAR(TODAY()-WEEKDAY(TODAY()-1)+4),1,1)-MOD((DATE(YEAR(TODAY()-WEEKDAY(TODAY()-1)+4),1,1)-2),7)+(7*IF(MOD((DATE(YEAR(TODAY()-WEEKDAY(TODAY()-1)+4),1,1)-2),7)>3,1,0))+7) )-_xlfn.ISOWEEKNUM(NOW()) -> -27
A282: CR51 | B282: =VLOOKUP(A282,Fleet[],2,FALSE) -> Intel | C282: 45725 | D282: =YEAR(DATE(YEAR(Runhours_Table[[#This Row],[Date]]-WEEKDAY(Runhours_Table[[#This Row],[Date]]-1)+4),1,1)-MOD((DATE(YEAR(Runhours_Table[[#This Row],[Date]]-WEEKDAY(Runhours_Table[[#This Row],[Date]]-1)+4),1,1)-2),7)+(7*IF(MOD((DATE(YEAR(Runhours_Table[[#This Row],[Date]]-WEEKDAY(Runhours_Table[[#This Row],[Date]]-1)+4),1,1)-2),7)>3,1,0))+7) -> 2025 | E282: =_xlfn.ISOWEEKNUM(Runhours_Table[[#This Row],[Date]]) -> 10 | F282: =RIGHT(YEAR(Runhours_Table[[#This Row],[Date]]),2)&TEXT(_xlfn.ISOWEEKNUM(Runhours_Table[[#This Row],[Date]]),"00") -> 2510 | G282: 7.3325 | H282: 15.05 | I282: =_xlfn.ISOWEEKNUM(Runhours_Table[[#This Row],[Date]])+52*(Runhours_Table[[#This Row],[Year]]-YEAR(DATE(YEAR(TODAY()-WEEKDAY(TODAY()-1)+4),1,1)-MOD((DATE(YEAR(TODAY()-WEEKDAY(TODAY()-1)+4),1,1)-2),7)+(7*IF(MOD((DATE(YEAR(TODAY()-WEEKDAY(TODAY()-1)+4),1,1)-2),7)>3,1,0))+7) )-_xlfn.ISOWEEKNUM(NOW()) -> -27
A283: GY86 | B283: =VLOOKUP(A283,Fleet[],2,FALSE) -> Intel | C283: 45725 | D283: =YEAR(DATE(YEAR(Runhours_Table[[#This Row],[Date]]-WEEKDAY(Runhours_Table[[#This Row],[Date]]-1)+4),1,1)-MOD((DATE(YEAR(Runhours_Table[[#This Row],[Date]]-WEEKDAY(Runhours_Table[[#This Row],[Date]]-1)+4),1,1)-2),7)+(7*IF(MOD((DATE(YEAR(Runhours_Table[[#This Row],[Date]]-WEEKDAY(Runhours_Table[[#This Row],[Date]]-1)+4),1,1)-2),7)>3,1,0))+7) -> 2025 | E283: =_xlfn.ISOWEEKNUM(Runhours_Table[[#This Row],[Date]]) -> 10 | F283: =RIGHT(YEAR(Runhours_Table[[#This Row],[Date]]),2)&TEXT(_xlfn.ISOWEEKNUM(Runhours_Table[[#This Row],[Date]]),"00") -> 2510 | G283: 15.081389 | H283: 17.133333 | I283: =_xlfn.ISOWEEKNUM(Runhours_Table[[#This Row],[Date]])+52*(Runhours_Table[[#This Row],[Year]]-YEAR(DATE(YEAR(TODAY()-WEEKDAY(TODAY()-1)+4),1,1)-MOD((DATE(YEAR(TODAY()-WEEKDAY(TODAY()-1)+4),1,1)-2),7)+(7*IF(MOD((DATE(YEAR(TODAY()-WEEKDAY(TODAY()-1)+4),1,1)-2),7)>3,1,0))+7) )-_xlfn.ISOWEEKNUM(NOW()) -> -27
A284: CR51 | B284: =VLOOKUP(A284,Fleet[],2,FALSE) -> Intel | C284: 45726 | D284: =YEAR(DATE(YEAR(Runhours_Table[[#This Row],[Date]]-WEEKDAY(Runhours_Table[[#This Row],[Date]]-1)+4),1,1)-MOD((DATE(YEAR(Runhours_Table[[#This Row],[Date]]-WEEKDAY(Runhours_Table[[#This Row],[Date]]-1)+4),1,1)-2),7)+(7*IF(MOD((DATE(YEAR(Runhours_Table[[#This Row],[Date]]-WEEKDAY(Runhours_Table[[#This Row],[Date]]-1)+4),1,1)-2),7)>3,1,0))+7) -> 2025 | E284: =_xlfn.ISOWEEKNUM(Runhours_Table[[#This Row],[Date]]) -> 11 | F284: =RIGHT(YEAR(Runhours_Table[[#This Row],[Date]]),2)&TEXT(_xlfn.ISOWEEKNUM(Runhours_Table[[#This Row],[Date]]),"00") -> 2511 | G284: 13.650278 | H284: 20.9 | I284: =_xlfn.ISOWEEKNUM(Runhours_Table[[#This Row],[Date]])+52*(Runhours_Table[[#This Row],[Year]]-YEAR(DATE(YEAR(TODAY()-WEEKDAY(TODAY()-1)+4),1,1)-MOD((DATE(YEAR(TODAY()-WEEKDAY(TODAY()-1)+4),1,1)-2),7)+(7*IF(MOD((DATE(YEAR(TODAY()-WEEKDAY(TODAY()-1)+4),1,1)-2),7)>3,1,0))+7) )-_xlfn.ISOWEEKNUM(NOW()) -> -26
A285: GY86 | B285: =VLOOKUP(A285,Fleet[],2,FALSE) -> Intel | C285: 45726 | D285: =YEAR(DATE(YEAR(Runhours_Table[[#This Row],[Date]]-WEEKDAY(Runhours_Table[[#This Row],[Date]]-1)+4),1,1)-MOD((DATE(YEAR(Runhours_Table[[#This Row],[Date]]-WEEKDAY(Runhours_Table[[#This Row],[Date]]-1)+4),1,1)-2),7)+(7*IF(MOD((DATE(YEAR(Runhours_Table[[#This Row],[Date]]-WEEKDAY(Runhours_Table[[#This Row],[Date]]-1)+4),1,1)-2),7)>3,1,0))+7) -> 2025 | E285: =_xlfn.ISOWEEKNUM(Runhours_Table[[#This Row],[Date]]) -> 11 | F285: =RIGHT(YEAR(Runhours_Table[[#This Row],[Date]]),2)&TEXT(_xlfn.ISOWEEKNUM(Runhours_Table[[#This Row],[Date]]),"00") -> 2511 | G285: 6.564167 | H285: 9.35 | I285: =_xlfn.ISOWEEKNUM(Runhours_Table[[#This Row],[Date]])+52*(Runhours_Table[[#This Row],[Year]]-YEAR(DATE(YEAR(TODAY()-WEEKDAY(TODAY()-1)+4),1,1)-MOD((DATE(YEAR(TODAY()-WEEKDAY(TODAY()-1)+4),1,1)-2),7)+(7*IF(MOD((DATE(YEAR(TODAY()-WEEKDAY(TODAY()-1)+4),1,1)-2),7)>3,1,0))+7) )-_xlfn.ISOWEEKNUM(NOW()) -> -26
...

Sheet FC-AV Look up
A1: FC | B1: Av engineer
A2: FC-002 | B2: ANHG
A3: FC-004 | B3: ANHG
A4: FC-010 | B4: ARWY
A5: FC-012 | B5: ARWY
A6: FC-003 | B6: JHVD
A7: FC-048 | B7: JHVD
A8: FC-050 | B8: JHVD
A9: FC-071 | B9: JMTP
A10: FC-072 | B10: JMTP
A11: FC-076 | B11: KNGN
A12: FC-078 | B12: KNGN
... A33: FC-084 | B33: STRG
A34: FC-011
A35: FC-013
A36: FC-014
A37: FC-015
A38: FC-016

Sheet Hit Rate Waterfall
A1: Info | B1: Data
A2: Data Range | B2: WK2502-WK2527
A3: Total Productive Hours | B3: 1777.61
A4: Total Operational Time | B4: 4543.1
A5: #Hits | B5: 57
A6: Down Time | B6: 162.43
A7: Uptime | B7: 3204.75
A10: 13 Weeks TOPX
A11: Error Code | B11: Average Duration | C11: # Hits | D11: Global Reduced Hits | E11: Overall MTBF Improvement | F11: Individual MTBF Gain | G11: Individual Hit Rate Gain | H11: Loss | I11: AV Loss
A12: Baseline (Total) | B12: =H12/C12 -> 2.8496491 | C12: =B5 -> 57 | D12: =C12 -> 57 | E12: =$B$3/D12 -> 31.18614 | G12: =(C12/$B$4)*168 -> 2.1078118 | H12: =B6 -> 162.43 | I12: =H12/$B$4 -> 0.03575312
A13: XLD | B13: =H13/C13 -> 15.81 | C13: 4 | D13: =D12-C13 -> 53 | E13: =$B$3/D13 -> 33.539811 | F13: =$E$44*(C13/$C$44) -> 122.55606 | G13: =(C13/$B$4)*168 -> 0.14791662 | H13: 63.24 | I13: =H13/$B$4 -> 0.013920011
A14: System Specific | B14: =H14/C14 -> 0.645 | C14: 4 | D14: =D13-C14 -> 49 | E14: =$B$3/D14 -> 36.277755 | F14: =$E$44*(C14/$C$44) -> 122.55606 | G14: =(C14/$B$4)*168 -> 0.14791662 | H14: 2.58 | I14: =H14/$B$4 -> 0.00056789417
A15: WX-802A | B15: =H15/C15 -> 1.2433333 | C15: 6 | D15: =D14-C15 -> 43 | E15: =$B$3/D15 -> 41.339767 | F15: =$E$44*(C15/$C$44) -> 183.83409 | G15: =(C15/$B$4)*168 -> 0.22187493 | H15: 7.46 | I15: =H15/$B$4 -> 0.0016420506
A16: DW-5C00 | B16: =H16/C16 -> 1.79 | C16: 3 | D16: =D15-C16 -> 40 | E16: =$B$3/D16 -> 44.44025 | F16: =$E$44*(C16/$C$44) -> 91.917045 | G16: =(C16/$B$4)*168 -> 0.11093747 | H16: 5.37 | I16: =H16/$B$4 -> 0.0011820123
A17: WE-0406 | B17: =H17/C17 -> 1.35 | C17: 3 | D17: =D16-C17 -> 37 | E17: =$B$3/D17 -> 48.043514 | F17: =$E$44*(C17/$C$44) -> 91.917045 | G17: =(C17/$B$4)*168 -> 0.11093747 | H17: 4.05 | I17: =H17/$B$4 -> 0.00089146178
A18: WP-2C1D | B18: =H18/C18 -> 1.75 | C18: 3 | D18: =D17-C18 -> 34 | E18: =$B$3/D18 -> 52.282647 | F18: =$E$44*(C18/$C$44) -> 91.917045 | G18: =(C18/$B$4)*168 -> 0.11093747 | H18: 5.25 | I18: =H18/$B$4 -> 0.0011555986
A19: CN-00A5 | B19: =H19/C19 -> 3.9466667 | C19: 3 | D19: =D18-C19 -> 31 | E19: =$B$3/D19 -> 57.342258 | F19: =$E$44*(C19/$C$44) -> 91.917045 | G19: =(C19/$B$4)*168 -> 0.11093747 | H19: 11.84 | I19: =H19/$B$4 -> 0.00260615
A20: KI-6206 | B20: =H20/C20 -> 1.11 | C20: 2 | D20: =D19-C20 -> 29 | E20: =$B$3/D20 -> 61.296897 | F20: =$E$44*(C20/$C$44) -> 61.27803 | G20: =(C20/$B$4)*168 -> 0.07395831 | H20: 2.22 | I20: =H20/$B$4 -> 0.00048865312
A21: WH-3106 | B21: =H21/C21 -> 2.35 | C21: 2 | D21: =D20-C21 -> 27 | E21: =$B$3/D21 -> 65.837407 | F21: =$E$44*(C21/$C$44) -> 61.27803 | G21: =(C21/$B$4)*168 -> 0.07395831 | H21: 4.7 | I21: =H21/$B$4 -> 0.0010345359
A22: KE-A003 | B22: =H22/C22 -> 1.75 | C22: 2 | D22: =D21-C22 -> 25 | E22: =$B$3/D22 -> 71.1044 | F22: =$E$44*(C22/$C$44) -> 61.27803 | G22: =(C22/$B$4)*168 -> 0.07395831 | H22: 3.5 | I22: =H22/$B$4 -> 0.00077039907
A23: RQ-B006 | B23: =H23/C23 -> 1.535 | C23: 2 | D23: =D22-C23 -> 23 | E23: =$B$3/D23 -> 77.287391 | F23: =$E$44*(C23/$C$44) -> 61.27803 | G23: =(C23/$B$4)*168 -> 0.07395831 | H23: 3.07 | I23: =H23/$B$4 -> 0.00067575004
A24: LAW-1002 | B24: =H24/C24 -> 1.15 | C24: 2 | D24: =D23-C24 -> 21 | E24: =$B$3/D24 -> 84.648095 | F24: =$E$44*(C24/$C$44) -> 61.27803 | G24: =(C24/$B$4)*168 -> 0.07395831 | H24: 2.3 | I24: =H24/$B$4 -> 0.00050626224
... A42: DIS-06C2 | B42: =H42/C42 -> 4.05 | C42: 1 | D42: =D41-C42 -> 1 | E42: =$B$3/D42 -> 1777.61 | F42: =$E$44*(C42/$C$44) -> 30.639015 | G42: =(C42/$B$4)*168 -> 0.036979155 | H42: 4.05 | I42: =H42/$B$4 -> 0.00089146178
A43: PX-0A14 | B43: =H43/C43 -> 2.08 | C43: 1 | D43: =D42-C43 -> 0 | E43: =B3 -> 1777.61 | F43: =$E$44*(C43/$C$44) -> 30.639015 | G43: =(C43/$B$4)*168 -> 0.036979155 | H43: 2.08 | I43: =H43/$B$4 -> 0.00045783716
B44: Grand Total | C44: =SUM(C13:C43) -> 57 | D44: 0 | E44: =E43-E12 -> 1746.4239 | F44: =SUM(F13:F43) -> 1746.4239 | G44: =G12-SUM(G13:G43) -> 0 | H44: =H12-SUM(H13:H43) -> 5.71 | I44: =I12-SUM(I13:I43) -> 0.001256851
A48: Baseline | B48: 2.11
A49: XLD | B49: -0.15
A50: System Specific | B50: -0.15
A51: D&E Baseline | B51: =SUM(B48:B50) -> 1.81
A52: Solution Released | B52: -0.44
A53: Solution Known | B53: -0.44
A54: Solution Capability | B54: =SUM(B51:B53) -> 0.93
A55: Under investigation | B55: -0.81
A56: Investigation Capability | B56: =SUM(B54:B55) -> 0.12
A57: Need Investigation | B57: -0.12
A58: Capability | B58: 0

Sheet Error_Log
A1: System | B1: Customer | C1: Root_Error | D1: Year | E1: Week_Number | F1: Year_Week_Number | G1: Date | H1: SDT_Timestamp | I1: Description | J1: EPmID | K1: Duration | L1: FC | M1: SO | N1: AIR | O1: link | P1: AIR_issue_confirmed | Q1: AIR_FC | R1: Air_issue_description | S1: Close_notes | T1: WY | U1: P_Hits | V1: U_Hits | W1: Reconciled | X1: AIR2 | Y1: Event_code | Z1: Category | AA1: XLD | AB1: Week_Diff | AC1: In_MTBFP_AND_Ulist | AD1: Link_Timestamp | AE1: Check_P_U | AF1: NomolaPos
A2: GY86 | B2: =VLOOKUP(A2,'5000_Fleet'!A:D,2,FALSE) -> Intel | C2: RQ-8120 | D2: =YEAR(DATE(YEAR(Errorlog_table[[#This Row],[Date]]-WEEKDAY(Errorlog_table[[#This Row],[Date]]-1)+4),1,1)-MOD((DATE(YEAR(Errorlog_table[[#This Row],[Date]]-WEEKDAY(Errorlog_table[[#This Row],[Date]]-1)+4),1,1)-2),7)+(7*IF(MOD((DATE(YEAR(Errorlog_table[[#This Row],[Date]]-WEEKDAY(Errorlog_table[[#This Row],[Date]]-1)+4),1,1)-2),7)>3,1,0))+7) -> 2024 | E2: =VALUE(TEXT(_xlfn.ISOWEEKNUM(Errorlog_table[[#This Row],[Date]]),"00")) -> 52 | F2: =VALUE((Errorlog_table[[#This Row],[Year]])&TEXT(Errorlog_table[[#This Row],[Week_Number]],"00")) -> 202452 | G2: 45650 | H2: 09:07:00 | I2: EpmID:104643| SCN - Lot Abort for RS-Reinit (Lot Abort) | RQ-8120 | | J2: =IF(LEN(VALUE(MID(Errorlog_table[[#This Row],[Description]],FIND(":",Errorlog_table[[#This Row],[Description]])+1,6)))>1,MID(Errorlog_table[[#This Row],[Description]],FIND(":",Errorlog_table[[#This Row],[Description]])+1,6),"") -> 104643 | K2: 14.866667 | L2: FC-004 | M2: 0 | N2: P847221 | O2: =IF(N2="",HYPERLINK("https://air.asml.com/textsearch.do?sysparm_search="&M2,M2),HYPERLINK("https://air.asml.com/u_qm_issues.do?sysparm_query=number="&N2,N2)) -> P847221 | P2: =LEN(Errorlog_table[[#This Row],[AIR]]) -> 7 | Q2: {=IF(OR(Errorlog_table[[#This Row],[AIR]]="n/a",Errorlog_table[[#This Row],[Event_code]]="Y"),"n/a",IF(Errorlog_table[[#This Row],[AIR]]="","no AIR",_xlfn.XLOOKUP(Errorlog_table[[#This Row],[AIR]],AIR_dump[[#All],[Number]],AIR_dump[[#All],[Type]],"not found",0,1)))} -> 0 | R2: {=IF(OR(Errorlog_table[[#This Row],[AIR]]="n/a",Errorlog_table[[#This Row],[Event_code]]="Y"),"n/a",IF(Errorlog_table[[#This Row],[AIR]]="","no AIR",_xlfn.XLOOKUP(Errorlog_table[[#This Row],[AIR]],AIR_dump[[#All],[Number]],AIR_dump[[#All],[Summary]],"not found",0,1)))} -> [Intel][RS] Online PF Residual out of limits due to SS dynamics link drift | S2: {=_xlfn.XLOOKUP(Errorlog_table[[#This Row],[AIR]],AIR_dump[[#All],[Number]],AIR_dump[[#All],[Close notes]])} -> RCA | T2: =Errorlog_table[[#This Row],[Year_Week_Number]] -> 202452 | U2: Y | V2: Y | W2: =Errorlog_table[[#This Row],[System]] -> GY86 | X2: =Errorlog_table[[#This Row],[link]] -> P847221 | Y2: =LEN(Errorlog_table[[#This Row],[P_Hits]]) -> 1 | Z2: =Errorlog_table[[#This Row],[Description]] -> EpmID:104643| SCN - Lot Abort for RS-Reinit (Lot Abort) | RQ-8120 | | AB2: =_xlfn.ISOWEEKNUM(Errorlog_table[[#This Row],[Date]])+52*(Errorlog_table[[#This Row],[Year]]-YEAR(DATE(YEAR(TODAY()-WEEKDAY(TODAY()-1)+4),1,1)-MOD((DATE(YEAR(TODAY()-WEEKDAY(TODAY()-1)+4),1,1)-2),7)+(7*IF(MOD((DATE(YEAR(TODAY()-WEEKDAY(TODAY()-1)+4),1,1)-2),7)>3,1,0))+7) )-_xlfn.ISOWEEKNUM(NOW()) -> -37 | AD2: =TEXT(Errorlog_table[[#This Row],[Date]],"yyyy-mm-dd")&"_"&TEXT(Errorlog_table[[#This Row],[SDT_Timestamp]],"HH:MM:SS")&"_"&Errorlog_table[[#This Row],[System]] -> 2024-12-24_09:07:00_GY86 | AE2: =Errorlog_table[[#This Row],[P_Hits]] -> Y | AF2: 0
A3: CR51 | B3: =VLOOKUP(A3,'5000_Fleet'!A:D,2,FALSE) -> Intel | C3: MEP-0106 | D3: =YEAR(DATE(YEAR(Errorlog_table[[#This Row],[Date]]-WEEKDAY(Errorlog_table[[#This Row],[Date]]-1)+4),1,1)-MOD((DATE(YEAR(Errorlog_table[[#This Row],[Date]]-WEEKDAY(Errorlog_table[[#This Row],[Date]]-1)+4),1,1)-2),7)+(7*IF(MOD((DATE(YEAR(Errorlog_table[[#This Row],[Date]]-WEEKDAY(Errorlog_table[[#This Row],[Date]]-1)+4),1,1)-2),7)>3,1,0))+7) -> 2024 | E3: =VALUE(TEXT(_xlfn.ISOWEEKNUM(Errorlog_table[[#This Row],[Date]]),"00")) -> 52 | F3: =VALUE((Errorlog_table[[#This Row],[Year]])&TEXT(Errorlog_table[[#This Row],[Week_Number]],"00")) -> 202452 | G3: 45650 | H3: 05:30:00 | I3: EpmID:104638| SRC - Down after Lot Abort | MEP-0106 | | J3: =IF(LEN(VALUE(MID(Errorlog_table[[#This Row],[Description]],FIND(":",Errorlog_table[[#This Row],[Description]])+1,6)))>1,MID(Errorlog_table[[#This Row],[Description]],FIND(":",Errorlog_table[[#This Row],[Description]])+1,6),"") -> 104638 | K3: 5.833333 | L3: FC-712 | M3: 53013086 | N3: P851510 | O3: =IF(N3="",HYPERLINK("https://air.asml.com/textsearch.do?sysparm_search="&M3,M3),HYPERLINK("https://air.asml.com/u_qm_issues.do?sysparm_query=number="&N3,N3)) -> P851510 | P3: =LEN(Errorlog_table[[#This Row],[AIR]]) -> 7 | Q3: {=IF(OR(Errorlog_table[[#This Row],[AIR]]="n/a",Errorlog_table[[#This Row],[Event_code]]="Y"),"n/a",IF(Errorlog_table[[#This Row],[AIR]]="","no AIR",_xlfn.XLOOKUP(Errorlog_table[[#This Row],[AIR]],AIR_dump[[#All],[Number]],AIR_dump[[#All],[Type]],"not found",0,1)))} -> 0 | R3: {=IF(OR(Errorlog_table[[#This Row],[AIR]]="n/a",Errorlog_table[[#This Row],[Event_code]]="Y"),"n/a",IF(Errorlog_table[[#This Row],[AIR]]="","no AIR",_xlfn.XLOOKUP(Errorlog_table[[#This Row],[AIR]],AIR_dump[[#All],[Number]],AIR_dump[[#All],[Summary]],"not found",0,1)))} -> P851510 - [EXE 5000] [CR51] Request to investigate and add failure mode to DDF: Incorrect or no flow | S3: {=_xlfn.XLOOKUP(Errorlog_table[[#This Row],[AIR]],AIR_dump[[#All],[Number]],AIR_dump[[#All],[Close notes]])} -> RCA | T3: =Errorlog_table[[#This Row],[Year_Week_Number]] -> 202452 | U3: Y | V3: Y | W3: =Errorlog_table[[#This Row],[System]] -> CR51 | X3: =Errorlog_table[[#This Row],[link]] -> P851510 | Y3: =LEN(Errorlog_table[[#This Row],[P_Hits]]) -> 1 | Z3: =Errorlog_table[[#This Row],[Description]] -> EpmID:104638| SRC - Down after Lot Abort | MEP-0106 | | AB3: =_xlfn.ISOWEEKNUM(Errorlog_table[[#This Row],[Date]])+52*(Errorlog_table[[#This Row],[Year]]-YEAR(DATE(YEAR(TODAY()-WEEKDAY(TODAY()-1)+4),1,1)-MOD((DATE(YEAR(TODAY()-WEEKDAY(TODAY()-1)+4),1,1)-2),7)+(7*IF(MOD((DATE(YEAR(TODAY()-WEEKDAY(TODAY()-1)+4),1,1)-2),7)>3,1,0))+7) )-_xlfn.ISOWEEKNUM(NOW()) -> -37 | AD3: =TEXT(Errorlog_table[[#This Row],[Date]],"yyyy-mm-dd")&"_"&TEXT(Errorlog_table[[#This Row],[SDT_Timestamp]],"HH:MM:SS")&"_"&Errorlog_table[[#This Row],[System]] -> 2024-12-24_05:30:00_CR51 | AE3: =Errorlog_table[[#This Row],[P_Hits]] -> Y | AF3: 0
A4: CR51 | B4: =VLOOKUP(A4,'5000_Fleet'!A:D,2,FALSE) -> Intel | C4: LSP-01B3 | D4: =YEAR(DATE(YEAR(Errorlog_table[[#This Row],[Date]]-WEEKDAY(Errorlog_table[[#This Row],[Date]]-1)+4),1,1)-MOD((DATE(YEAR(Errorlog_table[[#This Row],[Date]]-WEEKDAY(Errorlog_table[[#This Row],[Date]]-1)+4),1,1)-2),7)+(7*IF(MOD((DATE(YEAR(Errorlog_table[[#This Row],[Date]]-WEEKDAY(Errorlog_table[[#This Row],[Date]]-1)+4),1,1)-2),7)>3,1,0))+7) -> 2024 | E4: =VALUE(TEXT(_xlfn.ISOWEEKNUM(Errorlog_table[[#This Row],[Date]]),"00")) -> 52 | F4: =VALUE((Errorlog_table[[#This Row],[Year]])&TEXT(Errorlog_table[[#This Row],[Week_Number]],"00")) -> 202452 | G4: 45650 | H4: 14:05:00 | I4: EpmID:105038| SRC - DL error unable to load customer jobs. | LSP-01B3 | | J4: =IF(LEN(VALUE(MID(Errorlog_table[[#This Row],[Description]],FIND(":",Errorlog_table[[#This Row],[Description]])+1,6)))>1,MID(Errorlog_table[[#This Row],[Description]],FIND(":",Errorlog_table[[#This Row],[Description]])+1,6),"") -> 105038 | K4: 2.3 | L4: FC-712 | M4: 53013308 | O4: =IF(N4="",HYPERLINK("https://air.asml.com/textsearch.do?sysparm_search="&M4,M4),HYPERLINK("https://air.asml.com/u_qm_issues.do?sysparm_query=number="&N4,N4)) -> 53013308 | P4: =LEN(Errorlog_table[[#This Row],[AIR]]) -> 0 | Q4: {=IF(OR(Errorlog_table[[#This Row],[AIR]]="n/a",Errorlog_table[[#This Row],[Event_code]]="Y"),"n/a",IF(Errorlog_table[[#This Row],[AIR]]="","no AIR",_xlfn.XLOOKUP(Errorlog_table[[#This Row],[AIR]],AIR_dump[[#All],[Number]],AIR_dump[[#All],[Type]],"not found",0,1)))} -> no AIR | R4: =Errorlog_table[[#This Row],[Description]] -> EpmID:105038| SRC - DL error unable to load customer jobs. | LSP-01B3 | | S4: {=_xlfn.XLOOKUP(Errorlog_table[[#This Row],[AIR]],AIR_dump[[#All],[Number]],AIR_dump[[#All],[Close notes]])} -> 0 | T4: =Errorlog_table[[#This Row],[Year_Week_Number]] -> 202452 | U4: N | V4: Y | W4: =Errorlog_table[[#This Row],[System]] -> CR51 | X4: =Errorlog_table[[#This Row],[link]] -> 53013308 | Y4: =LEN(Errorlog_table[[#This Row],[P_Hits]]) -> 1 | Z4: =Errorlog_table[[#This Row],[Description]] -> EpmID:105038| SRC - DL error unable to load customer jobs. | LSP-01B3 | | AB4: =_xlfn.ISOWEEKNUM(Errorlog_table[[#This Row],[Date]])+52*(Errorlog_table[[#This Row],[Year]]-YEAR(DATE(YEAR(TODAY()-WEEKDAY(TODAY()-1)+4),1,1)-MOD((DATE(YEAR(TODAY()-WEEKDAY(TODAY()-1)+4),1,1)-2),7)+(7*IF(MOD((DATE(YEAR(TODAY()-WEEKDAY(TODAY()-1)+4),1,1)-2),7)>3,1,0))+7) )-_xlfn.ISOWEEKNUM(NOW()) -> -37 | AD4: =TEXT(Errorlog_table[[#This Row],[Date]],"yyyy-mm-dd")&"_"&TEXT(Errorlog_table[[#This Row],[SDT_Timestamp]],"HH:MM:SS")&"_"&Errorlog_table[[#This Row],[System]] -> 2024-12-24_14:05:00_CR51 | AE4: =Errorlog_table[[#This Row],[P_Hits]] -> N | AF4: 0
A5: CR51 | B5: =VLOOKUP(A5,'5000_Fleet'!A:D,2,FALSE) -> Intel | C5: DW-56C6 | D5: =YEAR(DATE(YEAR(Errorlog_table[[#This Row],[Date]]-WEEKDAY(Errorlog_table[[#This Row],[Date]]-1)+4),1,1)-MOD((DATE(YEAR(Errorlog_table[[#This Row],[Date]]-WEEKDAY(Errorlog_table[[#This Row],[Date]]-1)+4),1,1)-2),7)+(7*IF(MOD((DATE(YEAR(Errorlog_table[[#This Row],[Date]]-WEEKDAY(Errorlog_table[[#This Row],[Date]]-1)+4),1,1)-2),7)>3,1,0))+7) -> 2024 | E5: =VALUE(TEXT(_xlfn.ISOWEEKNUM(Errorlog_table[[#This Row],[Date]]),"00")) -> 52 | F5: =VALUE((Errorlog_table[[#This Row],[Year]])&TEXT(Errorlog_table[[#This Row],[Week_Number]],"00")) -> 202452 | G5: 45651 | H5: 00:25:00 | I5: EpmID:105030| SCN - DW-56C6 Lot Abort | DW-56C6 | | J5: =IF(LEN(VALUE(MID(Errorlog_table[[#This Row],[Description]],FIND(":",Errorlog_table[[#This Row],[Description]])+1,6)))>1,MID(Errorlog_table[[#This Row],[Description]],FIND(":",Errorlog_table[[#This Row],[Description]])+1,6),"") -> 105030 | K5: 4.45 | M5: 0 | N5: P820381 | O5: =IF(N5="",HYPERLINK("https://air.asml.com/textsearch.do?sysparm_search="&M5,M5),HYPERLINK("https://air.asml.com/u_qm_issues.do?sysparm_query=number="&N5,N5)) -> P820381 | P5: =LEN(Errorlog_table[[#This Row],[AIR]]) -> 7 | Q5: {=IF(OR(Errorlog_table[[#This Row],[AIR]]="n/a",Errorlog_table[[#This Row],[Event_code]]="Y"),"n/a",IF(Errorlog_table[[#This Row],[AIR]]="","no AIR",_xlfn.XLOOKUP(Errorlog_table[[#This Row],[AIR]],AIR_dump[[#All],[Number]],AIR_dump[[#All],[Type]],"not found",0,1)))} -> 0 | R5: {=IF(OR(Errorlog_table[[#This Row],[AIR]]="n/a",Errorlog_table[[#This Row],[Event_code]]="Y"),"n/a",IF(Errorlog_table[[#This Row],[AIR]]="","no AIR",_xlfn.XLOOKUP(Errorlog_table[[#This Row],[AIR]],AIR_dump[[#All],[Number]],AIR_dump[[#All],[Summary]],"not found",0,1)))} -> P820381 - |Proto2| |VHV| |mEX04| Lot Abort Due to DW-56C6 Real Time Sensor Link communication with D | S5: {=_xlfn.XLOOKUP(Errorlog_table[[#This Row],[AIR]],AIR_dump[[#All],[Number]],AIR_dump[[#All],[Close notes]])} -> Containment in SP22 since not occurred | T5: =Errorlog_table[[#This Row],[Year_Week_Number]] -> 202452 | U5: Y | V5: Y | W5: =Errorlog_table[[#This Row],[System]] -> CR51 | X5: =Errorlog_table[[#This Row],[link]] -> P820381 | Y5: =LEN(Errorlog_table[[#This Row],[P_Hits]]) -> 1 | Z5: =Errorlog_table[[#This Row],[Description]] -> EpmID:105030| SCN - DW-56C6 Lot Abort | DW-56C6 | | AB5: =_xlfn.ISOWEEKNUM(Errorlog_table[[#This Row],[Date]])+52*(Errorlog_table[[#This Row],[Year]]-YEAR(DATE(YEAR(TODAY()-WEEKDAY(TODAY()-1)+4),1,1)-MOD((DATE(YEAR(TODAY()-WEEKDAY(TODAY()-1)+4),1,1)-2),7)+(7*IF(MOD((DATE(YEAR(TODAY()-WEEKDAY(TODAY()-1)+4),1,1)-2),7)>3,1,0))+7) )-_xlfn.ISOWEEKNUM(NOW()) -> -37 | AD5: =TEXT(Errorlog_table[[#This Row],[Date]],"yyyy-mm-dd")&"_"&TEXT(Errorlog_table[[#This Row],[SDT_Timestamp]],"HH:MM:SS")&"_"&Errorlog_table[[#This Row],[System]] -> 2024-12-25_00:25:00_CR51 | AE5: =Errorlog_table[[#This Row],[P_Hits]] -> Y | AF5: 0
A6: CR51 | B6: =VLOOKUP(A6,'5000_Fleet'!A:D,2,FALSE) -> Intel | C6: LAB-002D | D6: =YEAR(DATE(YEAR(Errorlog_table[[#This Row],[Date]]-WEEKDAY(Errorlog_table[[#This Row],[Date]]-1)+4),1,1)-MOD((DATE(YEAR(Errorlog_table[[#This Row],[Date]]-WEEKDAY(Errorlog_table[[#This Row],[Date]]-1)+4),1,1)-2),7)+(7*IF(MOD((DATE(YEAR(Errorlog_table[[#This Row],[Date]]-WEEKDAY(Errorlog_table[[#This Row],[Date]]-1)+4),1,1)-2),7)>3,1,0))+7) -> 2024 | E6: =VALUE(TEXT(_xlfn.ISOWEEKNUM(Errorlog_table[[#This Row],[Date]]),"00")) -> 52 | F6: =VALUE((Errorlog_table[[#This Row],[Year]])&TEXT(Errorlog_table[[#This Row],[Week_Number]],"00")) -> 202452 | G6: 45652 | H6: 00:14:00 | I6: EpmID:105044| SRC - Lot abort for SRC error | LAB-002D | | J6: =IF(LEN(VALUE(MID(Errorlog_table[[#This Row],[Description]],FIND(":",Errorlog_table[[#This Row],[Description]])+1,6)))>1,MID(Errorlog_table[[#This Row],[Description]],FIND(":",Errorlog_table[[#This Row],[Description]])+1,6),"") -> 105044 | K6: 1.633333 | L6: FC-712 | M6: 53016044 | N6: P851510 | O6: =IF(N6="",HYPERLINK("https://air.asml.com/textsearch.do?sysparm_search="&M6,M6),HYPERLINK("https://air.asml.com/u_qm_issues.do?sysparm_query=number="&N6,N6)) -> P851510 | P6: =LEN(Errorlog_table[[#This Row],[AIR]]) -> 7 | Q6: {=IF(OR(Errorlog_table[[#This Row],[AIR]]="n/a",Errorlog_table[[#This Row],[Event_code]]="Y"),"n/a",IF(Errorlog_table[[#This Row],[AIR]]="","no AIR",_xlfn.XLOOKUP(Errorlog_table[[#This Row],[AIR]],AIR_dump[[#All],[Number]],AIR_dump[[#All],[Type]],"not found",0,1)))} -> 0 | R6: =Errorlog_table[[#This Row],[Description]] -> EpmID:105044| SRC - Lot abort for SRC error | LAB-002D | | S6: {=_xlfn.XLOOKUP(Errorlog_table[[#This Row],[AIR]],AIR_dump[[#All],[Number]],AIR_dump[[#All],[Close notes]])} -> RCA | T6: =Errorlog_table[[#This Row],[Year_Week_Number]] -> 202452 | U6: Y | V6: Y | W6: =Errorlog_table[[#This Row],[System]] -> CR51 | X6: =Errorlog_table[[#This Row],[link]] -> P851510 | Y6: =LEN(Errorlog_table[[#This Row],[P_Hits]]) -> 1 | Z6: =Errorlog_table[[#This Row],[Description]] -> EpmID:105044| SRC - Lot abort for SRC error | LAB-002D | | AB6: =_xlfn.ISOWEEKNUM(Errorlog_table[[#This Row],[Date]])+52*(Errorlog_table[[#This Row],[Year]]-YEAR(DATE(YEAR(TODAY()-WEEKDAY(TODAY()-1)+4),1,1)-MOD((DATE(YEAR(TODAY()-WEEKDAY(TODAY()-1)+4),1,1)-2),7)+(7*IF(MOD((DATE(YEAR(TODAY()-WEEKDAY(TODAY()-1)+4),1,1)-2),7)>3,1,0))+7) )-_xlfn.ISOWEEKNUM(NOW()) -> -37 | AD6: =TEXT(Errorlog_table[[#This Row],[Date]],"yyyy-mm-dd")&"_"&TEXT(Errorlog_table[[#This Row],[SDT_Timestamp]],"HH:MM:SS")&"_"&Errorlog_table[[#This Row],[System]] -> 2024-12-26_00:14:00_CR51 | AE6: =Errorlog_table[[#This Row],[P_Hits]] -> Y | AF6: 0
A7: GY86 | B7: =VLOOKUP(A7,'5000_Fleet'!A:D,2,FALSE) -> Intel | C7: RQ-8120 | D7: =YEAR(DATE(YEAR(Errorlog_table[[#This Row],[Date]]-WEEKDAY(Errorlog_table[[#This Row],[Date]]-1)+4),1,1)-MOD((DATE(YEAR(Errorlog_table[[#This Row],[Date]]-WEEKDAY(Errorlog_table[[#This Row],[Date]]-1)+4),1,1)-2),7)+(7*IF(MOD((DATE(YEAR(Errorlog_table[[#This Row],[Date]]-WEEKDAY(Errorlog_table[[#This Row],[Date]]-1)+4),1,1)-2),7)>3,1,0))+7) -> 2024 | E7: =VALUE(TEXT(_xlfn.ISOWEEKNUM(Errorlog_table[[#This Row],[Date]]),"00")) -> 52 | F7: =VALUE((Errorlog_table[[#This Row],[Year]])&TEXT(Errorlog_table[[#This Row],[Week_Number]],"00")) -> 202452 | G7: 45653 | H7: 00:55:00 | I7: EpmID:105095| SCN - Lot abort for PF residue OOL | RQ-8120 | | J7: =IF(LEN(VALUE(MID(Errorlog_table[[#This Row],[Description]],FIND(":",Errorlog_table[[#This Row],[Description]])+1,6)))>1,MID(Errorlog_table[[#This Row],[Description]],FIND(":",Errorlog_table[[#This Row],[Description]])+1,6),"") -> 105095 | K7: 2.883333 | M7: 0 | N7: P847221 | O7: =IF(N7="",HYPERLINK("https://air.asml.com/textsearch.do?sysparm_search="&M7,M7),HYPERLINK("https://air.asml.com/u_qm_issues.do?sysparm_query=number="&N7,N7)) -> P847221 | P7: =LEN(Errorlog_table[[#This Row],[AIR]]) -> 7 | Q7: {=IF(OR(Errorlog_table[[#This Row],[AIR]]="n/a",Errorlog_table[[#This Row],[Event_code]]="Y"),"n/a",IF(Errorlog_table[[#This Row],[AIR]]="","no AIR",_xlfn.XLOOKUP(Errorlog_table[[#This Row],[AIR]],AIR_dump[[#All],[Number]],AIR_dump[[#All],[Type]],"not found",0,1)))} -> 0 | R7: {=IF(OR(Errorlog_table[[#This Row],[AIR]]="n/a",Errorlog_table[[#This Row],[Event_code]]="Y"),"n/a",IF(Errorlog_table[[#This Row],[AIR]]="","no AIR",_xlfn.XLOOKUP(Errorlog_table[[#This Row],[AIR]],AIR_dump[[#All],[Number]],AIR_dump[[#All],[Summary]],"not found",0,1)))} -> [Intel][RS] Online PF Residual out of limits due to SS dynamics link drift | S7: {=_xlfn.XLOOKUP(Errorlog_table[[#This Row],[AIR]],AIR_dump[[#All],[Number]],AIR_dump[[#All],[Close notes]])} -> RCA | T7: =Errorlog_table[[#This Row],[Year_Week_Number]] -> 202452 | U7: Y | V7: Y | W7: =Errorlog_table[[#This Row],[System]] -> GY86 | X7: =Errorlog_table[[#This Row],[link]] -> P847221 | Y7: =LEN(Errorlog_table[[#This Row],[P_Hits]]) -> 1 | Z7: =Errorlog_table[[#This Row],[Description]] -> EpmID:105095| SCN - Lot abort for PF residue OOL | RQ-8120 | | AB7: =_xlfn.ISOWEEKNUM(Errorlog_table[[#This Row],[Date]])+52*(Errorlog_table[[#This Row],[Year]]-YEAR(DATE(YEAR(TODAY()-WEEKDAY(TODAY()-1)+4),1,1)-MOD((DATE(YEAR(TODAY()-WEEKDAY(TODAY()-1)+4),1,1)-2),7)+(7*IF(MOD((DATE(YEAR(TODAY()-WEEKDAY(TODAY()-1)+4),1,1)-2),7)>3,1,0))+7) )-_xlfn.ISOWEEKNUM(NOW()) -> -37 | AD7: =TEXT(Errorlog_table[[#This Row],[Date]],"yyyy-mm-dd")&"_"&TEXT(Errorlog_table[[#This Row],[SDT_Timestamp]],"HH:MM:SS")&"_"&Errorlog_table[[#This Row],[System]] -> 2024-12-27_00:55:00_GY86 | AE7: =Errorlog_table[[#This Row],[P_Hits]] -> Y | AF7: 0
A8: CR51 | B8: =VLOOKUP(A8,'5000_Fleet'!A:D,2,FALSE) -> Intel | C8: LAB-002D | D8: =YEAR(DATE(YEAR(Errorlog_table[[#This Row],[Date]]-WEEKDAY(Errorlog_table[[#This Row],[Date]]-1)+4),1,1)-MOD((DATE(YEAR(Errorlog_table[[#This Row],[Date]]-WEEKDAY(Errorlog_table[[#This Row],[Date]]-1)+4),1,1)-2),7)+(7*IF(MOD((DATE(YEAR(Errorlog_table[[#This Row],[Date]]-WEEKDAY(Errorlog_table[[#This Row],[Date]]-1)+4),1,1)-2),7)>3,1,0))+7) -> 2024 | E8: =VALUE(TEXT(_xlfn.ISOWEEKNUM(Errorlog_table[[#This Row],[Date]]),"00")) -> 52 | F8: =VALUE((Errorlog_table[[#This Row],[Year]])&TEXT(Errorlog_table[[#This Row],[Week_Number]],"00")) -> 202452 | G8: 45653 | H8: 09:42:00 | I8: EpmID:105031| CO2 - TRUC RF error | LAB-002D | | J8: =IF(LEN(VALUE(MID(Errorlog_table[[#This Row],[Description]],FIND(":",Errorlog_table[[#This Row],[Description]])+1,6)))>1,MID(Errorlog_table[[#This Row],[Description]],FIND(":",Errorlog_table[[#This Row],[Description]])+1,6),"") -> 105031 | K8: 0.783333 | L8: FC-712 | M8: 53013086 | N8: P851510 | O8: =IF(N8="",HYPERLINK("https://air.asml.com/textsearch.do?sysparm_search="&M8,M8),HYPERLINK("https://air.asml.com/u_qm_issues.do?sysparm_query=number="&N8,N8)) -> P851510 | P8: =LEN(Errorlog_table[[#This Row],[AIR]]) -> 7 | Q8: {=IF(OR(Errorlog_table[[#This Row],[AIR]]="n/a",Errorlog_table[[#This Row],[Event_code]]="Y"),"n/a",IF(Errorlog_table[[#This Row],[AIR]]="","no AIR",_xlfn.XLOOKUP(Errorlog_table[[#This Row],[AIR]],AIR_dump[[#All],[Number]],AIR_dump[[#All],[Type]],"not found",0,1)))} -> 0 | R8: {=IF(OR(Errorlog_table[[#This Row],[AIR]]="n/a",Errorlog_table[[#This Row],[Event_code]]="Y"),"n/a",IF(Errorlog_table[[#This Row],[AIR]]="","no AIR",_xlfn.XLOOKUP(Errorlog_table[[#This Row],[AIR]],AIR_dump[[#All],[Number]],AIR_dump[[#All],[Summary]],"not found",0,1)))} -> P851510 - [EXE 5000] [CR51] Request to investigate and add failure mode to DDF: Incorrect or no flow | S8: {=_xlfn.XLOOKUP(Errorlog_table[[#This Row],[AIR]],AIR_dump[[#All],[Number]],AIR_dump[[#All],[Close notes]])} -> RCA | T8: =Errorlog_table[[#This Row],[Year_Week_Number]] -> 202452 | U8: N | V8: Y | W8: =Errorlog_table[[#This Row],[System]] -> CR51 | X8: =Errorlog_table[[#This Row],[link]] -> P851510 | Y8: =LEN(Errorlog_table[[#This Row],[P_Hits]]) -> 1 | Z8: =Errorlog_table[[#This Row],[Description]] -> EpmID:105031| CO2 - TRUC RF error | LAB-002D | | AB8: =_xlfn.ISOWEEKNUM(Errorlog_table[[#This Row],[Date]])+52*(Errorlog_table[[#This Row],[Year]]-YEAR(DATE(YEAR(TODAY()-WEEKDAY(TODAY()-1)+4),1,1)-MOD((DATE(YEAR(TODAY()-WEEKDAY(TODAY()-1)+4),1,1)-2),7)+(7*IF(MOD((DATE(YEAR(TODAY()-WEEKDAY(TODAY()-1)+4),1,1)-2),7)>3,1,0))+7) )-_xlfn.ISOWEEKNUM(NOW()) -> -37 | AD8: =TEXT(Errorlog_table[[#This Row],[Date]],"yyyy-mm-dd")&"_"&TEXT(Errorlog_table[[#This Row],[SDT_Timestamp]],"HH:MM:SS")&"_"&Errorlog_table[[#This Row],[System]] -> 2024-12-27_09:42:00_CR51 | AE8: =Errorlog_table[[#This Row],[P_Hits]] -> N | AF8: 0
A9: GY86 | B9: =VLOOKUP(A9,'5000_Fleet'!A:D,2,FALSE) -> Intel | C9: ZH-221D | D9: =YEAR(DATE(YEAR(Errorlog_table[[#This Row],[Date]]-WEEKDAY(Errorlog_table[[#This Row],[Date]]-1)+4),1,1)-MOD((DATE(YEAR(Errorlog_table[[#This Row],[Date]]-WEEKDAY(Errorlog_table[[#This Row],[Date]]-1)+4),1,1)-2),7)+(7*IF(MOD((DATE(YEAR(Errorlog_table[[#This Row],[Date]]-WEEKDAY(Errorlog_table[[#This Row],[Date]]-1)+4),1,1)-2),7)>3,1,0))+7) -> 2024 | E9: =VALUE(TEXT(_xlfn.ISOWEEKNUM(Errorlog_table[[#This Row],[Date]]),"00")) -> 52 | F9: =VALUE((Errorlog_table[[#This Row],[Year]])&TEXT(Errorlog_table[[#This Row],[Week_Number]],"00")) -> 202452 | G9: 45654 | H9: 13:39:00 | I9: EpmID:105070| SCN - Lot Abort for ZH-221D | ZH-221D | | J9: =IF(LEN(VALUE(MID(Errorlog_table[[#This Row],[Description]],FIND(":",Errorlog_table[[#This Row],[Description]])+1,6)))>1,MID(Errorlog_table[[#This Row],[Description]],FIND(":",Errorlog_table[[#This Row],[Description]])+1,6),"") -> 105070 | K9: 6.033333 | L9: FC-025 | M9: 0 | N9: P814232 | O9: =IF(N9="",HYPERLINK("https://air.asml.com/textsearch.do?sysparm_search="&M9,M9),HYPERLINK("https://air.asml.com/u_qm_issues.do?sysparm_query=number="&N9,N9)) -> P814232 | P9: =LEN(Errorlog_table[[#This Row],[AIR]]) -> 7 | Q9: {=IF(OR(Errorlog_table[[#This Row],[AIR]]="n/a",Errorlog_table[[#This Row],[Event_code]]="Y"),"n/a",IF(Errorlog_table[[#This Row],[AIR]]="","no AIR",_xlfn.XLOOKUP(Errorlog_table[[#This Row],[AIR]],AIR_dump[[#All],[Number]],AIR_dump[[#All],[Type]],"not found",0,1)))} -> ZK | R9: {=IF(OR(Errorlog_table[[#This Row],[AIR]]="n/a",Errorlog_table[[#This Row],[Event_code]]="Y"),"n/a",IF(Errorlog_table[[#This Row],[AIR]]="","no AIR",_xlfn.XLOOKUP(Errorlog_table[[#This Row],[AIR]],AIR_dump[[#All],[Number]],AIR_dump[[#All],[Summary]],"not found",0,1)))} -> [EXE][NXE 3800] [NXE3600] -ILIAS PARIS sensor failing on Destination Violation error | S9: {=_xlfn.XLOOKUP(Errorlog_table[[#This Row],[AIR]],AIR_dump[[#All],[Number]],AIR_dump[[#All],[Close notes]])} -> [intake 2447] wk48.5 Test plan available, expecting to test in wk49 (EXE system) | T9: =Errorlog_table[[#This Row],[Year_Week_Number]] -> 202452 | U9: Y | V9: Y | W9: =Errorlog_table[[#This Row],[System]] -> GY86 | X9: =Errorlog_table[[#This Row],[link]] -> P814232 | Y9: =LEN(Errorlog_table[[#This Row],[P_Hits]]) -> 1 | Z9: =Errorlog_table[[#This Row],[Description]] -> EpmID:105070| SCN - Lot Abort for ZH-221D | ZH-221D | | AB9: =_xlfn.ISOWEEKNUM(Errorlog_table[[#This Row],[Date]])+52*(Errorlog_table[[#This Row],[Year]]-YEAR(DATE(YEAR(TODAY()-WEEKDAY(TODAY()-1)+4),1,1)-MOD((DATE(YEAR(TODAY()-WEEKDAY(TODAY()-1)+4),1,1)-2),7)+(7*IF(MOD((DATE(YEAR(TODAY()-WEEKDAY(TODAY()-1)+4),1,1)-2),7)>3,1,0))+7) )-_xlfn.ISOWEEKNUM(NOW()) -> -37 | AD9: =TEXT(Errorlog_table[[#This Row],[Date]],"yyyy-mm-dd")&"_"&TEXT(Errorlog_table[[#This Row],[SDT_Timestamp]],"HH:MM:SS")&"_"&Errorlog_table[[#This Row],[System]] -> 2024-12-28_13:39:00_GY86 | AE9: =Errorlog_table[[#This Row],[P_Hits]] -> Y | AF9: 0
A10: GY86 | B10: =VLOOKUP(A10,'5000_Fleet'!A:D,2,FALSE) -> Intel | C10: ZH-221D | D10: =YEAR(DATE(YEAR(Errorlog_table[[#This Row],[Date]]-WEEKDAY(Errorlog_table[[#This Row],[Date]]-1)+4),1,1)-MOD((DATE(YEAR(Errorlog_table[[#This Row],[Date]]-WEEKDAY(Errorlog_table[[#This Row],[Date]]-1)+4),1,1)-2),7)+(7*IF(MOD((DATE(YEAR(Errorlog_table[[#This Row],[Date]]-WEEKDAY(Errorlog_table[[#This Row],[Date]]-1)+4),1,1)-2),7)>3,1,0))+7) -> 2024 | E10: =VALUE(TEXT(_xlfn.ISOWEEKNUM(Errorlog_table[[#This Row],[Date]]),"00")) -> 52 | F10: =VALUE((Errorlog_table[[#This Row],[Year]])&TEXT(Errorlog_table[[#This Row],[Week_Number]],"00")) -> 202452 | G10: 45654 | H10: 06:12:00 | I10: EpmID:105077| SCN - Lot abort ZH-221D | ZH-221D | | J10: =IF(LEN(VALUE(MID(Errorlog_table[[#This Row],[Description]],FIND(":",Errorlog_table[[#This Row],[Description]])+1,6)))>1,MID(Errorlog_table[[#This Row],[Description]],FIND(":",Errorlog_table[[#This Row],[Description]])+1,6),"") -> 105077 | K10: 5.35 | L10: FC-025 | M10: 0 | N10: P814232 | O10: =IF(N10="",HYPERLINK("https://air.asml.com/textsearch.do?sysparm_search="&M10,M10),HYPERLINK("https://air.asml.com/u_qm_issues.do?sysparm_query=number="&N10,N10)) -> P814232 | P10: =LEN(Errorlog_table[[#This Row],[AIR]]) -> 7 | Q10: {=IF(OR(Errorlog_table[[#This Row],[AIR]]="n/a",Errorlog_table[[#This Row],[Event_code]]="Y"),"n/a",IF(Errorlog_table[[#This Row],[AIR]]="","no AIR",_xlfn.XLOOKUP(Errorlog_table[[#This Row],[AIR]],AIR_dump[[#All],[Number]],AIR_dump[[#All],[Type]],"not found",0,1)))} -> ZK | R10: {=IF(OR(Errorlog_table[[#This Row],[AIR]]="n/a",Errorlog_table[[#This Row],[Event_code]]="Y"),"n/a",IF(Errorlog_table[[#This Row],[AIR]]="","no AIR",_xlfn.XLOOKUP(Errorlog_table[[#This Row],[AIR]],AIR_dump[[#All],[Number]],AIR_dump[[#All],[Summary]],"not found",0,1)))} -> [EXE][NXE 3800] [NXE3600] -ILIAS PARIS sensor failing on Destination Violation error | S10: {=_xlfn.XLOOKUP(Errorlog_table[[#This Row],[AIR]],AIR_dump[[#All],[Number]],AIR_dump[[#All],[Close notes]])} -> [intake 2447] wk48.5 Test plan available, expecting to test in wk49 (EXE system) | T10: =Errorlog_table[[#This Row],[Year_Week_Number]] -> 202452 | U10: Y | V10: Y | W10: =Errorlog_table[[#This Row],[System]] -> GY86 | X10: =Errorlog_table[[#This Row],[link]] -> P814232 | Y10: =LEN(Errorlog_table[[#This Row],[P_Hits]]) -> 1 | Z10: =Errorlog_table[[#This Row],[Description]] -> EpmID:105077| SCN - Lot abort ZH-221D | ZH-221D | | AB10: =_xlfn.ISOWEEKNUM(Errorlog_table[[#This Row],[Date]])+52*(Errorlog_table[[#This Row],[Year]]-YEAR(DATE(YEAR(TODAY()-WEEKDAY(TODAY()-1)+4),1,1)-MOD((DATE(YEAR(TODAY()-WEEKDAY(TODAY()-1)+4),1,1)-2),7)+(7*IF(MOD((DATE(YEAR(TODAY()-WEEKDAY(TODAY()-1)+4),1,1)-2),7)>3,1,0))+7) )-_xlfn.ISOWEEKNUM(NOW()) -> -37 | AD10: =TEXT(Errorlog_table[[#This Row],[Date]],"yyyy-mm-dd")&"_"&TEXT(Errorlog_table[[#This Row],[SDT_Timestamp]],"HH:MM:SS")&"_"&Errorlog_table[[#This Row],[System]] -> 2024-12-28_06:12:00_GY86 | AE10: =Errorlog_table[[#This Row],[P_Hits]] -> Y | AF10: 0
A11: GY86 | B11: =VLOOKUP(A11,'5000_Fleet'!A:D,2,FALSE) -> Intel | C11: KV-9211 | D11: =YEAR(DATE(YEAR(Errorlog_table[[#This Row],[Date]]-WEEKDAY(Errorlog_table[[#This Row],[Date]]-1)+4),1,1)-MOD((DATE(YEAR(Errorlog_table[[#This Row],[Date]]-WEEKDAY(Errorlog_table[[#This Row],[Date]]-1)+4),1,1)-2),7)+(7*IF(MOD((DATE(YEAR(Errorlog_table[[#This Row],[Date]]-WEEKDAY(Errorlog_table[[#This Row],[Date]]-1)+4),1,1)-2),7)>3,1,0))+7) -> 2024 | E11: =VALUE(TEXT(_xlfn.ISOWEEKNUM(Errorlog_table[[#This Row],[Date]]),"00")) -> 52 | F11: =VALUE((Errorlog_table[[#This Row],[Year]])&TEXT(Errorlog_table[[#This Row],[Week_Number]],"00")) -> 202452 | G11: 45654 | H11: 21:36:00 | I11: EpmID:105088| SCN - lot ops failed for mx action | KV-9211 | | J11: =IF(LEN(VALUE(MID(Errorlog_table[[#This Row],[Description]],FIND(":",Errorlog_table[[#This Row],[Description]])+1,6)))>1,MID(Errorlog_table[[#This Row],[Description]],FIND(":",Errorlog_table[[#This Row],[Description]])+1,6),"") -> 105088 | K11: 1.933333 | L11: FC-062 | M11: 53016490 | O11: =IF(N11="",HYPERLINK("https://air.asml.com/textsearch.do?sysparm_search="&M11,M11),HYPERLINK("https://air.asml.com/u_qm_issues.do?sysparm_query=number="&N11,N11)) -> 53016490 | P11: =LEN(Errorlog_table[[#This Row],[AIR]]) -> 0 | Q11: {=IF(OR(Errorlog_table[[#This Row],[AIR]]="n/a",Errorlog_table[[#This Row],[Event_code]]="Y"),"n/a",IF(Errorlog_table[[#This Row],[AIR]]="","no AIR",_xlfn.XLOOKUP(Errorlog_table[[#This Row],[AIR]],AIR_dump[[#All],[Number]],AIR_dump[[#All],[Type]],"not found",0,1)))} -> no AIR | R11: =Errorlog_table[[#This Row],[Description]] -> EpmID:105088| SCN - lot ops failed for mx action | KV-9211 | | S11: {=_xlfn.XLOOKUP(Errorlog_table[[#This Row],[AIR]],AIR_dump[[#All],[Number]],AIR_dump[[#All],[Close notes]])} -> 0 | T11: =Errorlog_table[[#This Row],[Year_Week_Number]] -> 202452 | U11: N | V11: Y | W11: =Errorlog_table[[#This Row],[System]] -> GY86 | X11: =Errorlog_table[[#This Row],[link]] -> 53016490 | Y11: =LEN(Errorlog_table[[#This Row],[P_Hits]]) -> 1 | Z11: =Errorlog_table[[#This Row],[Description]] -> EpmID:105088| SCN - lot ops failed for mx action | KV-9211 | | AB11: =_xlfn.ISOWEEKNUM(Errorlog_table[[#This Row],[Date]])+52*(Errorlog_table[[#This Row],[Year]]-YEAR(DATE(YEAR(TODAY()-WEEKDAY(TODAY()-1)+4),1,1)-MOD((DATE(YEAR(TODAY()-WEEKDAY(TODAY()-1)+4),1,1)-2),7)+(7*IF(MOD((DATE(YEAR(TODAY()-WEEKDAY(TODAY()-1)+4),1,1)-2),7)>3,1,0))+7) )-_xlfn.ISOWEEKNUM(NOW()) -> -37 | AD11: =TEXT(Errorlog_table[[#This Row],[Date]],"yyyy-mm-dd")&"_"&TEXT(Errorlog_table[[#This Row],[SDT_Timestamp]],"HH:MM:SS")&"_"&Errorlog_table[[#This Row],[System]] -> 2024-12-28_21:36:00_GY86 | AE11: =Errorlog_table[[#This Row],[P_Hits]] -> N | AF11: 0
A12: CR51 | B12: =VLOOKUP(A12,'5000_Fleet'!A:D,2,FALSE) -> Intel | C12: LAB-002D | D12: =YEAR(DATE(YEAR(Errorlog_table[[#This Row],[Date]]-WEEKDAY(Errorlog_table[[#This Row],[Date]]-1)+4),1,1)-MOD((DATE(YEAR(Errorlog_table[[#This Row],[Date]]-WEEKDAY(Errorlog_table[[#This Row],[Date]]-1)+4),1,1)-2),7)+(7*IF(MOD((DATE(YEAR(Errorlog_table[[#This Row],[Date]]-WEEKDAY(Errorlog_table[[#This Row],[Date]]-1)+4),1,1)-2),7)>3,1,0))+7) -> 2024 | E12: =VALUE(TEXT(_xlfn.ISOWEEKNUM(Errorlog_table[[#This Row],[Date]]),"00")) -> 52 | F12: =VALUE((Errorlog_table[[#This Row],[Year]])&TEXT(Errorlog_table[[#This Row],[Week_Number]],"00")) -> 202452 | G12: 45654 | H12: 02:25:00 | I12: EpmID:105043| SRC- TRUC RF laser generation driver NOK (Lot Abort) | LAB-002D | | J12: =IF(LEN(VALUE(MID(Errorlog_table[[#This Row],[Description]],FIND(":",Errorlog_table[[#This Row],[Description]])+1,6)))>1,MID(Errorlog_table[[#This Row],[Description]],FIND(":",Errorlog_table[[#This Row],[Description]])+1,6),"") -> 105043 | K12: 0.766667 | L12: FC-712 | M12: 53013086 | N12: P851510 | O12: =IF(N12="",HYPERLINK("https://air.asml.com/textsearch.do?sysparm_search="&M12,M12),HYPERLINK("https://air.asml.com/u_qm_issues.do?sysparm_query=number="&N12,N12)) -> P851510 | P12: =LEN(Errorlog_table[[#This Row],[AIR]]) -> 7 | Q12: {=IF(OR(Errorlog_table[[#This Row],[AIR]]="n/a",Errorlog_table[[#This Row],[Event_code]]="Y"),"n/a",IF(Errorlog_table[[#This Row],[AIR]]="","no AIR",_xlfn.XLOOKUP(Errorlog_table[[#This Row],[AIR]],AIR_dump[[#All],[Number]],AIR_dump[[#All],[Type]],"not found",0,1)))} -> 0 | R12: {=IF(OR(Errorlog_table[[#This Row],[AIR]]="n/a",Errorlog_table[[#This Row],[Event_code]]="Y"),"n/a",IF(Errorlog_table[[#This Row],[AIR]]="","no AIR",_xlfn.XLOOKUP(Errorlog_table[[#This Row],[AIR]],AIR_dump[[#All],[Number]],AIR_dump[[#All],[Summary]],"not found",0,1)))} -> P851510 - [EXE 5000] [CR51] Request to investigate and add failure mode to DDF: Incorrect or no flow | S12: {=_xlfn.XLOOKUP(Errorlog_table[[#This Row],[AIR]],AIR_dump[[#All],[Number]],AIR_dump[[#All],[Close notes]])} -> RCA | T12: =Errorlog_table[[#This Row],[Year_Week_Number]] -> 202452 | U12: Y | V12: Y | W12: =Errorlog_table[[#This Row],[System]] -> CR51 | X12: =Errorlog_table[[#This Row],[link]] -> P851510 | Y12: =LEN(Errorlog_table[[#This Row],[P_Hits]]) -> 1 | Z12: =Errorlog_table[[#This Row],[Description]] -> EpmID:105043| SRC- TRUC RF laser generation driver NOK (Lot Abort) | LAB-002D | | AB12: =_xlfn.ISOWEEKNUM(Errorlog_table[[#This Row],[Date]])+52*(Errorlog_table[[#This Row],[Year]]-YEAR(DATE(YEAR(TODAY()-WEEKDAY(TODAY()-1)+4),1,1)-MOD((DATE(YEAR(TODAY()-WEEKDAY(TODAY()-1)+4),1,1)-2),7)+(7*IF(MOD((DATE(YEAR(TODAY()-WEEKDAY(TODAY()-1)+4),1,1)-2),7)>3,1,0))+7) )-_xlfn.ISOWEEKNUM(NOW()) -> -37 | AD12: =TEXT(Errorlog_table[[#This Row],[Date]],"yyyy-mm-dd")&"_"&TEXT(Errorlog_table[[#This Row],[SDT_Timestamp]],"HH:MM:SS")&"_"&Errorlog_table[[#This Row],[System]] -> 2024-12-28_02:25:00_CR51 | AE12: =Errorlog_table[[#This Row],[P_Hits]] -> Y | AF12: 0
A13: GY86 | B13: =VLOOKUP(A13,'5000_Fleet'!A:D,2,FALSE) -> Intel | C13: ZH-221D | D13: =YEAR(DATE(YEAR(Errorlog_table[[#This Row],[Date]]-WEEKDAY(Errorlog_table[[#This Row],[Date]]-1)+4),1,1)-MOD((DATE(YEAR(Errorlog_table[[#This Row],[Date]]-WEEKDAY(Errorlog_table[[#This Row],[Date]]-1)+4),1,1)-2),7)+(7*IF(MOD((DATE(YEAR(Errorlog_table[[#This Row],[Date]]-WEEKDAY(Errorlog_table[[#This Row],[Date]]-1)+4),1,1)-2),7)>3,1,0))+7) -> 2024 | E13: =VALUE(TEXT(_xlfn.ISOWEEKNUM(Errorlog_table[[#This Row],[Date]]),"00")) -> 52 | F13: =VALUE((Errorlog_table[[#This Row],[Year]])&TEXT(Errorlog_table[[#This Row],[Week_Number]],"00")) -> 202452 | G13: 45655 | H13: 21:17:00 | I13: EpmID:105050| SCN - HSSL_failed_during MX | ZH-221D | | J13: =IF(LEN(VALUE(MID(Errorlog_table[[#This Row],[Description]],FIND(":",Errorlog_table[[#This Row],[Description]])+1,6)))>1,MID(Errorlog_table[[#This Row],[Description]],FIND(":",Errorlog_table[[#This Row],[Description]])+1,6),"") -> 105050 | K13: 2.916667 | L13: FC-025 | M13: 0 | N13: P814232 | O13: =IF(N13="",HYPERLINK("https://air.asml.com/textsearch.do?sysparm_search="&M13,M13),HYPERLINK("https://air.asml.com/u_qm_issues.do?sysparm_query=number="&N13,N13)) -> P814232 | P13: =LEN(Errorlog_table[[#This Row],[AIR]]) -> 7 | Q13: {=IF(OR(Errorlog_table[[#This Row],[AIR]]="n/a",Errorlog_table[[#This Row],[Event_code]]="Y"),"n/a",IF(Errorlog_table[[#This Row],[AIR]]="","no AIR",_xlfn.XLOOKUP(Errorlog_table[[#This Row],[AIR]],AIR_dump[[#All],[Number]],AIR_dump[[#All],[Type]],"not found",0,1)))} -> ZK | R13: {=IF(OR(Errorlog_table[[#This Row],[AIR]]="n/a",Errorlog_table[[#This Row],[Event_code]]="Y"),"n/a",IF(Errorlog_table[[#This Row],[AIR]]="","no AIR",_xlfn.XLOOKUP(Errorlog_table[[#This Row],[AIR]],AIR_dump[[#All],[Number]],AIR_dump[[#All],[Summary]],"not found",0,1)))} -> [EXE][NXE 3800] [NXE3600] -ILIAS PARIS sensor failing on Destination Violation error | S13: {=_xlfn.XLOOKUP(Errorlog_table[[#This Row],[AIR]],AIR_dump[[#All],[Number]],AIR_dump[[#All],[Close notes]])} -> [intake 2447] wk48.5 Test plan available, expecting to test in wk49 (EXE system) | T13: =Errorlog_table[[#This Row],[Year_Week_Number]] -> 202452 | U13: N | V13: Y | W13: =Errorlog_table[[#This Row],[System]] -> GY86 | X13: =Errorlog_table[[#This Row],[link]] -> P814232 | Y13: =LEN(Errorlog_table[[#This Row],[P_Hits]]) -> 1 | Z13: =Errorlog_table[[#This Row],[Description]] -> EpmID:105050| SCN - HSSL_failed_during MX | ZH-221D | | AB13: =_xlfn.ISOWEEKNUM(Errorlog_table[[#This Row],[Date]])+52*(Errorlog_table[[#This Row],[Year]]-YEAR(DATE(YEAR(TODAY()-WEEKDAY(TODAY()-1)+4),1,1)-MOD((DATE(YEAR(TODAY()-WEEKDAY(TODAY()-1)+4),1,1)-2),7)+(7*IF(MOD((DATE(YEAR(TODAY()-WEEKDAY(TODAY()-1)+4),1,1)-2),7)>3,1,0))+7) )-_xlfn.ISOWEEKNUM(NOW()) -> -37 | AD13: =TEXT(Errorlog_table[[#This Row],[Date]],"yyyy-mm-dd")&"_"&TEXT(Errorlog_table[[#This Row],[SDT_Timestamp]],"HH:MM:SS")&"_"&Errorlog_table[[#This Row],[System]] -> 2024-12-29_21:17:00_GY86 | AE13: =Errorlog_table[[#This Row],[P_Hits]] -> N | AF13: 0
A14: CR51 | B14: =VLOOKUP(A14,'5000_Fleet'!A:D,2,FALSE) -> Intel | C14: RQ-9002 | D14: =YEAR(DATE(YEAR(Errorlog_table[[#This Row],[Date]]-WEEKDAY(Errorlog_table[[#This Row],[Date]]-1)+4),1,1)-MOD((DATE(YEAR(Errorlog_table[[#This Row],[Date]]-WEEKDAY(Errorlog_table[[#This Row],[Date]]-1)+4),1,1)-2),7)+(7*IF(MOD((DATE(YEAR(Errorlog_table[[#This Row],[Date]]-WEEKDAY(Errorlog_table[[#This Row],[Date]]-1)+4),1,1)-2),7)>3,1,0))+7) -> 2025 | E14: =VALUE(TEXT(_xlfn.ISOWEEKNUM(Errorlog_table[[#This Row],[Date]]),"00")) -> 1 | F14: =VALUE((Errorlog_table[[#This Row],[Year]])&TEXT(Errorlog_table[[#This Row],[Week_Number]],"00")) -> 202501 | G14: 45656 | H14: 05:22:00 | I14: EpmID:105018| SCN - Lot Abort | RQ-9002 | | J14: =IF(LEN(VALUE(MID(Errorlog_table[[#This Row],[Description]],FIND(":",Errorlog_table[[#This Row],[Description]])+1,6)))>1,MID(Errorlog_table[[#This Row],[Description]],FIND(":",Errorlog_table[[#This Row],[Description]])+1,6),"") -> 105018 | K14: 4.316667 | L14: FC-004 | M14: 0 | N14: P757279 | O14: =IF(N14="",HYPERLINK("https://air.asml.com/textsearch.do?sysparm_search="&M14,M14),HYPERLINK("https://air.asml.com/u_qm_issues.do?sysparm_query=number="&N14,N14)) -> P757279 | P14: =LEN(Errorlog_table[[#This Row],[AIR]]) -> 7 | Q14: {=IF(OR(Errorlog_table[[#This Row],[AIR]]="n/a",Errorlog_table[[#This Row],[Event_code]]="Y"),"n/a",IF(Errorlog_table[[#This Row],[AIR]]="","no AIR",_xlfn.XLOOKUP(Errorlog_table[[#This Row],[AIR]],AIR_dump[[#All],[Number]],AIR_dump[[#All],[Type]],"not found",0,1)))} -> 0 | R14: {=IF(OR(Errorlog_table[[#This Row],[AIR]]="n/a",Errorlog_table[[#This Row],[Event_code]]="Y"),"n/a",IF(Errorlog_table[[#This Row],[AIR]]="","no AIR",_xlfn.XLOOKUP(Errorlog_table[[#This Row],[AIR]],AIR_dump[[#All],[Number]],AIR_dump[[#All],[Summary]],"not found",0,1)))} -> P757279 - [EXE Proto1] Lot failed with error PG-7404 - CTRL_Z_FORCE_OVER_LI | S14: {=_xlfn.XLOOKUP(Errorlog_table[[#This Row],[AIR]],AIR_dump[[#All],[Number]],AIR_dump[[#All],[Close notes]])} -> RCA | T14: =Errorlog_table[[#This Row],[Year_Week_Number]] -> 202501 | U14: Y | V14: Y | W14: =Errorlog_table[[#This Row],[System]] -> CR51 | X14: =Errorlog_table[[#This Row],[link]] -> P757279 | Y14: =Errorlog_table[[#This Row],[Root_Error]] -> RQ-9002 | Z14: =Errorlog_table[[#This Row],[Description]] -> EpmID:105018| SCN - Lot Abort | RQ-9002 | | AB14: =_xlfn.ISOWEEKNUM(Errorlog_table[[#This Row],[Date]])+52*(Errorlog_table[[#This Row],[Year]]-YEAR(DATE(YEAR(TODAY()-WEEKDAY(TODAY()-1)+4),1,1)-MOD((DATE(YEAR(TODAY()-WEEKDAY(TODAY()-1)+4),1,1)-2),7)+(7*IF(MOD((DATE(YEAR(TODAY()-WEEKDAY(TODAY()-1)+4),1,1)-2),7)>3,1,0))+7) )-_xlfn.ISOWEEKNUM(NOW()) -> -36 | AD14: =TEXT(Errorlog_table[[#This Row],[Date]],"yyyy-mm-dd")&"_"&TEXT(Errorlog_table[[#This Row],[SDT_Timestamp]],"HH:MM:SS")&"_"&Errorlog_table[[#This Row],[System]] -> 2024-12-30_05:22:00_CR51 | AE14: =Errorlog_table[[#This Row],[P_Hits]] -> Y | AF14: 0
A15: GY86 | B15: =VLOOKUP(A15,'5000_Fleet'!A:D,2,FALSE) -> Intel | C15: ZH-221D | D15: =YEAR(DATE(YEAR(Errorlog_table[[#This Row],[Date]]-WEEKDAY(Errorlog_table[[#This Row],[Date]]-1)+4),1,1)-MOD((DATE(YEAR(Errorlog_table[[#This Row],[Date]]-WEEKDAY(Errorlog_table[[#This Row],[Date]]-1)+4),1,1)-2),7)+(7*IF(MOD((DATE(YEAR(Errorlog_table[[#This Row],[Date]]-WEEKDAY(Errorlog_table[[#This Row],[Date]]-1)+4),1,1)-2),7)>3,1,0))+7) -> 2025 | E15: =VALUE(TEXT(_xlfn.ISOWEEKNUM(Errorlog_table[[#This Row],[Date]]),"00")) -> 1 | F15: =VALUE((Errorlog_table[[#This Row],[Year]])&TEXT(Errorlog_table[[#This Row],[Week_Number]],"00")) -> 202501 | G15: 45656 | H15: 06:50:00 | I15: EpmID:105047| SCN - lot abort Ilias sensor | ZH-221D | | J15: =IF(LEN(VALUE(MID(Errorlog_table[[#This Row],[Description]],FIND(":",Errorlog_table[[#This Row],[Description]])+1,6)))>1,MID(Errorlog_table[[#This Row],[Description]],FIND(":",Errorlog_table[[#This Row],[Description]])+1,6),"") -> 105047 | K15: 4.233333 | L15: FC-025 | M15: 0 | N15: P853275 | O15: =IF(N15="",HYPERLINK("https://air.asml.com/textsearch.do?sysparm_search="&M15,M15),HYPERLINK("https://air.asml.com/u_qm_issues.do?sysparm_query=number="&N15,N15)) -> P853275 | P15: =LEN(Errorlog_table[[#This Row],[AIR]]) -> 7 | Q15: {=IF(OR(Errorlog_table[[#This Row],[AIR]]="n/a",Errorlog_table[[#This Row],[Event_code]]="Y"),"n/a",IF(Errorlog_table[[#This Row],[AIR]]="","no AIR",_xlfn.XLOOKUP(Errorlog_table[[#This Row],[AIR]],AIR_dump[[#All],[Number]],AIR_dump[[#All],[Type]],"not found",0,1)))} -> 0 | R15: {=IF(OR(Errorlog_table[[#This Row],[AIR]]="n/a",Errorlog_table[[#This Row],[Event_code]]="Y"),"n/a",IF(Errorlog_table[[#This Row],[AIR]]="","no AIR",_xlfn.XLOOKUP(Errorlog_table[[#This Row],[AIR]],AIR_dump[[#All],[Number]],AIR_dump[[#All],[Summary]],"not found",0,1)))} -> P853275 - NXE:3800E and EXE:5000 Destination Violation Error ZH-221D | S15: {=_xlfn.XLOOKUP(Errorlog_table[[#This Row],[AIR]],AIR_dump[[#All],[Number]],AIR_dump[[#All],[Close notes]])} -> Firmware delivered W19 (COB swap done) | T15: =Errorlog_table[[#This Row],[Year_Week_Number]] -> 202501 | U15: Y | V15: Y | W15: =Errorlog_table[[#This Row],[System]] -> GY86 | X15: =Errorlog_table[[#This Row],[link]] -> P853275 | Y15: =Errorlog_table[[#This Row],[Root_Error]] -> ZH-221D | Z15: =Errorlog_table[[#This Row],[Description]] -> EpmID:105047| SCN - lot abort Ilias sensor | ZH-221D | | AB15: =_xlfn.ISOWEEKNUM(Errorlog_table[[#This Row],[Date]])+52*(Errorlog_table[[#This Row],[Year]]-YEAR(DATE(YEAR(TODAY()-WEEKDAY(TODAY()-1)+4),1,1)-MOD((DATE(YEAR(TODAY()-WEEKDAY(TODAY()-1)+4),1,1)-2),7)+(7*IF(MOD((DATE(YEAR(TODAY()-WEEKDAY(TODAY()-1)+4),1,1)-2),7)>3,1,0))+7) )-_xlfn.ISOWEEKNUM(NOW()) -> -36 | AD15: =TEXT(Errorlog_table[[#This Row],[Date]],"yyyy-mm-dd")&"_"&TEXT(Errorlog_table[[#This Row],[SDT_Timestamp]],"HH:MM:SS")&"_"&Errorlog_table[[#This Row],[System]] -> 2024-12-30_06:50:00_GY86 | AE15: =Errorlog_table[[#This Row],[P_Hits]] -> Y | AF15: 0
A16: GY86 | B16: =VLOOKUP(A16,'5000_Fleet'!A:D,2,FALSE) -> Intel | C16: ZH-221D | D16: =YEAR(DATE(YEAR(Errorlog_table[[#This Row],[Date]]-WEEKDAY(Errorlog_table[[#This Row],[Date]]-1)+4),1,1)-MOD((DATE(YEAR(Errorlog_table[[#This Row],[Date]]-WEEKDAY(Errorlog_table[[#This Row],[Date]]-1)+4),1,1)-2),7)+(7*IF(MOD((DATE(YEAR(Errorlog_table[[#This Row],[Date]]-WEEKDAY(Errorlog_table[[#This Row],[Date]]-1)+4),1,1)-2),7)>3,1,0))+7) -> 2025 | E16: =VALUE(TEXT(_xlfn.ISOWEEKNUM(Errorlog_table[[#This Row],[Date]]),"00")) -> 1 | F16: =VALUE((Errorlog_table[[#This Row],[Year]])&TEXT(Errorlog_table[[#This Row],[Week_Number]],"00")) -> 202501 | G16: 45656 | H16: 17:48:00 | I16: EpmID:105083| SCN - lot abort Ilias sensor | ZH-221D | | J16: =IF(LEN(VALUE(MID(Errorlog_table[[#This Row],[Description]],FIND(":",Errorlog_table[[#This Row],[Description]])+1,6)))>1,MID(Errorlog_table[[#This Row],[Description]],FIND(":",Errorlog_table[[#This Row],[Description]])+1,6),"") -> 105083 | K16: 1.083333 | L16: FC-025 | M16: 0 | N16: P853275 | O16: =IF(N16="",HYPERLINK("https://air.asml.com/textsearch.do?sysparm_search="&M16,M16),HYPERLINK("https://air.asml.com/u_qm_issues.do?sysparm_query=number="&N16,N16)) -> P853275 | P16: =LEN(Errorlog_table[[#This Row],[AIR]]) -> 7 | Q16: {=IF(OR(Errorlog_table[[#This Row],[AIR]]="n/a",Errorlog_table[[#This Row],[Event_code]]="Y"),"n/a",IF(Errorlog_table[[#This Row],[AIR]]="","no AIR",_xlfn.XLOOKUP(Errorlog_table[[#This Row],[AIR]],AIR_dump[[#All],[Number]],AIR_dump[[#All],[Type]],"not found",0,1)))} -> 0 | R16: {=IF(OR(Errorlog_table[[#This Row],[AIR]]="n/a",Errorlog_table[[#This Row],[Event_code]]="Y"),"n/a",IF(Errorlog_table[[#This Row],[AIR]]="","no AIR",_xlfn.XLOOKUP(Errorlog_table[[#This Row],[AIR]],AIR_dump[[#All],[Number]],AIR_dump[[#All],[Summary]],"not found",0,1)))} -> P853275 - NXE:3800E and EXE:5000 Destination Violation Error ZH-221D | S16: {=_xlfn.XLOOKUP(Errorlog_table[[#This Row],[AIR]],AIR_dump[[#All],[Number]],AIR_dump[[#All],[Close notes]])} -> Firmware delivered W19 (COB swap done) | T16: =Errorlog_table[[#This Row],[Year_Week_Number]] -> 202501 | U16: Y | V16: Y | W16: =Errorlog_table[[#This Row],[System]] -> GY86 | X16: =Errorlog_table[[#This Row],[link]] -> P853275 | Y16: =Errorlog_table[[#This Row],[Root_Error]] -> ZH-221D | Z16: =Errorlog_table[[#This Row],[Description]] -> EpmID:105083| SCN - lot abort Ilias sensor | ZH-221D | | AB16: =_xlfn.ISOWEEKNUM(Errorlog_table[[#This Row],[Date]])+52*(Errorlog_table[[#This Row],[Year]]-YEAR(DATE(YEAR(TODAY()-WEEKDAY(TODAY()-1)+4),1,1)-MOD((DATE(YEAR(TODAY()-WEEKDAY(TODAY()-1)+4),1,1)-2),7)+(7*IF(MOD((DATE(YEAR(TODAY()-WEEKDAY(TODAY()-1)+4),1,1)-2),7)>3,1,0))+7) )-_xlfn.ISOWEEKNUM(NOW()) -> -36 | AD16: =TEXT(Errorlog_table[[#This Row],[Date]],"yyyy-mm-dd")&"_"&TEXT(Errorlog_table[[#This Row],[SDT_Timestamp]],"HH:MM:SS")&"_"&Errorlog_table[[#This Row],[System]] -> 2024-12-30_17:48:00_GY86 | AE16: =Errorlog_table[[#This Row],[P_Hits]] -> Y | AF16: 0
A17: GY86 | B17: =VLOOKUP(A17,'5000_Fleet'!A:D,2,FALSE) -> Intel | C17: ZH-221D | D17: =YEAR(DATE(YEAR(Errorlog_table[[#This Row],[Date]]-WEEKDAY(Errorlog_table[[#This Row],[Date]]-1)+4),1,1)-MOD((DATE(YEAR(Errorlog_table[[#This Row],[Date]]-WEEKDAY(Errorlog_table[[#This Row],[Date]]-1)+4),1,1)-2),7)+(7*IF(MOD((DATE(YEAR(Errorlog_table[[#This Row],[Date]]-WEEKDAY(Errorlog_table[[#This Row],[Date]]-1)+4),1,1)-2),7)>3,1,0))+7) -> 2025 | E17: =VALUE(TEXT(_xlfn.ISOWEEKNUM(Errorlog_table[[#This Row],[Date]]),"00")) -> 1 | F17: =VALUE((Errorlog_table[[#This Row],[Year]])&TEXT(Errorlog_table[[#This Row],[Week_Number]],"00")) -> 202501 | G17: 45657 | H17: 20:59:00 | I17: EpmID:105045| SCN - ZH-221D Recovery and Containment (Lot Abort) | ZH-221D | | J17: =IF(LEN(VALUE(MID(Errorlog_table[[#This Row],[Description]],FIND(":",Errorlog_table[[#This Row],[Description]])+1,6)))>1,MID(Errorlog_table[[#This Row],[Description]],FIND(":",Errorlog_table[[#This Row],[Description]])+1,6),"") -> 105045 | K17: 4.366667 | L17: FC-025 | M17: 0 | N17: P853275 | O17: =IF(N17="",HYPERLINK("https://air.asml.com/textsearch.do?sysparm_search="&M17,M17),HYPERLINK("https://air.asml.com/u_qm_issues.do?sysparm_query=number="&N17,N17)) -> P853275 | P17: =LEN(Errorlog_table[[#This Row],[AIR]]) -> 7 | Q17: {=IF(OR(Errorlog_table[[#This Row],[AIR]]="n/a",Errorlog_table[[#This Row],[Event_code]]="Y"),"n/a",IF(Errorlog_table[[#This Row],[AIR]]="","no AIR",_xlfn.XLOOKUP(Errorlog_table[[#This Row],[AIR]],AIR_dump[[#All],[Number]],AIR_dump[[#All],[Type]],"not found",0,1)))} -> 0 | R17: {=IF(OR(Errorlog_table[[#This Row],[AIR]]="n/a",Errorlog_table[[#This Row],[Event_code]]="Y"),"n/a",IF(Errorlog_table[[#This Row],[AIR]]="","no AIR",_xlfn.XLOOKUP(Errorlog_table[[#This Row],[AIR]],AIR_dump[[#All],[Number]],AIR_dump[[#All],[Summary]],"not found",0,1)))} -> P853275 - NXE:3800E and EXE:5000 Destination Violation Error ZH-221D | S17: {=_xlfn.XLOOKUP(Errorlog_table[[#This Row],[AIR]],AIR_dump[[#All],[Number]],AIR_dump[[#All],[Close notes]])} -> Firmware delivered W19 (COB swap done) | T17: =Errorlog_table[[#This Row],[Year_Week_Number]] -> 202501 | U17: Y | V17: Y | W17: =Errorlog_table[[#This Row],[System]] -> GY86 | X17: =Errorlog_table[[#This Row],[link]] -> P853275 | Y17: =Errorlog_table[[#This Row],[Root_Error]] -> ZH-221D | Z17: =Errorlog_table[[#This Row],[Description]] -> EpmID:105045| SCN - ZH-221D Recovery and Containment (Lot Abort) | ZH-221D | | AB17: =_xlfn.ISOWEEKNUM(Errorlog_table[[#This Row],[Date]])+52*(Errorlog_table[[#This Row],[Year]]-YEAR(DATE(YEAR(TODAY()-WEEKDAY(TODAY()-1)+4),1,1)-MOD((DATE(YEAR(TODAY()-WEEKDAY(TODAY()-1)+4),1,1)-2),7)+(7*IF(MOD((DATE(YEAR(TODAY()-WEEKDAY(TODAY()-1)+4),1,1)-2),7)>3,1,0))+7) )-_xlfn.ISOWEEKNUM(NOW()) -> -36 | AD17: =TEXT(Errorlog_table[[#This Row],[Date]],"yyyy-mm-dd")&"_"&TEXT(Errorlog_table[[#This Row],[SDT_Timestamp]],"HH:MM:SS")&"_"&Errorlog_table[[#This Row],[System]] -> 2024-12-31_20:59:00_GY86 | AE17: =Errorlog_table[[#This Row],[P_Hits]] -> Y | AF17: 0
A18: CR51 | B18: =VLOOKUP(A18,'5000_Fleet'!A:D,2,FALSE) -> Intel | C18: WH-2626 | D18: =YEAR(DATE(YEAR(Errorlog_table[[#This Row],[Date]]-WEEKDAY(Errorlog_table[[#This Row],[Date]]-1)+4),1,1)-MOD((DATE(YEAR(Errorlog_table[[#This Row],[Date]]-WEEKDAY(Errorlog_table[[#This Row],[Date]]-1)+4),1,1)-2),7)+(7*IF(MOD((DATE(YEAR(Errorlog_table[[#This Row],[Date]]-WEEKDAY(Errorlog_table[[#This Row],[Date]]-1)+4),1,1)-2),7)>3,1,0))+7) -> 2025 | E18: =VALUE(TEXT(_xlfn.ISOWEEKNUM(Errorlog_table[[#This Row],[Date]]),"00")) -> 1 | F18: =VALUE((Errorlog_table[[#This Row],[Year]])&TEXT(Errorlog_table[[#This Row],[Week_Number]],"00")) -> 202501 | G18: 45657 | H18: 00:30:00 | I18: EpmID:104984| SCN - Refresh Closing wafer | WH-2626 | Scanner Repairs | J18: =IF(LEN(VALUE(MID(Errorlog_table[[#This Row],[Description]],FIND(":",Errorlog_table[[#This Row],[Description]])+1,6)))>1,MID(Errorlog_table[[#This Row],[Description]],FIND(":",Errorlog_table[[#This Row],[Description]])+1,6),"") -> 104984 | K18: 0.5 | L18: FC-001 | M18: 0 | N18: Lot Failed to Start | O18: =IF(N18="",HYPERLINK("https://air.asml.com/textsearch.do?sysparm_search="&M18,M18),HYPERLINK("https://air.asml.com/u_qm_issues.do?sysparm_query=number="&N18,N18)) -> Lot Failed to Start | P18: =LEN(Errorlog_table[[#This Row],[AIR]]) -> 19 | Q18: {=IF(OR(Errorlog_table[[#This Row],[AIR]]="n/a",Errorlog_table[[#This Row],[Event_code]]="Y"),"n/a",IF(Errorlog_table[[#This Row],[AIR]]="","no AIR",_xlfn.XLOOKUP(Errorlog_table[[#This Row],[AIR]],AIR_dump[[#All],[Number]],AIR_dump[[#All],[Type]],"not found",0,1)))} -> not found | R18: =Errorlog_table[[#This Row],[Description]] -> EpmID:104984| SCN - Refresh Closing wafer | WH-2626 | Scanner Repairs | S18: {=_xlfn.XLOOKUP(Errorlog_table[[#This Row],[AIR]],AIR_dump[[#All],[Number]],AIR_dump[[#All],[Close notes]])} -> #N/A | T18: =Errorlog_table[[#This Row],[Year_Week_Number]] -> 202501 | U18: N | V18: Y | W18: =Errorlog_table[[#This Row],[System]] -> CR51 | X18: =Errorlog_table[[#This Row],[link]] -> Lot Failed to Start | Y18: =Errorlog_table[[#This Row],[Root_Error]] -> WH-2626 | Z18: =Errorlog_table[[#This Row],[Description]] -> EpmID:104984| SCN - Refresh Closing wafer | WH-2626 | Scanner Repairs | AB18: =_xlfn.ISOWEEKNUM(Errorlog_table[[#This Row],[Date]])+52*(Errorlog_table[[#This Row],[Year]]-YEAR(DATE(YEAR(TODAY()-WEEKDAY(TODAY()-1)+4),1,1)-MOD((DATE(YEAR(TODAY()-WEEKDAY(TODAY()-1)+4),1,1)-2),7)+(7*IF(MOD((DATE(YEAR(TODAY()-WEEKDAY(TODAY()-1)+4),1,1)-2),7)>3,1,0))+7) )-_xlfn.ISOWEEKNUM(NOW()) -> -36 | AD18: =TEXT(Errorlog_table[[#This Row],[Date]],"yyyy-mm-dd")&"_"&TEXT(Errorlog_table[[#This Row],[SDT_Timestamp]],"HH:MM:SS")&"_"&Errorlog_table[[#This Row],[System]] -> 2024-12-31_00:30:00_CR51 | AE18: =Errorlog_table[[#This Row],[P_Hits]] -> N | AF18: 0
A19: GY86 | B19: =VLOOKUP(A19,'5000_Fleet'!A:D,2,FALSE) -> Intel | C19: ZF-4392 | D19: =YEAR(DATE(YEAR(Errorlog_table[[#This Row],[Date]]-WEEKDAY(Errorlog_table[[#This Row],[Date]]-1)+4),1,1)-MOD((DATE(YEAR(Errorlog_table[[#This Row],[Date]]-WEEKDAY(Errorlog_table[[#This Row],[Date]]-1)+4),1,1)-2),7)+(7*IF(MOD((DATE(YEAR(Errorlog_table[[#This Row],[Date]]-WEEKDAY(Errorlog_table[[#This Row],[Date]]-1)+4),1,1)-2),7)>3,1,0))+7) -> 2025 | E19: =VALUE(TEXT(_xlfn.ISOWEEKNUM(Errorlog_table[[#This Row],[Date]]),"00")) -> 1 | F19: =VALUE((Errorlog_table[[#This Row],[Year]])&TEXT(Errorlog_table[[#This Row],[Week_Number]],"00")) -> 202501 | G19: 45658 | H19: 12:43:00 | I19: EpmID:105061| SCN - lot aborted by ZF-4392 | ZF-4392 | | J19: =IF(LEN(VALUE(MID(Errorlog_table[[#This Row],[Description]],FIND(":",Errorlog_table[[#This Row],[Description]])+1,6)))>1,MID(Errorlog_table[[#This Row],[Description]],FIND(":",Errorlog_table[[#This Row],[Description]])+1,6),"") -> 105061 | K19: 4.683333 | L19: FC-008 | M19: 0 | N19: P839414 | O19: =IF(N19="",HYPERLINK("https://air.asml.com/textsearch.do?sysparm_search="&M19,M19),HYPERLINK("https://air.asml.com/u_qm_issues.do?sysparm_query=number="&N19,N19)) -> P839414 | P19: =LEN(Errorlog_table[[#This Row],[AIR]]) -> 7 | Q19: {=IF(OR(Errorlog_table[[#This Row],[AIR]]="n/a",Errorlog_table[[#This Row],[Event_code]]="Y"),"n/a",IF(Errorlog_table[[#This Row],[AIR]]="","no AIR",_xlfn.XLOOKUP(Errorlog_table[[#This Row],[AIR]],AIR_dump[[#All],[Number]],AIR_dump[[#All],[Type]],"not found",0,1)))} -> 0 | R19: {=IF(OR(Errorlog_table[[#This Row],[AIR]]="n/a",Errorlog_table[[#This Row],[Event_code]]="Y"),"n/a",IF(Errorlog_table[[#This Row],[AIR]]="","no AIR",_xlfn.XLOOKUP(Errorlog_table[[#This Row],[AIR]],AIR_dump[[#All],[Number]],AIR_dump[[#All],[Summary]],"not found",0,1)))} -> P839414 - ZF-4392 Communication failure on GY86, Exception handling needed. | S19: {=_xlfn.XLOOKUP(Errorlog_table[[#This Row],[AIR]],AIR_dump[[#All],[Number]],AIR_dump[[#All],[Close notes]])} -> RCA | T19: =Errorlog_table[[#This Row],[Year_Week_Number]] -> 202501 | U19: Y | V19: Y | W19: =Errorlog_table[[#This Row],[System]] -> GY86 | X19: =Errorlog_table[[#This Row],[link]] -> P839414 | Y19: =Errorlog_table[[#This Row],[Root_Error]] -> ZF-4392 | Z19: =Errorlog_table[[#This Row],[Description]] -> EpmID:105061| SCN - lot aborted by ZF-4392 | ZF-4392 | | AB19: =_xlfn.ISOWEEKNUM(Errorlog_table[[#This Row],[Date]])+52*(Errorlog_table[[#This Row],[Year]]-YEAR(DATE(YEAR(TODAY()-WEEKDAY(TODAY()-1)+4),1,1)-MOD((DATE(YEAR(TODAY()-WEEKDAY(TODAY()-1)+4),1,1)-2),7)+(7*IF(MOD((DATE(YEAR(TODAY()-WEEKDAY(TODAY()-1)+4),1,1)-2),7)>3,1,0))+7) )-_xlfn.ISOWEEKNUM(NOW()) -> -36 | AD19: =TEXT(Errorlog_table[[#This Row],[Date]],"yyyy-mm-dd")&"_"&TEXT(Errorlog_table[[#This Row],[SDT_Timestamp]],"HH:MM:SS")&"_"&Errorlog_table[[#This Row],[System]] -> 2025-01-01_12:43:00_GY86 | AE19: =Errorlog_table[[#This Row],[P_Hits]] -> Y | AF19: 0
A20: GY86 | B20: =VLOOKUP(A20,'5000_Fleet'!A:D,2,FALSE) -> Intel | C20: ZH-221D | D20: =YEAR(DATE(YEAR(Errorlog_table[[#This Row],[Date]]-WEEKDAY(Errorlog_table[[#This Row],[Date]]-1)+4),1,1)-MOD((DATE(YEAR(Errorlog_table[[#This Row],[Date]]-WEEKDAY(Errorlog_table[[#This Row],[Date]]-1)+4),1,1)-2),7)+(7*IF(MOD((DATE(YEAR(Errorlog_table[[#This Row],[Date]]-WEEKDAY(Errorlog_table[[#This Row],[Date]]-1)+4),1,1)-2),7)>3,1,0))+7) -> 2025 | E20: =VALUE(TEXT(_xlfn.ISOWEEKNUM(Errorlog_table[[#This Row],[Date]]),"00")) -> 1 | F20: =VALUE((Errorlog_table[[#This Row],[Year]])&TEXT(Errorlog_table[[#This Row],[Week_Number]],"00")) -> 202501 | G20: 45658 | H20: 05:59:00 | I20: EpmID:105058| SCN - ZH-221D Recovery (Lot Abort) | ZH-221D | | J20: =IF(LEN(VALUE(MID(Errorlog_table[[#This Row],[Description]],FIND(":",Errorlog_table[[#This Row],[Description]])+1,6)))>1,MID(Errorlog_table[[#This Row],[Description]],FIND(":",Errorlog_table[[#This Row],[Description]])+1,6),"") -> 105058 | K20: 0.816667 | L20: FC-025 | M20: 0 | N20: P853275 | O20: =IF(N20="",HYPERLINK("https://air.asml.com/textsearch.do?sysparm_search="&M20,M20),HYPERLINK("https://air.asml.com/u_qm_issues.do?sysparm_query=number="&N20,N20)) -> P853275 | P20: =LEN(Errorlog_table[[#This Row],[AIR]]) -> 7 | Q20: {=IF(OR(Errorlog_table[[#This Row],[AIR]]="n/a",Errorlog_table[[#This Row],[Event_code]]="Y"),"n/a",IF(Errorlog_table[[#This Row],[AIR]]="","no AIR",_xlfn.XLOOKUP(Errorlog_table[[#This Row],[AIR]],AIR_dump[[#All],[Number]],AIR_dump[[#All],[Type]],"not found",0,1)))} -> 0 | R20: {=IF(OR(Errorlog_table[[#This Row],[AIR]]="n/a",Errorlog_table[[#This Row],[Event_code]]="Y"),"n/a",IF(Errorlog_table[[#This Row],[AIR]]="","no AIR",_xlfn.XLOOKUP(Errorlog_table[[#This Row],[AIR]],AIR_dump[[#All],[Number]],AIR_dump[[#All],[Summary]],"not found",0,1)))} -> P853275 - NXE:3800E and EXE:5000 Destination Violation Error ZH-221D | S20: {=_xlfn.XLOOKUP(Errorlog_table[[#This Row],[AIR]],AIR_dump[[#All],[Number]],AIR_dump[[#All],[Close notes]])} -> Firmware delivered W19 (COB swap done) | T20: =Errorlog_table[[#This Row],[Year_Week_Number]] -> 202501 | U20: Y | V20: Y | W20: =Errorlog_table[[#This Row],[System]] -> GY86 | X20: =Errorlog_table[[#This Row],[link]] -> P853275 | Y20: =Errorlog_table[[#This Row],[Root_Error]] -> ZH-221D | Z20: =Errorlog_table[[#This Row],[Description]] -> EpmID:105058| SCN - ZH-221D Recovery (Lot Abort) | ZH-221D | | AB20: =_xlfn.ISOWEEKNUM(Errorlog_table[[#This Row],[Date]])+52*(Errorlog_table[[#This Row],[Year]]-YEAR(DATE(YEAR(TODAY()-WEEKDAY(TODAY()-1)+4),1,1)-MOD((DATE(YEAR(TODAY()-WEEKDAY(TODAY()-1)+4),1,1)-2),7)+(7*IF(MOD((DATE(YEAR(TODAY()-WEEKDAY(TODAY()-1)+4),1,1)-2),7)>3,1,0))+7) )-_xlfn.ISOWEEKNUM(NOW()) -> -36 | AD20: =TEXT(Errorlog_table[[#This Row],[Date]],"yyyy-mm-dd")&"_"&TEXT(Errorlog_table[[#This Row],[SDT_Timestamp]],"HH:MM:SS")&"_"&Errorlog_table[[#This Row],[System]] -> 2025-01-01_05:59:00_GY86 | AE20: =Errorlog_table[[#This Row],[P_Hits]] -> Y | AF20: 0
A21: GY86 | B21: =VLOOKUP(A21,'5000_Fleet'!A:D,2,FALSE) -> Intel | C21: Track-Comm | D21: =YEAR(DATE(YEAR(Errorlog_table[[#This Row],[Date]]-WEEKDAY(Errorlog_table[[#This Row],[Date]]-1)+4),1,1)-MOD((DATE(YEAR(Errorlog_table[[#This Row],[Date]]-WEEKDAY(Errorlog_table[[#This Row],[Date]]-1)+4),1,1)-2),7)+(7*IF(MOD((DATE(YEAR(Errorlog_table[[#This Row],[Date]]-WEEKDAY(Errorlog_table[[#This Row],[Date]]-1)+4),1,1)-2),7)>3,1,0))+7) -> 2025 | E21: =VALUE(TEXT(_xlfn.ISOWEEKNUM(Errorlog_table[[#This Row],[Date]]),"00")) -> 1 | F21: =VALUE((Errorlog_table[[#This Row],[Year]])&TEXT(Errorlog_table[[#This Row],[Week_Number]],"00")) -> 202501 | G21: 45658 | H21: 21:02:00 | I21: EpmID:105075| SCN - Recovery from track out of sync | ND | | J21: =IF(LEN(VALUE(MID(Errorlog_table[[#This Row],[Description]],FIND(":",Errorlog_table[[#This Row],[Description]])+1,6)))>1,MID(Errorlog_table[[#This Row],[Description]],FIND(":",Errorlog_table[[#This Row],[Description]])+1,6),"") -> 105075 | K21: 0.066667 | L21: FC-001 | M21: 53020028 | O21: =IF(N21="",HYPERLINK("https://air.asml.com/textsearch.do?sysparm_search="&M21,M21),HYPERLINK("https://air.asml.com/u_qm_issues.do?sysparm_query=number="&N21,N21)) -> 53020028 | P21: =LEN(Errorlog_table[[#This Row],[AIR]]) -> 0 | Q21: {=IF(OR(Errorlog_table[[#This Row],[AIR]]="n/a",Errorlog_table[[#This Row],[Event_code]]="Y"),"n/a",IF(Errorlog_table[[#This Row],[AIR]]="","no AIR",_xlfn.XLOOKUP(Errorlog_table[[#This Row],[AIR]],AIR_dump[[#All],[Number]],AIR_dump[[#All],[Type]],"not found",0,1)))} -> no AIR | R21: =Errorlog_table[[#This Row],[Description]] -> EpmID:105075| SCN - Recovery from track out of sync | ND | | S21: {=_xlfn.XLOOKUP(Errorlog_table[[#This Row],[AIR]],AIR_dump[[#All],[Number]],AIR_dump[[#All],[Close notes]])} -> 0 | T21: =Errorlog_table[[#This Row],[Year_Week_Number]] -> 202501 | U21: N | V21: Y | W21: =Errorlog_table[[#This Row],[System]] -> GY86 | X21: =Errorlog_table[[#This Row],[link]] -> 53020028 | Y21: =Errorlog_table[[#This Row],[Root_Error]] -> Track-Comm | Z21: =Errorlog_table[[#This Row],[Description]] -> EpmID:105075| SCN - Recovery from track out of sync | ND | | AB21: =_xlfn.ISOWEEKNUM(Errorlog_table[[#This Row],[Date]])+52*(Errorlog_table[[#This Row],[Year]]-YEAR(DATE(YEAR(TODAY()-WEEKDAY(TODAY()-1)+4),1,1)-MOD((DATE(YEAR(TODAY()-WEEKDAY(TODAY()-1)+4),1,1)-2),7)+(7*IF(MOD((DATE(YEAR(TODAY()-WEEKDAY(TODAY()-1)+4),1,1)-2),7)>3,1,0))+7) )-_xlfn.ISOWEEKNUM(NOW()) -> -36 | AD21: =TEXT(Errorlog_table[[#This Row],[Date]],"yyyy-mm-dd")&"_"&TEXT(Errorlog_table[[#This Row],[SDT_Timestamp]],"HH:MM:SS")&"_"&Errorlog_table[[#This Row],[System]] -> 2025-01-01_21:02:00_GY86 | AE21: =Errorlog_table[[#This Row],[P_Hits]] -> N | AF21: 0
A22: CR51 | B22: =VLOOKUP(A22,'5000_Fleet'!A:D,2,FALSE) -> Intel | C22: LAB-002D | D22: =YEAR(DATE(YEAR(Errorlog_table[[#This Row],[Date]]-WEEKDAY(Errorlog_table[[#This Row],[Date]]-1)+4),1,1)-MOD((DATE(YEAR(Errorlog_table[[#This Row],[Date]]-WEEKDAY(Errorlog_table[[#This Row],[Date]]-1)+4),1,1)-2),7)+(7*IF(MOD((DATE(YEAR(Errorlog_table[[#This Row],[Date]]-WEEKDAY(Errorlog_table[[#This Row],[Date]]-1)+4),1,1)-2),7)>3,1,0))+7) -> 2025 | E22: =VALUE(TEXT(_xlfn.ISOWEEKNUM(Errorlog_table[[#This Row],[Date]]),"00")) -> 1 | F22: =VALUE((Errorlog_table[[#This Row],[Year]])&TEXT(Errorlog_table[[#This Row],[Week_Number]],"00")) -> 202501 | G22: 45659 | H22: 06:28:00 | I22: EpmID:104990| SRC - Lot abort recovery for DL error+ POB setup recovery | LAB-002D | | J22: =IF(LEN(VALUE(MID(Errorlog_table[[#This Row],[Description]],FIND(":",Errorlog_table[[#This Row],[Description]])+1,6)))>1,MID(Errorlog_table[[#This Row],[Description]],FIND(":",Errorlog_table[[#This Row],[Description]])+1,6),"") -> 104990 | K22: 11.383333 | L22: FC-712 | M22: 53013086 | N22: P851510 | O22: =IF(N22="",HYPERLINK("https://air.asml.com/textsearch.do?sysparm_search="&M22,M22),HYPERLINK("https://air.asml.com/u_qm_issues.do?sysparm_query=number="&N22,N22)) -> P851510 | P22: =LEN(Errorlog_table[[#This Row],[AIR]]) -> 7 | Q22: {=IF(OR(Errorlog_table[[#This Row],[AIR]]="n/a",Errorlog_table[[#This Row],[Event_code]]="Y"),"n/a",IF(Errorlog_table[[#This Row],[AIR]]="","no AIR",_xlfn.XLOOKUP(Errorlog_table[[#This Row],[AIR]],AIR_dump[[#All],[Number]],AIR_dump[[#All],[Type]],"not found",0,1)))} -> 0 | R22: {=IF(OR(Errorlog_table[[#This Row],[AIR]]="n/a",Errorlog_table[[#This Row],[Event_code]]="Y"),"n/a",IF(Errorlog_table[[#This Row],[AIR]]="","no AIR",_xlfn.XLOOKUP(Errorlog_table[[#This Row],[AIR]],AIR_dump[[#All],[Number]],AIR_dump[[#All],[Summary]],"not found",0,1)))} -> P851510 - [EXE 5000] [CR51] Request to investigate and add failure mode to DDF: Incorrect or no flow | S22: {=_xlfn.XLOOKUP(Errorlog_table[[#This Row],[AIR]],AIR_dump[[#All],[Number]],AIR_dump[[#All],[Close notes]])} -> RCA | T22: =Errorlog_table[[#This Row],[Year_Week_Number]] -> 202501 | U22: Y | V22: Y | W22: =Errorlog_table[[#This Row],[System]] -> CR51 | X22: =Errorlog_table[[#This Row],[link]] -> P851510 | Y22: =Errorlog_table[[#This Row],[Root_Error]] -> LAB-002D | Z22: =Errorlog_table[[#This Row],[Description]] -> EpmID:104990| SRC - Lot abort recovery for DL error+ POB setup recovery | LAB-002D | | AB22: =_xlfn.ISOWEEKNUM(Errorlog_table[[#This Row],[Date]])+52*(Errorlog_table[[#This Row],[Year]]-YEAR(DATE(YEAR(TODAY()-WEEKDAY(TODAY()-1)+4),1,1)-MOD((DATE(YEAR(TODAY()-WEEKDAY(TODAY()-1)+4),1,1)-2),7)+(7*IF(MOD((DATE(YEAR(TODAY()-WEEKDAY(TODAY()-1)+4),1,1)-2),7)>3,1,0))+7) )-_xlfn.ISOWEEKNUM(NOW()) -> -36 | AD22: =TEXT(Errorlog_table[[#This Row],[Date]],"yyyy-mm-dd")&"_"&TEXT(Errorlog_table[[#This Row],[SDT_Timestamp]],"HH:MM:SS")&"_"&Errorlog_table[[#This Row],[System]] -> 2025-01-02_06:28:00_CR51 | AE22: =Errorlog_table[[#This Row],[P_Hits]] -> Y | AF22: 0
A23: GY86 | B23: =VLOOKUP(A23,'5000_Fleet'!A:D,2,FALSE) -> Intel | C23: PG-6206 | D23: =YEAR(DATE(YEAR(Errorlog_table[[#This Row],[Date]]-WEEKDAY(Errorlog_table[[#This Row],[Date]]-1)+4),1,1)-MOD((DATE(YEAR(Errorlog_table[[#This Row],[Date]]-WEEKDAY(Errorlog_table[[#This Row],[Date]]-1)+4),1,1)-2),7)+(7*IF(MOD((DATE(YEAR(Errorlog_table[[#This Row],[Date]]-WEEKDAY(Errorlog_table[[#This Row],[Date]]-1)+4),1,1)-2),7)>3,1,0))+7) -> 2025 | E23: =VALUE(TEXT(_xlfn.ISOWEEKNUM(Errorlog_table[[#This Row],[Date]]),"00")) -> 1 | F23: =VALUE((Errorlog_table[[#This Row],[Year]])&TEXT(Errorlog_table[[#This Row],[Week_Number]],"00")) -> 202501 | G23: 45659 | H23: 18:00:00 | I23: EpmID:105389| SCN - WH error during CH unlock | PG-6206 | | J23: =IF(LEN(VALUE(MID(Errorlog_table[[#This Row],[Description]],FIND(":",Errorlog_table[[#This Row],[Description]])+1,6)))>1,MID(Errorlog_table[[#This Row],[Description]],FIND(":",Errorlog_table[[#This Row],[Description]])+1,6),"") -> 105389 | K23: 0.183333 | L23: FC-001 | M23: 53020963 | O23: =IF(N23="",HYPERLINK("https://air.asml.com/textsearch.do?sysparm_search="&M23,M23),HYPERLINK("https://air.asml.com/u_qm_issues.do?sysparm_query=number="&N23,N23)) -> 53020963 | P23: =LEN(Errorlog_table[[#This Row],[AIR]]) -> 0 | Q23: {=IF(OR(Errorlog_table[[#This Row],[AIR]]="n/a",Errorlog_table[[#This Row],[Event_code]]="Y"),"n/a",IF(Errorlog_table[[#This Row],[AIR]]="","no AIR",_xlfn.XLOOKUP(Errorlog_table[[#This Row],[AIR]],AIR_dump[[#All],[Number]],AIR_dump[[#All],[Type]],"not found",0,1)))} -> no AIR | R23: =Errorlog_table[[#This Row],[Description]] -> EpmID:105389| SCN - WH error during CH unlock | PG-6206 | | S23: {=_xlfn.XLOOKUP(Errorlog_table[[#This Row],[AIR]],AIR_dump[[#All],[Number]],AIR_dump[[#All],[Close notes]])} -> 0 | T23: =Errorlog_table[[#This Row],[Year_Week_Number]] -> 202501 | U23: N | V23: Y | W23: =Errorlog_table[[#This Row],[System]] -> GY86 | X23: =Errorlog_table[[#This Row],[link]] -> 53020963 | Y23: =Errorlog_table[[#This Row],[Root_Error]] -> PG-6206 | Z23: =Errorlog_table[[#This Row],[Description]] -> EpmID:105389| SCN - WH error during CH unlock | PG-6206 | | AB23: =_xlfn.ISOWEEKNUM(Errorlog_table[[#This Row],[Date]])+52*(Errorlog_table[[#This Row],[Year]]-YEAR(DATE(YEAR(TODAY()-WEEKDAY(TODAY()-1)+4),1,1)-MOD((DATE(YEAR(TODAY()-WEEKDAY(TODAY()-1)+4),1,1)-2),7)+(7*IF(MOD((DATE(YEAR(TODAY()-WEEKDAY(TODAY()-1)+4),1,1)-2),7)>3,1,0))+7) )-_xlfn.ISOWEEKNUM(NOW()) -> -36 | AD23: =TEXT(Errorlog_table[[#This Row],[Date]],"yyyy-mm-dd")&"_"&TEXT(Errorlog_table[[#This Row],[SDT_Timestamp]],"HH:MM:SS")&"_"&Errorlog_table[[#This Row],[System]] -> 2025-01-02_18:00:00_GY86 | AE23: =Errorlog_table[[#This Row],[P_Hits]] -> N | AF23: 0
A24: GY86 | B24: =VLOOKUP(A24,'5000_Fleet'!A:D,2,FALSE) -> Intel | C24: BP-3900 | D24: =YEAR(DATE(YEAR(Errorlog_table[[#This Row],[Date]]-WEEKDAY(Errorlog_table[[#This Row],[Date]]-1)+4),1,1)-MOD((DATE(YEAR(Errorlog_table[[#This Row],[Date]]-WEEKDAY(Errorlog_table[[#This Row],[Date]]-1)+4),1,1)-2),7)+(7*IF(MOD((DATE(YEAR(Errorlog_table[[#This Row],[Date]]-WEEKDAY(Errorlog_table[[#This Row],[Date]]-1)+4),1,1)-2),7)>3,1,0))+7) -> 2025 | E24: =VALUE(TEXT(_xlfn.ISOWEEKNUM(Errorlog_table[[#This Row],[Date]]),"00")) -> 1 | F24: =VALUE((Errorlog_table[[#This Row],[Year]])&TEXT(Errorlog_table[[#This Row],[Week_Number]],"00")) -> 202501 | G24: 45659 | H24: 20:08:43 | I24: EpmID:105494| SRC - Lot abort for SRC error | BP-3900 | | J24: =IF(LEN(VALUE(MID(Errorlog_table[[#This Row],[Description]],FIND(":",Errorlog_table[[#This Row],[Description]])+1,6)))>1,MID(Errorlog_table[[#This Row],[Description]],FIND(":",Errorlog_table[[#This Row],[Description]])+1,6),"") -> 105494 | K24: 18.998056 | L24: FC-002 | M24: 53013086 | O24: =IF(N24="",HYPERLINK("https://air.asml.com/textsearch.do?sysparm_search="&M24,M24),HYPERLINK("https://air.asml.com/u_qm_issues.do?sysparm_query=number="&N24,N24)) -> 53013086 | P24: =LEN(Errorlog_table[[#This Row],[AIR]]) -> 0 | Q24: {=IF(OR(Errorlog_table[[#This Row],[AIR]]="n/a",Errorlog_table[[#This Row],[Event_code]]="Y"),"n/a",IF(Errorlog_table[[#This Row],[AIR]]="","no AIR",_xlfn.XLOOKUP(Errorlog_table[[#This Row],[AIR]],AIR_dump[[#All],[Number]],AIR_dump[[#All],[Type]],"not found",0,1)))} -> no AIR | R24: {=IF(OR(Errorlog_table[[#This Row],[AIR]]="n/a",Errorlog_table[[#This Row],[Event_code]]="Y"),"n/a",IF(Errorlog_table[[#This Row],[AIR]]="","no AIR",_xlfn.XLOOKUP(Errorlog_table[[#This Row],[AIR]],AIR_dump[[#All],[Number]],AIR_dump[[#All],[Summary]],"not found",0,1)))} -> no AIR | S24: {=_xlfn.XLOOKUP(Errorlog_table[[#This Row],[AIR]],AIR_dump[[#All],[Number]],AIR_dump[[#All],[Close notes]])} -> 0 | T24: =Errorlog_table[[#This Row],[Year_Week_Number]] -> 202501 | U24: Y | V24: Y | W24: =Errorlog_table[[#This Row],[System]] -> GY86 | X24: =Errorlog_table[[#This Row],[link]] -> 53013086 | Y24: =Errorlog_table[[#This Row],[Root_Error]] -> BP-3900 | Z24: =Errorlog_table[[#This Row],[Description]] -> EpmID:105494| SRC - Lot abort for SRC error | BP-3900 | | AA24: =IF(K24>=12,"XLD","Short down") -> XLD | AB24: =_xlfn.ISOWEEKNUM(Errorlog_table[[#This Row],[Date]])+52*(Errorlog_table[[#This Row],[Year]]-YEAR(DATE(YEAR(TODAY()-WEEKDAY(TODAY()-1)+4),1,1)-MOD((DATE(YEAR(TODAY()-WEEKDAY(TODAY()-1)+4),1,1)-2),7)+(7*IF(MOD((DATE(YEAR(TODAY()-WEEKDAY(TODAY()-1)+4),1,1)-2),7)>3,1,0))+7) )-_xlfn.ISOWEEKNUM(NOW()) -> -36 | AC24: =COUNTIF(MTBF_pareto[AIR],Errorlog_table[[#This Row],[AIR]]) -> 0 | AD24: =TEXT(Errorlog_table[[#This Row],[Date]],"yyyy-mm-dd")&"_"&TEXT(Errorlog_table[[#This Row],[SDT_Timestamp]],"HH:MM:SS")&"_"&Errorlog_table[[#This Row],[System]] -> 2025-01-02_20:08:43_GY86 | AE24: =Errorlog_table[[#This Row],[P_Hits]] -> Y | AF24: 0
A25: CR51 | B25: =VLOOKUP(A25,'5000_Fleet'!A:D,2,FALSE) -> Intel | C25: LAB-002D | D25: =YEAR(DATE(YEAR(Errorlog_table[[#This Row],[Date]]-WEEKDAY(Errorlog_table[[#This Row],[Date]]-1)+4),1,1)-MOD((DATE(YEAR(Errorlog_table[[#This Row],[Date]]-WEEKDAY(Errorlog_table[[#This Row],[Date]]-1)+4),1,1)-2),7)+(7*IF(MOD((DATE(YEAR(Errorlog_table[[#This Row],[Date]]-WEEKDAY(Errorlog_table[[#This Row],[Date]]-1)+4),1,1)-2),7)>3,1,0))+7) -> 2025 | E25: =VALUE(TEXT(_xlfn.ISOWEEKNUM(Errorlog_table[[#This Row],[Date]]),"00")) -> 1 | F25: =VALUE((Errorlog_table[[#This Row],[Year]])&TEXT(Errorlog_table[[#This Row],[Week_Number]],"00")) -> 202501 | G25: 45660 | H25: 16:22:00 | I25: EpmID:105495| CO2 - DLBB Flow too low LAB-002D | LAB-002D | | J25: =IF(LEN(VALUE(MID(Errorlog_table[[#This Row],[Description]],FIND(":",Errorlog_table[[#This Row],[Description]])+1,6)))>1,MID(Errorlog_table[[#This Row],[Description]],FIND(":",Errorlog_table[[#This Row],[Description]])+1,6),"") -> 105495 | K25: 0.933333 | L25: FC-712 | M25: 53013086 | N25: P851510 | O25: =IF(N25="",HYPERLINK("https://air.asml.com/textsearch.do?sysparm_search="&M25,M25),HYPERLINK("https://air.asml.com/u_qm_issues.do?sysparm_query=number="&N25,N25)) -> P851510 | P25: =LEN(Errorlog_table[[#This Row],[AIR]]) -> 7 | Q25: {=IF(OR(Errorlog_table[[#This Row],[AIR]]="n/a",Errorlog_table[[#This Row],[Event_code]]="Y"),"n/a",IF(Errorlog_table[[#This Row],[AIR]]="","no AIR",_xlfn.XLOOKUP(Errorlog_table[[#This Row],[AIR]],AIR_dump[[#All],[Number]],AIR_dump[[#All],[Type]],"not found",0,1)))} -> 0 | R25: {=IF(OR(Errorlog_table[[#This Row],[AIR]]="n/a",Errorlog_table[[#This Row],[Event_code]]="Y"),"n/a",IF(Errorlog_table[[#This Row],[AIR]]="","no AIR",_xlfn.XLOOKUP(Errorlog_table[[#This Row],[AIR]],AIR_dump[[#All],[Number]],AIR_dump[[#All],[Summary]],"not found",0,1)))} -> P851510 - [EXE 5000] [CR51] Request to investigate and add failure mode to DDF: Incorrect or no flow | S25: {=_xlfn.XLOOKUP(Errorlog_table[[#This Row],[AIR]],AIR_dump[[#All],[Number]],AIR_dump[[#All],[Close notes]])} -> RCA | T25: =Errorlog_table[[#This Row],[Year_Week_Number]] -> 202501 | U25: N | V25: Y | W25: =Errorlog_table[[#This Row],[System]] -> CR51 | X25: =Errorlog_table[[#This Row],[link]] -> P851510 | Y25: =Errorlog_table[[#This Row],[Root_Error]] -> LAB-002D | Z25: =Errorlog_table[[#This Row],[Description]] -> EpmID:105495| CO2 - DLBB Flow too low LAB-002D | LAB-002D | | AB25: =_xlfn.ISOWEEKNUM(Errorlog_table[[#This Row],[Date]])+52*(Errorlog_table[[#This Row],[Year]]-YEAR(DATE(YEAR(TODAY()-WEEKDAY(TODAY()-1)+4),1,1)-MOD((DATE(YEAR(TODAY()-WEEKDAY(TODAY()-1)+4),1,1)-2),7)+(7*IF(MOD((DATE(YEAR(TODAY()-WEEKDAY(TODAY()-1)+4),1,1)-2),7)>3,1,0))+7) )-_xlfn.ISOWEEKNUM(NOW()) -> -36 | AD25: =TEXT(Errorlog_table[[#This Row],[Date]],"yyyy-mm-dd")&"_"&TEXT(Errorlog_table[[#This Row],[SDT_Timestamp]],"HH:MM:SS")&"_"&Errorlog_table[[#This Row],[System]] -> 2025-01-03_16:22:00_CR51 | AE25: =Errorlog_table[[#This Row],[P_Hits]] -> N | AF25: 0
A26: CR51 | B26: =VLOOKUP(A26,'5000_Fleet'!A:D,2,FALSE) -> Intel | C26: BP-3900 | D26: =YEAR(DATE(YEAR(Errorlog_table[[#This Row],[Date]]-WEEKDAY(Errorlog_table[[#This Row],[Date]]-1)+4),1,1)-MOD((DATE(YEAR(Errorlog_table[[#This Row],[Date]]-WEEKDAY(Errorlog_table[[#This Row],[Date]]-1)+4),1,1)-2),7)+(7*IF(MOD((DATE(YEAR(Errorlog_table[[#This Row],[Date]]-WEEKDAY(Errorlog_table[[#This Row],[Date]]-1)+4),1,1)-2),7)>3,1,0))+7) -> 2025 | E26: =VALUE(TEXT(_xlfn.ISOWEEKNUM(Errorlog_table[[#This Row],[Date]]),"00")) -> 1 | F26: =VALUE((Errorlog_table[[#This Row],[Year]])&TEXT(Errorlog_table[[#This Row],[Week_Number]],"00")) -> 202501 | G26: 45661 | H26: 03:49:00 | I26: EpmID:105494| SRC - Lot abort for SRC error | BP-3900 | | J26: =IF(LEN(VALUE(MID(Errorlog_table[[#This Row],[Description]],FIND(":",Errorlog_table[[#This Row],[Description]])+1,6)))>1,MID(Errorlog_table[[#This Row],[Description]],FIND(":",Errorlog_table[[#This Row],[Description]])+1,6),"") -> 105494 | K26: 3.3 | L26: FC-002 | M26: 0 | N26: P825866 | O26: =IF(N26="",HYPERLINK("https://air.asml.com/textsearch.do?sysparm_search="&M26,M26),HYPERLINK("https://air.asml.com/u_qm_issues.do?sysparm_query=number="&N26,N26)) -> P825866 | P26: =LEN(Errorlog_table[[#This Row],[AIR]]) -> 7 | Q26: {=IF(OR(Errorlog_table[[#This Row],[AIR]]="n/a",Errorlog_table[[#This Row],[Event_code]]="Y"),"n/a",IF(Errorlog_table[[#This Row],[AIR]]="","no AIR",_xlfn.XLOOKUP(Errorlog_table[[#This Row],[AIR]],AIR_dump[[#All],[Number]],AIR_dump[[#All],[Type]],"not found",0,1)))} -> BD | R26: {=IF(OR(Errorlog_table[[#This Row],[AIR]]="n/a",Errorlog_table[[#This Row],[Event_code]]="Y"),"n/a",IF(Errorlog_table[[#This Row],[AIR]]="","no AIR",_xlfn.XLOOKUP(Errorlog_table[[#This Row],[AIR]],AIR_dump[[#All],[Number]],AIR_dump[[#All],[Summary]],"not found",0,1)))} -> [E100][EZ60] Remove 500ms check on auxiliary contactors during HV ON and HV OFF | S26: {=_xlfn.XLOOKUP(Errorlog_table[[#This Row],[AIR]],AIR_dump[[#All],[Number]],AIR_dump[[#All],[Close notes]])} -> [intake 2442] Wk42: New issue, intake ongoing wk42.3 Investigation ongoing, expected feedback by Trumpf wk42.4 wk43.3: RC understood. SW Patch currently only for EZ60 as containment. Need to still find a solution direction wk44.3: Hardware as root cause | T26: =Errorlog_table[[#This Row],[Year_Week_Number]] -> 202501 | U26: Y | V26: Y | W26: =Errorlog_table[[#This Row],[System]] -> CR51 | X26: =Errorlog_table[[#This Row],[link]] -> P825866 | Y26: =Errorlog_table[[#This Row],[Root_Error]] -> BP-3900 | Z26: =Errorlog_table[[#This Row],[Description]] -> EpmID:105494| SRC - Lot abort for SRC error | BP-3900 | | AB26: =_xlfn.ISOWEEKNUM(Errorlog_table[[#This Row],[Date]])+52*(Errorlog_table[[#This Row],[Year]]-YEAR(DATE(YEAR(TODAY()-WEEKDAY(TODAY()-1)+4),1,1)-MOD((DATE(YEAR(TODAY()-WEEKDAY(TODAY()-1)+4),1,1)-2),7)+(7*IF(MOD((DATE(YEAR(TODAY()-WEEKDAY(TODAY()-1)+4),1,1)-2),7)>3,1,0))+7) )-_xlfn.ISOWEEKNUM(NOW()) -> -36 | AD26: =TEXT(Errorlog_table[[#This Row],[Date]],"yyyy-mm-dd")&"_"&TEXT(Errorlog_table[[#This Row],[SDT_Timestamp]],"HH:MM:SS")&"_"&Errorlog_table[[#This Row],[System]] -> 2025-01-04_03:49:00_CR51 | AE26: =Errorlog_table[[#This Row],[P_Hits]] -> Y | AF26: 0
A27: GY86 | B27: =VLOOKUP(A27,'5000_Fleet'!A:D,2,FALSE) -> Intel | C27: ZH-221D | D27: =YEAR(DATE(YEAR(Errorlog_table[[#This Row],[Date]]-WEEKDAY(Errorlog_table[[#This Row],[Date]]-1)+4),1,1)-MOD((DATE(YEAR(Errorlog_table[[#This Row],[Date]]-WEEKDAY(Errorlog_table[[#This Row],[Date]]-1)+4),1,1)-2),7)+(7*IF(MOD((DATE(YEAR(Errorlog_table[[#This Row],[Date]]-WEEKDAY(Errorlog_table[[#This Row],[Date]]-1)+4),1,1)-2),7)>3,1,0))+7) -> 2025 | E27: =VALUE(TEXT(_xlfn.ISOWEEKNUM(Errorlog_table[[#This Row],[Date]]),"00")) -> 1 | F27: =VALUE((Errorlog_table[[#This Row],[Year]])&TEXT(Errorlog_table[[#This Row],[Week_Number]],"00")) -> 202501 | G27: 45661 | H27: 05:04:00 | I27: EpmID:105505| SCN - Lot aborted | ZH-221D | | J27: =IF(LEN(VALUE(MID(Errorlog_table[[#This Row],[Description]],FIND(":",Errorlog_table[[#This Row],[Description]])+1,6)))>1,MID(Errorlog_table[[#This Row],[Description]],FIND(":",Errorlog_table[[#This Row],[Description]])+1,6),"") -> 105505 | K27: 0.816667 | L27: FC-025 | M27: 0 | N27: P853275 | O27: =IF(N27="",HYPERLINK("https://air.asml.com/textsearch.do?sysparm_search="&M27,M27),HYPERLINK("https://air.asml.com/u_qm_issues.do?sysparm_query=number="&N27,N27)) -> P853275 | P27: =LEN(Errorlog_table[[#This Row],[AIR]]) -> 7 | Q27: {=IF(OR(Errorlog_table[[#This Row],[AIR]]="n/a",Errorlog_table[[#This Row],[Event_code]]="Y"),"n/a",IF(Errorlog_table[[#This Row],[AIR]]="","no AIR",_xlfn.XLOOKUP(Errorlog_table[[#This Row],[AIR]],AIR_dump[[#All],[Number]],AIR_dump[[#All],[Type]],"not found",0,1)))} -> 0 | R27: {=IF(OR(Errorlog_table[[#This Row],[AIR]]="n/a",Errorlog_table[[#This Row],[Event_code]]="Y"),"n/a",IF(Errorlog_table[[#This Row],[AIR]]="","no AIR",_xlfn.XLOOKUP(Errorlog_table[[#This Row],[AIR]],AIR_dump[[#All],[Number]],AIR_dump[[#All],[Summary]],"not found",0,1)))} -> P853275 - NXE:3800E and EXE:5000 Destination Violation Error ZH-221D | S27: {=_xlfn.XLOOKUP(Errorlog_table[[#This Row],[AIR]],AIR_dump[[#All],[Number]],AIR_dump[[#All],[Close notes]])} -> Firmware delivered W19 (COB swap done) | T27: =Errorlog_table[[#This Row],[Year_Week_Number]] -> 202501 | U27: Y | V27: Y | W27: =Errorlog_table[[#This Row],[System]] -> GY86 | X27: =Errorlog_table[[#This Row],[link]] -> P853275 | Y27: =Errorlog_table[[#This Row],[Root_Error]] -> ZH-221D | Z27: =Errorlog_table[[#This Row],[Description]] -> EpmID:105505| SCN - Lot aborted | ZH-221D | | AB27: =_xlfn.ISOWEEKNUM(Errorlog_table[[#This Row],[Date]])+52*(Errorlog_table[[#This Row],[Year]]-YEAR(DATE(YEAR(TODAY()-WEEKDAY(TODAY()-1)+4),1,1)-MOD((DATE(YEAR(TODAY()-WEEKDAY(TODAY()-1)+4),1,1)-2),7)+(7*IF(MOD((DATE(YEAR(TODAY()-WEEKDAY(TODAY()-1)+4),1,1)-2),7)>3,1,0))+7) )-_xlfn.ISOWEEKNUM(NOW()) -> -36 | AD27: =TEXT(Errorlog_table[[#This Row],[Date]],"yyyy-mm-dd")&"_"&TEXT(Errorlog_table[[#This Row],[SDT_Timestamp]],"HH:MM:SS")&"_"&Errorlog_table[[#This Row],[System]] -> 2025-01-04_05:04:00_GY86 | AE27: =Errorlog_table[[#This Row],[P_Hits]] -> Y | AF27: 0
A28: GY86 | B28: =VLOOKUP(A28,'5000_Fleet'!A:D,2,FALSE) -> Intel | C28: LO-105B | D28: =YEAR(DATE(YEAR(Errorlog_table[[#This Row],[Date]]-WEEKDAY(Errorlog_table[[#This Row],[Date]]-1)+4),1,1)-MOD((DATE(YEAR(Errorlog_table[[#This Row],[Date]]-WEEKDAY(Errorlog_table[[#This Row],[Date]]-1)+4),1,1)-2),7)+(7*IF(MOD((DATE(YEAR(Errorlog_table[[#This Row],[Date]]-WEEKDAY(Errorlog_table[[#This Row],[Date]]-1)+4),1,1)-2),7)>3,1,0))+7) -> 2025 | E28: =VALUE(TEXT(_xlfn.ISOWEEKNUM(Errorlog_table[[#This Row],[Date]]),"00")) -> 1 | F28: =VALUE((Errorlog_table[[#This Row],[Year]])&TEXT(Errorlog_table[[#This Row],[Week_Number]],"00")) -> 202501 | G28: 45662 | H28: 00:25:00 | I28: EpmID:105516| SCN - LO-105B Happy Stop | LO-105B | | J28: =IF(LEN(VALUE(MID(Errorlog_table[[#This Row],[Description]],FIND(":",Errorlog_table[[#This Row],[Description]])+1,6)))>1,MID(Errorlog_table[[#This Row],[Description]],FIND(":",Errorlog_table[[#This Row],[Description]])+1,6),"") -> 105516 | K28: 8.416667 | L28: FC-042 | M28: 53022419 | O28: =IF(N28="",HYPERLINK("https://air.asml.com/textsearch.do?sysparm_search="&M28,M28),HYPERLINK("https://air.asml.com/u_qm_issues.do?sysparm_query=number="&N28,N28)) -> 53022419 | P28: =LEN(Errorlog_table[[#This Row],[AIR]]) -> 0 | Q28: {=IF(OR(Errorlog_table[[#This Row],[AIR]]="n/a",Errorlog_table[[#This Row],[Event_code]]="Y"),"n/a",IF(Errorlog_table[[#This Row],[AIR]]="","no AIR",_xlfn.XLOOKUP(Errorlog_table[[#This Row],[AIR]],AIR_dump[[#All],[Number]],AIR_dump[[#All],[Type]],"not found",0,1)))} -> no AIR | R28: {=IF(OR(Errorlog_table[[#This Row],[AIR]]="n/a",Errorlog_table[[#This Row],[Event_code]]="Y"),"n/a",IF(Errorlog_table[[#This Row],[AIR]]="","no AIR",_xlfn.XLOOKUP(Errorlog_table[[#This Row],[AIR]],AIR_dump[[#All],[Number]],AIR_dump[[#All],[Summary]],"not found",0,1)))} -> no AIR | S28: {=_xlfn.XLOOKUP(Errorlog_table[[#This Row],[AIR]],AIR_dump[[#All],[Number]],AIR_dump[[#All],[Close notes]])} -> 0 | T28: =Errorlog_table[[#This Row],[Year_Week_Number]] -> 202501 | U28: N | V28: Y | W28: =Errorlog_table[[#This Row],[System]] -> GY86 | X28: =Errorlog_table[[#This Row],[link]] -> 53022419 | Y28: =Errorlog_table[[#This Row],[Root_Error]] -> LO-105B | Z28: =Errorlog_table[[#This Row],[Description]] -> EpmID:105516| SCN - LO-105B Happy Stop | LO-105B | | AB28: =_xlfn.ISOWEEKNUM(Errorlog_table[[#This Row],[Date]])+52*(Errorlog_table[[#This Row],[Year]]-YEAR(DATE(YEAR(TODAY()-WEEKDAY(TODAY()-1)+4),1,1)-MOD((DATE(YEAR(TODAY()-WEEKDAY(TODAY()-1)+4),1,1)-2),7)+(7*IF(MOD((DATE(YEAR(TODAY()-WEEKDAY(TODAY()-1)+4),1,1)-2),7)>3,1,0))+7) )-_xlfn.ISOWEEKNUM(NOW()) -> -36 | AD28: =TEXT(Errorlog_table[[#This Row],[Date]],"yyyy-mm-dd")&"_"&TEXT(Errorlog_table[[#This Row],[SDT_Timestamp]],"HH:MM:SS")&"_"&Errorlog_table[[#This Row],[System]] -> 2025-01-05_00:25:00_GY86 | AE28: =Errorlog_table[[#This Row],[P_Hits]] -> N | AF28: 0
A29: GY86 | B29: =VLOOKUP(A29,'5000_Fleet'!A:D,2,FALSE) -> Intel | C29: PG-6206 | D29: =YEAR(DATE(YEAR(Errorlog_table[[#This Row],[Date]]-WEEKDAY(Errorlog_table[[#This Row],[Date]]-1)+4),1,1)-MOD((DATE(YEAR(Errorlog_table[[#This Row],[Date]]-WEEKDAY(Errorlog_table[[#This Row],[Date]]-1)+4),1,1)-2),7)+(7*IF(MOD((DATE(YEAR(Errorlog_table[[#This Row],[Date]]-WEEKDAY(Errorlog_table[[#This Row],[Date]]-1)+4),1,1)-2),7)>3,1,0))+7) -> 2025 | E29: =VALUE(TEXT(_xlfn.ISOWEEKNUM(Errorlog_table[[#This Row],[Date]]),"00")) -> 1 | F29: =VALUE((Errorlog_table[[#This Row],[Year]])&TEXT(Errorlog_table[[#This Row],[Week_Number]],"00")) -> 202501 | G29: 45662 | H29: 10:38:00 | I29: EpmID:105507| SCN - Failed to load foup on BMWL | PG-6206 | | J29: =IF(LEN(VALUE(MID(Errorlog_table[[#This Row],[Description]],FIND(":",Errorlog_table[[#This Row],[Description]])+1,6)))>1,MID(Errorlog_table[[#This Row],[Description]],FIND(":",Errorlog_table[[#This Row],[Description]])+1,6),"") -> 105507 | K29: 0.283333 | L29: FC-001 | M29: 53022653 | O29: =IF(N29="",HYPERLINK("https://air.asml.com/textsearch.do?sysparm_search="&M29,M29),HYPERLINK("https://air.asml.com/u_qm_issues.do?sysparm_query=number="&N29,N29)) -> 53022653 | P29: =LEN(Errorlog_table[[#This Row],[AIR]]) -> 0 | Q29: {=IF(OR(Errorlog_table[[#This Row],[AIR]]="n/a",Errorlog_table[[#This Row],[Event_code]]="Y"),"n/a",IF(Errorlog_table[[#This Row],[AIR]]="","no AIR",_xlfn.XLOOKUP(Errorlog_table[[#This Row],[AIR]],AIR_dump[[#All],[Number]],AIR_dump[[#All],[Type]],"not found",0,1)))} -> no AIR | R29: =Errorlog_table[[#This Row],[Description]] -> EpmID:105507| SCN - Failed to load foup on BMWL | PG-6206 | | S29: {=_xlfn.XLOOKUP(Errorlog_table[[#This Row],[AIR]],AIR_dump[[#All],[Number]],AIR_dump[[#All],[Close notes]])} -> 0 | T29: =Errorlog_table[[#This Row],[Year_Week_Number]] -> 202501 | U29: N | V29: Y | W29: =Errorlog_table[[#This Row],[System]] -> GY86 | X29: =Errorlog_table[[#This Row],[link]] -> 53022653 | Y29: =Errorlog_table[[#This Row],[Root_Error]] -> PG-6206 | Z29: =Errorlog_table[[#This Row],[Description]] -> EpmID:105507| SCN - Failed to load foup on BMWL | PG-6206 | | AB29: =_xlfn.ISOWEEKNUM(Errorlog_table[[#This Row],[Date]])+52*(Errorlog_table[[#This Row],[Year]]-YEAR(DATE(YEAR(TODAY()-WEEKDAY(TODAY()-1)+4),1,1)-MOD((DATE(YEAR(TODAY()-WEEKDAY(TODAY()-1)+4),1,1)-2),7)+(7*IF(MOD((DATE(YEAR(TODAY()-WEEKDAY(TODAY()-1)+4),1,1)-2),7)>3,1,0))+7) )-_xlfn.ISOWEEKNUM(NOW()) -> -36 | AD29: =TEXT(Errorlog_table[[#This Row],[Date]],"yyyy-mm-dd")&"_"&TEXT(Errorlog_table[[#This Row],[SDT_Timestamp]],"HH:MM:SS")&"_"&Errorlog_table[[#This Row],[System]] -> 2025-01-05_10:38:00_GY86 | AE29: =Errorlog_table[[#This Row],[P_Hits]] -> N | AF29: 0
A30: CR51 | B30: =VLOOKUP(A30,'5000_Fleet'!A:D,2,FALSE) -> Intel | C30: DW-0004 | D30: =YEAR(DATE(YEAR(Errorlog_table[[#This Row],[Date]]-WEEKDAY(Errorlog_table[[#This Row],[Date]]-1)+4),1,1)-MOD((DATE(YEAR(Errorlog_table[[#This Row],[Date]]-WEEKDAY(Errorlog_table[[#This Row],[Date]]-1)+4),1,1)-2),7)+(7*IF(MOD((DATE(YEAR(Errorlog_table[[#This Row],[Date]]-WEEKDAY(Errorlog_table[[#This Row],[Date]]-1)+4),1,1)-2),7)>3,1,0))+7) -> 2025 | E30: =VALUE(TEXT(_xlfn.ISOWEEKNUM(Errorlog_table[[#This Row],[Date]]),"00")) -> 2 | F30: =VALUE((Errorlog_table[[#This Row],[Year]])&TEXT(Errorlog_table[[#This Row],[Week_Number]],"00")) -> 202502 | G30: 45663 | H30: 06:32:00 | I30: EpmID:105498| SRC - Lot abort SRC not operational+Daily MX+Handover Checks | DW-0004 | | J30: =IF(LEN(VALUE(MID(Errorlog_table[[#This Row],[Description]],FIND(":",Errorlog_table[[#This Row],[Description]])+1,6)))>1,MID(Errorlog_table[[#This Row],[Description]],FIND(":",Errorlog_table[[#This Row],[Description]])+1,6),"") -> 105498 | K30: 3.133333 | L30: FC-009 | M30: 53003175 | N30: P825866 | O30: =IF(N30="",HYPERLINK("https://air.asml.com/textsearch.do?sysparm_search="&M30,M30),HYPERLINK("https://air.asml.com/u_qm_issues.do?sysparm_query=number="&N30,N30)) -> P825866 | P30: =LEN(Errorlog_table[[#This Row],[AIR]]) -> 7 | Q30: {=IF(OR(Errorlog_table[[#This Row],[AIR]]="n/a",Errorlog_table[[#This Row],[Event_code]]="Y"),"n/a",IF(Errorlog_table[[#This Row],[AIR]]="","no AIR",_xlfn.XLOOKUP(Errorlog_table[[#This Row],[AIR]],AIR_dump[[#All],[Number]],AIR_dump[[#All],[Type]],"not found",0,1)))} -> BD | R30: =Errorlog_table[[#This Row],[Description]] -> EpmID:105498| SRC - Lot abort SRC not operational+Daily MX+Handover Checks | DW-0004 | | S30: {=_xlfn.XLOOKUP(Errorlog_table[[#This Row],[AIR]],AIR_dump[[#All],[Number]],AIR_dump[[#All],[Close notes]])} -> [intake 2442] Wk42: New issue, intake ongoing wk42.3 Investigation ongoing, expected feedback by Trumpf wk42.4 wk43.3: RC understood. SW Patch currently only for EZ60 as containment. Need to still find a solution direction wk44.3: Hardware as root cause | T30: =Errorlog_table[[#This Row],[Year_Week_Number]] -> 202502 | U30: N | V30: Y | W30: =Errorlog_table[[#This Row],[System]] -> CR51 | X30: =Errorlog_table[[#This Row],[link]] -> P825866 | Y30: =Errorlog_table[[#This Row],[Root_Error]] -> DW-0004 | Z30: =Errorlog_table[[#This Row],[Description]] -> EpmID:105498| SRC - Lot abort SRC not operational+Daily MX+Handover Checks | DW-0004 | | AA30: =IF(K30>=12,"XLD","Short down") -> Short down | AB30: =_xlfn.ISOWEEKNUM(Errorlog_table[[#This Row],[Date]])+52*(Errorlog_table[[#This Row],[Year]]-YEAR(DATE(YEAR(TODAY()-WEEKDAY(TODAY()-1)+4),1,1)-MOD((DATE(YEAR(TODAY()-WEEKDAY(TODAY()-1)+4),1,1)-2),7)+(7*IF(MOD((DATE(YEAR(TODAY()-WEEKDAY(TODAY()-1)+4),1,1)-2),7)>3,1,0))+7) )-_xlfn.ISOWEEKNUM(NOW()) -> -35 | AD30: =TEXT(Errorlog_table[[#This Row],[Date]],"yyyy-mm-dd")&"_"&TEXT(Errorlog_table[[#This Row],[SDT_Timestamp]],"HH:MM:SS")&"_"&Errorlog_table[[#This Row],[System]] -> 2025-01-06_06:32:00_CR51 | AE30: =Errorlog_table[[#This Row],[P_Hits]] -> N | AF30: 0
A31: GY86 | B31: =VLOOKUP(A31,'5000_Fleet'!A:D,2,FALSE) -> Intel | C31: ZH-221D | D31: =YEAR(DATE(YEAR(Errorlog_table[[#This Row],[Date]]-WEEKDAY(Errorlog_table[[#This Row],[Date]]-1)+4),1,1)-MOD((DATE(YEAR(Errorlog_table[[#This Row],[Date]]-WEEKDAY(Errorlog_table[[#This Row],[Date]]-1)+4),1,1)-2),7)+(7*IF(MOD((DATE(YEAR(Errorlog_table[[#This Row],[Date]]-WEEKDAY(Errorlog_table[[#This Row],[Date]]-1)+4),1,1)-2),7)>3,1,0))+7) -> 2025 | E31: =VALUE(TEXT(_xlfn.ISOWEEKNUM(Errorlog_table[[#This Row],[Date]]),"00")) -> 2 | F31: =VALUE((Errorlog_table[[#This Row],[Year]])&TEXT(Errorlog_table[[#This Row],[Week_Number]],"00")) -> 202502 | G31: 45663 | H31: 01:44:00 | I31: EpmID:105512| SCN - ZH-221D Error Recovery | ZH-221D | | J31: =IF(LEN(VALUE(MID(Errorlog_table[[#This Row],[Description]],FIND(":",Errorlog_table[[#This Row],[Description]])+1,6)))>1,MID(Errorlog_table[[#This Row],[Description]],FIND(":",Errorlog_table[[#This Row],[Description]])+1,6),"") -> 105512 | K31: 0.733333 | L31: FC-025 | M31: 0 | N31: P853275 | O31: =IF(N31="",HYPERLINK("https://air.asml.com/textsearch.do?sysparm_search="&M31,M31),HYPERLINK("https://air.asml.com/u_qm_issues.do?sysparm_query=number="&N31,N31)) -> P853275 | P31: =LEN(Errorlog_table[[#This Row],[AIR]]) -> 7 | Q31: {=IF(OR(Errorlog_table[[#This Row],[AIR]]="n/a",Errorlog_table[[#This Row],[Event_code]]="Y"),"n/a",IF(Errorlog_table[[#This Row],[AIR]]="","no AIR",_xlfn.XLOOKUP(Errorlog_table[[#This Row],[AIR]],AIR_dump[[#All],[Number]],AIR_dump[[#All],[Type]],"not found",0,1)))} -> 0 | R31: {=IF(OR(Errorlog_table[[#This Row],[AIR]]="n/a",Errorlog_table[[#This Row],[Event_code]]="Y"),"n/a",IF(Errorlog_table[[#This Row],[AIR]]="","no AIR",_xlfn.XLOOKUP(Errorlog_table[[#This Row],[AIR]],AIR_dump[[#All],[Number]],AIR_dump[[#All],[Summary]],"not found",0,1)))} -> P853275 - NXE:3800E and EXE:5000 Destination Violation Error ZH-221D | S31: {=_xlfn.XLOOKUP(Errorlog_table[[#This Row],[AIR]],AIR_dump[[#All],[Number]],AIR_dump[[#All],[Close notes]])} -> Firmware delivered W19 (COB swap done) | T31: =Errorlog_table[[#This Row],[Year_Week_Number]] -> 202502 | U31: Y | V31: Y | W31: =Errorlog_table[[#This Row],[System]] -> GY86 | X31: =Errorlog_table[[#This Row],[link]] -> P853275 | Y31: =Errorlog_table[[#This Row],[Root_Error]] -> ZH-221D | Z31: =Errorlog_table[[#This Row],[Description]] -> EpmID:105512| SCN - ZH-221D Error Recovery | ZH-221D | | AA31: =IF(K31>=12,"XLD","Short down") -> Short down | AB31: =_xlfn.ISOWEEKNUM(Errorlog_table[[#This Row],[Date]])+52*(Errorlog_table[[#This Row],[Year]]-YEAR(DATE(YEAR(TODAY()-WEEKDAY(TODAY()-1)+4),1,1)-MOD((DATE(YEAR(TODAY()-WEEKDAY(TODAY()-1)+4),1,1)-2),7)+(7*IF(MOD((DATE(YEAR(TODAY()-WEEKDAY(TODAY()-1)+4),1,1)-2),7)>3,1,0))+7) )-_xlfn.ISOWEEKNUM(NOW()) -> -35 | AD31: =TEXT(Errorlog_table[[#This Row],[Date]],"yyyy-mm-dd")&"_"&TEXT(Errorlog_table[[#This Row],[SDT_Timestamp]],"HH:MM:SS")&"_"&Errorlog_table[[#This Row],[System]] -> 2025-01-06_01:44:00_GY86 | AE31: =Errorlog_table[[#This Row],[P_Hits]] -> Y | AF31: 0
